BEGIN:VCALENDAR
VERSION:2.0
PRODID:http://www.kufer.de/kuferweb / DE
METHOD:PUBLISH
CALSCALE:GREGORIAN
X-WR-TIMEZONE:Europe/Berlin
BEGIN:VTIMEZONE
TZID:Europe/Berlin
X-LIC-LOCATION:Europe/Berlin
BEGIN:DAYLIGHT
TZOFFSETFROM:+0100
TZOFFSETTO:+0200
TZNAME:CEST
DTSTART;TZID=Europe/Berlin:19700329T020000
RRULE:FREQ=YEARLY;INTERVAL=1;BYDAY=-1SU;BYMONTH=3
END:DAYLIGHT
BEGIN:STANDARD
TZOFFSETFROM:+0200
TZOFFSETTO:+0100
TZNAME:CET
DTSTART;TZID=Europe/Berlin:19701025T030000
RRULE:FREQ=YEARLY;INTERVAL=1;BYDAY=-1SU;BYMONTH=10
END:STANDARD
END:VTIMEZONE
BEGIN:VEVENT
DTSTAMP:20260425T051422
DTSTART;TZID=Europe/Berlin:20260222T100000
DTEND;TZID=Europe/Berlin:20260222T160000
UID:D2356-20260222T100000@VHSI. NORDEN 
SUMMARY:Acrylmalerei Für Anfänger:innen und Fortgeschrittene (D2356) 
LOCATION:Unterschleißheim, vhs-Zentrum, Raum 212, Atelier, Landshuter Straße 20-22, 85716 Unterschleißheim
END:VEVENT
BEGIN:VEVENT
DTSTAMP:20260425T051422
DTSTART;TZID=Europe/Berlin:20260315T100000
DTEND;TZID=Europe/Berlin:20260315T160000
UID:D2356-20260315T100000@VHSI. NORDEN 
SUMMARY:Acrylmalerei Für Anfänger:innen und Fortgeschrittene (D2356) 
LOCATION:Unterschleißheim, vhs-Zentrum, Raum 212, Atelier, Landshuter Straße 20-22, 85716 Unterschleißheim
END:VEVENT
BEGIN:VEVENT
DTSTAMP:20260425T051422
DTSTART;TZID=Europe/Berlin:20260503T100000
DTEND;TZID=Europe/Berlin:20260503T160000
UID:D2356-20260503T100000@VHSI. NORDEN 
SUMMARY:Acrylmalerei Für Anfänger:innen und Fortgeschrittene (D2356) 
LOCATION:Unterschleißheim, vhs-Zentrum, Raum 212, Atelier, Landshuter Straße 20-22, 85716 Unterschleißheim
END:VEVENT
BEGIN:VEVENT
DTSTAMP:20260425T051422
DTSTART;TZID=Europe/Berlin:20260517T100000
DTEND;TZID=Europe/Berlin:20260517T160000
UID:D2356-20260517T100000@VHSI. NORDEN 
SUMMARY:Acrylmalerei Für Anfänger:innen und Fortgeschrittene (D2356) 
LOCATION:Unterschleißheim, vhs-Zentrum, Raum 212, Atelier, Landshuter Straße 20-22, 85716 Unterschleißheim
END:VEVENT
BEGIN:VEVENT
DTSTAMP:20260425T051422
DTSTART;TZID=Europe/Berlin:20260621T100000
DTEND;TZID=Europe/Berlin:20260621T160000
UID:D2356-20260621T100000@VHSI. NORDEN 
SUMMARY:Acrylmalerei Für Anfänger:innen und Fortgeschrittene (D2356) 
LOCATION:Unterschleißheim, vhs-Zentrum, Raum 212, Atelier, Landshuter Straße 20-22, 85716 Unterschleißheim
END:VEVENT
END:VCALENDAR