BEGIN:VCALENDAR
VERSION:2.0
PRODID:http://www.kufer.de/kuferweb / DE
METHOD:PUBLISH
CALSCALE:GREGORIAN
X-WR-TIMEZONE:Europe/Berlin
BEGIN:VTIMEZONE
TZID:Europe/Berlin
X-LIC-LOCATION:Europe/Berlin
BEGIN:DAYLIGHT
TZOFFSETFROM:+0100
TZOFFSETTO:+0200
TZNAME:CEST
DTSTART;TZID=Europe/Berlin:19700329T020000
RRULE:FREQ=YEARLY;INTERVAL=1;BYDAY=-1SU;BYMONTH=3
END:DAYLIGHT
BEGIN:STANDARD
TZOFFSETFROM:+0200
TZOFFSETTO:+0100
TZNAME:CET
DTSTART;TZID=Europe/Berlin:19701025T030000
RRULE:FREQ=YEARLY;INTERVAL=1;BYDAY=-1SU;BYMONTH=10
END:STANDARD
END:VTIMEZONE
BEGIN:VEVENT
DTSTAMP:20260425T051541
DTSTART;TZID=Europe/Berlin:20260224T170000
DTEND;TZID=Europe/Berlin:20260224T210000
UID:D2490X-20260224T170000@VHSI. NORDEN 
SUMMARY:Modellbahnclub der Volkshochschule (D2490X) 
LOCATION:Max-Planck-Str. 11, Clubräume, , 
END:VEVENT
BEGIN:VEVENT
DTSTAMP:20260425T051541
DTSTART;TZID=Europe/Berlin:20260303T170000
DTEND;TZID=Europe/Berlin:20260303T210000
UID:D2490X-20260303T170000@VHSI. NORDEN 
SUMMARY:Modellbahnclub der Volkshochschule (D2490X) 
LOCATION:Max-Planck-Str. 11, Clubräume, , 
END:VEVENT
BEGIN:VEVENT
DTSTAMP:20260425T051541
DTSTART;TZID=Europe/Berlin:20260310T170000
DTEND;TZID=Europe/Berlin:20260310T210000
UID:D2490X-20260310T170000@VHSI. NORDEN 
SUMMARY:Modellbahnclub der Volkshochschule (D2490X) 
LOCATION:Max-Planck-Str. 11, Clubräume, , 
END:VEVENT
BEGIN:VEVENT
DTSTAMP:20260425T051541
DTSTART;TZID=Europe/Berlin:20260317T170000
DTEND;TZID=Europe/Berlin:20260317T210000
UID:D2490X-20260317T170000@VHSI. NORDEN 
SUMMARY:Modellbahnclub der Volkshochschule (D2490X) 
LOCATION:Max-Planck-Str. 11, Clubräume, , 
END:VEVENT
BEGIN:VEVENT
DTSTAMP:20260425T051541
DTSTART;TZID=Europe/Berlin:20260324T170000
DTEND;TZID=Europe/Berlin:20260324T210000
UID:D2490X-20260324T170000@VHSI. NORDEN 
SUMMARY:Modellbahnclub der Volkshochschule (D2490X) 
LOCATION:Max-Planck-Str. 11, Clubräume, , 
END:VEVENT
BEGIN:VEVENT
DTSTAMP:20260425T051541
DTSTART;TZID=Europe/Berlin:20260331T170000
DTEND;TZID=Europe/Berlin:20260331T210000
UID:D2490X-20260331T170000@VHSI. NORDEN 
SUMMARY:Modellbahnclub der Volkshochschule (D2490X) 
LOCATION:Max-Planck-Str. 11, Clubräume, , 
END:VEVENT
BEGIN:VEVENT
DTSTAMP:20260425T051541
DTSTART;TZID=Europe/Berlin:20260407T170000
DTEND;TZID=Europe/Berlin:20260407T210000
UID:D2490X-20260407T170000@VHSI. NORDEN 
SUMMARY:Modellbahnclub der Volkshochschule (D2490X) 
LOCATION:Max-Planck-Str. 11, Clubräume, , 
END:VEVENT
BEGIN:VEVENT
DTSTAMP:20260425T051541
DTSTART;TZID=Europe/Berlin:20260414T170000
DTEND;TZID=Europe/Berlin:20260414T210000
UID:D2490X-20260414T170000@VHSI. NORDEN 
SUMMARY:Modellbahnclub der Volkshochschule (D2490X) 
LOCATION:Max-Planck-Str. 11, Clubräume, , 
END:VEVENT
BEGIN:VEVENT
DTSTAMP:20260425T051541
DTSTART;TZID=Europe/Berlin:20260421T170000
DTEND;TZID=Europe/Berlin:20260421T210000
UID:D2490X-20260421T170000@VHSI. NORDEN 
SUMMARY:Modellbahnclub der Volkshochschule (D2490X) 
LOCATION:Max-Planck-Str. 11, Clubräume, , 
END:VEVENT
BEGIN:VEVENT
DTSTAMP:20260425T051541
DTSTART;TZID=Europe/Berlin:20260428T170000
DTEND;TZID=Europe/Berlin:20260428T210000
UID:D2490X-20260428T170000@VHSI. NORDEN 
SUMMARY:Modellbahnclub der Volkshochschule (D2490X) 
LOCATION:Max-Planck-Str. 11, Clubräume, , 
END:VEVENT
BEGIN:VEVENT
DTSTAMP:20260425T051541
DTSTART;TZID=Europe/Berlin:20260505T170000
DTEND;TZID=Europe/Berlin:20260505T210000
UID:D2490X-20260505T170000@VHSI. NORDEN 
SUMMARY:Modellbahnclub der Volkshochschule (D2490X) 
LOCATION:Max-Planck-Str. 11, Clubräume, , 
END:VEVENT
BEGIN:VEVENT
DTSTAMP:20260425T051541
DTSTART;TZID=Europe/Berlin:20260512T170000
DTEND;TZID=Europe/Berlin:20260512T210000
UID:D2490X-20260512T170000@VHSI. NORDEN 
SUMMARY:Modellbahnclub der Volkshochschule (D2490X) 
LOCATION:Max-Planck-Str. 11, Clubräume, , 
END:VEVENT
BEGIN:VEVENT
DTSTAMP:20260425T051541
DTSTART;TZID=Europe/Berlin:20260519T170000
DTEND;TZID=Europe/Berlin:20260519T210000
UID:D2490X-20260519T170000@VHSI. NORDEN 
SUMMARY:Modellbahnclub der Volkshochschule (D2490X) 
LOCATION:Max-Planck-Str. 11, Clubräume, , 
END:VEVENT
BEGIN:VEVENT
DTSTAMP:20260425T051541
DTSTART;TZID=Europe/Berlin:20260526T170000
DTEND;TZID=Europe/Berlin:20260526T210000
UID:D2490X-20260526T170000@VHSI. NORDEN 
SUMMARY:Modellbahnclub der Volkshochschule (D2490X) 
LOCATION:Max-Planck-Str. 11, Clubräume, , 
END:VEVENT
BEGIN:VEVENT
DTSTAMP:20260425T051541
DTSTART;TZID=Europe/Berlin:20260602T170000
DTEND;TZID=Europe/Berlin:20260602T210000
UID:D2490X-20260602T170000@VHSI. NORDEN 
SUMMARY:Modellbahnclub der Volkshochschule (D2490X) 
LOCATION:Max-Planck-Str. 11, Clubräume, , 
END:VEVENT
BEGIN:VEVENT
DTSTAMP:20260425T051541
DTSTART;TZID=Europe/Berlin:20260609T170000
DTEND;TZID=Europe/Berlin:20260609T210000
UID:D2490X-20260609T170000@VHSI. NORDEN 
SUMMARY:Modellbahnclub der Volkshochschule (D2490X) 
LOCATION:Max-Planck-Str. 11, Clubräume, , 
END:VEVENT
BEGIN:VEVENT
DTSTAMP:20260425T051541
DTSTART;TZID=Europe/Berlin:20260616T170000
DTEND;TZID=Europe/Berlin:20260616T210000
UID:D2490X-20260616T170000@VHSI. NORDEN 
SUMMARY:Modellbahnclub der Volkshochschule (D2490X) 
LOCATION:Max-Planck-Str. 11, Clubräume, , 
END:VEVENT
BEGIN:VEVENT
DTSTAMP:20260425T051541
DTSTART;TZID=Europe/Berlin:20260623T170000
DTEND;TZID=Europe/Berlin:20260623T210000
UID:D2490X-20260623T170000@VHSI. NORDEN 
SUMMARY:Modellbahnclub der Volkshochschule (D2490X) 
LOCATION:Max-Planck-Str. 11, Clubräume, , 
END:VEVENT
BEGIN:VEVENT
DTSTAMP:20260425T051541
DTSTART;TZID=Europe/Berlin:20260630T170000
DTEND;TZID=Europe/Berlin:20260630T210000
UID:D2490X-20260630T170000@VHSI. NORDEN 
SUMMARY:Modellbahnclub der Volkshochschule (D2490X) 
LOCATION:Max-Planck-Str. 11, Clubräume, , 
END:VEVENT
BEGIN:VEVENT
DTSTAMP:20260425T051541
DTSTART;TZID=Europe/Berlin:20260707T170000
DTEND;TZID=Europe/Berlin:20260707T210000
UID:D2490X-20260707T170000@VHSI. NORDEN 
SUMMARY:Modellbahnclub der Volkshochschule (D2490X) 
LOCATION:Max-Planck-Str. 11, Clubräume, , 
END:VEVENT
BEGIN:VEVENT
DTSTAMP:20260425T051541
DTSTART;TZID=Europe/Berlin:20260714T170000
DTEND;TZID=Europe/Berlin:20260714T210000
UID:D2490X-20260714T170000@VHSI. NORDEN 
SUMMARY:Modellbahnclub der Volkshochschule (D2490X) 
LOCATION:Max-Planck-Str. 11, Clubräume, , 
END:VEVENT
BEGIN:VEVENT
DTSTAMP:20260425T051541
DTSTART;TZID=Europe/Berlin:20260721T170000
DTEND;TZID=Europe/Berlin:20260721T210000
UID:D2490X-20260721T170000@VHSI. NORDEN 
SUMMARY:Modellbahnclub der Volkshochschule (D2490X) 
LOCATION:Max-Planck-Str. 11, Clubräume, , 
END:VEVENT
BEGIN:VEVENT
DTSTAMP:20260425T051541
DTSTART;TZID=Europe/Berlin:20260728T170000
DTEND;TZID=Europe/Berlin:20260728T210000
UID:D2490X-20260728T170000@VHSI. NORDEN 
SUMMARY:Modellbahnclub der Volkshochschule (D2490X) 
LOCATION:Max-Planck-Str. 11, Clubräume, , 
END:VEVENT
END:VCALENDAR