BEGIN:VCALENDAR
VERSION:2.0
PRODID:http://www.kufer.de/kuferweb / DE
METHOD:PUBLISH
CALSCALE:GREGORIAN
X-WR-TIMEZONE:Europe/Berlin
BEGIN:VTIMEZONE
TZID:Europe/Berlin
X-LIC-LOCATION:Europe/Berlin
BEGIN:DAYLIGHT
TZOFFSETFROM:+0100
TZOFFSETTO:+0200
TZNAME:CEST
DTSTART;TZID=Europe/Berlin:19700329T020000
RRULE:FREQ=YEARLY;INTERVAL=1;BYDAY=-1SU;BYMONTH=3
END:DAYLIGHT
BEGIN:STANDARD
TZOFFSETFROM:+0200
TZOFFSETTO:+0100
TZNAME:CET
DTSTART;TZID=Europe/Berlin:19701025T030000
RRULE:FREQ=YEARLY;INTERVAL=1;BYDAY=-1SU;BYMONTH=10
END:STANDARD
END:VTIMEZONE
BEGIN:VEVENT
DTSTAMP:20260425T051523
DTSTART;TZID=Europe/Berlin:20260222T160000
DTEND;TZID=Europe/Berlin:20260222T165000
UID:D2710-20260222T160000@VHSI. NORDEN 
SUMMARY:Zumba®Kids Großer Spaß für kleine Tänzer (D2710) 
LOCATION:Ismaning, vhs im Kultur- u. Bildungszentrum, Tanzsaal, V 2.04, Mühlenstraße 15, 85737 Ismaning
END:VEVENT
BEGIN:VEVENT
DTSTAMP:20260425T051523
DTSTART;TZID=Europe/Berlin:20260301T160000
DTEND;TZID=Europe/Berlin:20260301T165000
UID:D2710-20260301T160000@VHSI. NORDEN 
SUMMARY:Zumba®Kids Großer Spaß für kleine Tänzer (D2710) 
LOCATION:Ismaning, vhs im Kultur- u. Bildungszentrum, Tanzsaal, V 2.04, Mühlenstraße 15, 85737 Ismaning
END:VEVENT
BEGIN:VEVENT
DTSTAMP:20260425T051523
DTSTART;TZID=Europe/Berlin:20260308T160000
DTEND;TZID=Europe/Berlin:20260308T165000
UID:D2710-20260308T160000@VHSI. NORDEN 
SUMMARY:Zumba®Kids Großer Spaß für kleine Tänzer (D2710) 
LOCATION:Ismaning, vhs im Kultur- u. Bildungszentrum, Tanzsaal, V 2.04, Mühlenstraße 15, 85737 Ismaning
END:VEVENT
BEGIN:VEVENT
DTSTAMP:20260425T051523
DTSTART;TZID=Europe/Berlin:20260315T160000
DTEND;TZID=Europe/Berlin:20260315T165000
UID:D2710-20260315T160000@VHSI. NORDEN 
SUMMARY:Zumba®Kids Großer Spaß für kleine Tänzer (D2710) 
LOCATION:Ismaning, vhs im Kultur- u. Bildungszentrum, Tanzsaal, V 2.04, Mühlenstraße 15, 85737 Ismaning
END:VEVENT
BEGIN:VEVENT
DTSTAMP:20260425T051523
DTSTART;TZID=Europe/Berlin:20260322T160000
DTEND;TZID=Europe/Berlin:20260322T165000
UID:D2710-20260322T160000@VHSI. NORDEN 
SUMMARY:Zumba®Kids Großer Spaß für kleine Tänzer (D2710) 
LOCATION:Ismaning, vhs im Kultur- u. Bildungszentrum, Tanzsaal, V 2.04, Mühlenstraße 15, 85737 Ismaning
END:VEVENT
BEGIN:VEVENT
DTSTAMP:20260425T051523
DTSTART;TZID=Europe/Berlin:20260419T160000
DTEND;TZID=Europe/Berlin:20260419T165000
UID:D2710-20260419T160000@VHSI. NORDEN 
SUMMARY:Zumba®Kids Großer Spaß für kleine Tänzer (D2710) 
LOCATION:Ismaning, vhs im Kultur- u. Bildungszentrum, Tanzsaal, V 2.04, Mühlenstraße 15, 85737 Ismaning
END:VEVENT
BEGIN:VEVENT
DTSTAMP:20260425T051523
DTSTART;TZID=Europe/Berlin:20260426T160000
DTEND;TZID=Europe/Berlin:20260426T165000
UID:D2710-20260426T160000@VHSI. NORDEN 
SUMMARY:Zumba®Kids Großer Spaß für kleine Tänzer (D2710) 
LOCATION:Ismaning, vhs im Kultur- u. Bildungszentrum, Tanzsaal, V 2.04, Mühlenstraße 15, 85737 Ismaning
END:VEVENT
BEGIN:VEVENT
DTSTAMP:20260425T051523
DTSTART;TZID=Europe/Berlin:20260503T160000
DTEND;TZID=Europe/Berlin:20260503T165000
UID:D2710-20260503T160000@VHSI. NORDEN 
SUMMARY:Zumba®Kids Großer Spaß für kleine Tänzer (D2710) 
LOCATION:Ismaning, vhs im Kultur- u. Bildungszentrum, Tanzsaal, V 2.04, Mühlenstraße 15, 85737 Ismaning
END:VEVENT
BEGIN:VEVENT
DTSTAMP:20260425T051523
DTSTART;TZID=Europe/Berlin:20260517T160000
DTEND;TZID=Europe/Berlin:20260517T165000
UID:D2710-20260517T160000@VHSI. NORDEN 
SUMMARY:Zumba®Kids Großer Spaß für kleine Tänzer (D2710) 
LOCATION:Ismaning, vhs im Kultur- u. Bildungszentrum, Tanzsaal, V 2.04, Mühlenstraße 15, 85737 Ismaning
END:VEVENT
BEGIN:VEVENT
DTSTAMP:20260425T051523
DTSTART;TZID=Europe/Berlin:20260614T160000
DTEND;TZID=Europe/Berlin:20260614T165000
UID:D2710-20260614T160000@VHSI. NORDEN 
SUMMARY:Zumba®Kids Großer Spaß für kleine Tänzer (D2710) 
LOCATION:Ismaning, vhs im Kultur- u. Bildungszentrum, Tanzsaal, V 2.04, Mühlenstraße 15, 85737 Ismaning
END:VEVENT
BEGIN:VEVENT
DTSTAMP:20260425T051523
DTSTART;TZID=Europe/Berlin:20260628T160000
DTEND;TZID=Europe/Berlin:20260628T165000
UID:D2710-20260628T160000@VHSI. NORDEN 
SUMMARY:Zumba®Kids Großer Spaß für kleine Tänzer (D2710) 
LOCATION:Ismaning, vhs im Kultur- u. Bildungszentrum, Tanzsaal, V 2.04, Mühlenstraße 15, 85737 Ismaning
END:VEVENT
BEGIN:VEVENT
DTSTAMP:20260425T051523
DTSTART;TZID=Europe/Berlin:20260705T160000
DTEND;TZID=Europe/Berlin:20260705T165000
UID:D2710-20260705T160000@VHSI. NORDEN 
SUMMARY:Zumba®Kids Großer Spaß für kleine Tänzer (D2710) 
LOCATION:Ismaning, vhs im Kultur- u. Bildungszentrum, Tanzsaal, V 2.04, Mühlenstraße 15, 85737 Ismaning
END:VEVENT
BEGIN:VEVENT
DTSTAMP:20260425T051523
DTSTART;TZID=Europe/Berlin:20260712T160000
DTEND;TZID=Europe/Berlin:20260712T165000
UID:D2710-20260712T160000@VHSI. NORDEN 
SUMMARY:Zumba®Kids Großer Spaß für kleine Tänzer (D2710) 
LOCATION:Ismaning, vhs im Kultur- u. Bildungszentrum, Tanzsaal, V 2.04, Mühlenstraße 15, 85737 Ismaning
END:VEVENT
BEGIN:VEVENT
DTSTAMP:20260425T051523
DTSTART;TZID=Europe/Berlin:20260719T160000
DTEND;TZID=Europe/Berlin:20260719T165000
UID:D2710-20260719T160000@VHSI. NORDEN 
SUMMARY:Zumba®Kids Großer Spaß für kleine Tänzer (D2710) 
LOCATION:Ismaning, vhs im Kultur- u. Bildungszentrum, Tanzsaal, V 2.04, Mühlenstraße 15, 85737 Ismaning
END:VEVENT
BEGIN:VEVENT
DTSTAMP:20260425T051523
DTSTART;TZID=Europe/Berlin:20260726T160000
DTEND;TZID=Europe/Berlin:20260726T165000
UID:D2710-20260726T160000@VHSI. NORDEN 
SUMMARY:Zumba®Kids Großer Spaß für kleine Tänzer (D2710) 
LOCATION:Ismaning, vhs im Kultur- u. Bildungszentrum, Tanzsaal, V 2.04, Mühlenstraße 15, 85737 Ismaning
END:VEVENT
END:VCALENDAR