BEGIN:VCALENDAR
VERSION:2.0
PRODID:http://www.kufer.de/kuferweb / DE
METHOD:PUBLISH
CALSCALE:GREGORIAN
X-WR-TIMEZONE:Europe/Berlin
BEGIN:VTIMEZONE
TZID:Europe/Berlin
X-LIC-LOCATION:Europe/Berlin
BEGIN:DAYLIGHT
TZOFFSETFROM:+0100
TZOFFSETTO:+0200
TZNAME:CEST
DTSTART;TZID=Europe/Berlin:19700329T020000
RRULE:FREQ=YEARLY;INTERVAL=1;BYDAY=-1SU;BYMONTH=3
END:DAYLIGHT
BEGIN:STANDARD
TZOFFSETFROM:+0200
TZOFFSETTO:+0100
TZNAME:CET
DTSTART;TZID=Europe/Berlin:19701025T030000
RRULE:FREQ=YEARLY;INTERVAL=1;BYDAY=-1SU;BYMONTH=10
END:STANDARD
END:VTIMEZONE
BEGIN:VEVENT
DTSTAMP:20260425T051529
DTSTART;TZID=Europe/Berlin:20260223T083000
DTEND;TZID=Europe/Berlin:20260223T093000
UID:D2716-20260223T083000@VHSI. NORDEN 
SUMMARY:Zumba gold® Moderates Workout (D2716) 
LOCATION:Garching, vhs Bildungszentrum, V 0.10 Bewegungsraum, Telschowstr. 5-7, 85748 Garching
END:VEVENT
BEGIN:VEVENT
DTSTAMP:20260425T051529
DTSTART;TZID=Europe/Berlin:20260302T083000
DTEND;TZID=Europe/Berlin:20260302T093000
UID:D2716-20260302T083000@VHSI. NORDEN 
SUMMARY:Zumba gold® Moderates Workout (D2716) 
LOCATION:Garching, vhs Bildungszentrum, V 0.10 Bewegungsraum, Telschowstr. 5-7, 85748 Garching
END:VEVENT
BEGIN:VEVENT
DTSTAMP:20260425T051529
DTSTART;TZID=Europe/Berlin:20260309T083000
DTEND;TZID=Europe/Berlin:20260309T093000
UID:D2716-20260309T083000@VHSI. NORDEN 
SUMMARY:Zumba gold® Moderates Workout (D2716) 
LOCATION:Garching, vhs Bildungszentrum, V 0.10 Bewegungsraum, Telschowstr. 5-7, 85748 Garching
END:VEVENT
BEGIN:VEVENT
DTSTAMP:20260425T051529
DTSTART;TZID=Europe/Berlin:20260316T083000
DTEND;TZID=Europe/Berlin:20260316T093000
UID:D2716-20260316T083000@VHSI. NORDEN 
SUMMARY:Zumba gold® Moderates Workout (D2716) 
LOCATION:Garching, vhs Bildungszentrum, V 0.10 Bewegungsraum, Telschowstr. 5-7, 85748 Garching
END:VEVENT
BEGIN:VEVENT
DTSTAMP:20260425T051529
DTSTART;TZID=Europe/Berlin:20260323T083000
DTEND;TZID=Europe/Berlin:20260323T093000
UID:D2716-20260323T083000@VHSI. NORDEN 
SUMMARY:Zumba gold® Moderates Workout (D2716) 
LOCATION:Garching, vhs Bildungszentrum, V 0.10 Bewegungsraum, Telschowstr. 5-7, 85748 Garching
END:VEVENT
BEGIN:VEVENT
DTSTAMP:20260425T051529
DTSTART;TZID=Europe/Berlin:20260413T083000
DTEND;TZID=Europe/Berlin:20260413T093000
UID:D2716-20260413T083000@VHSI. NORDEN 
SUMMARY:Zumba gold® Moderates Workout (D2716) 
LOCATION:Garching, vhs Bildungszentrum, V 0.10 Bewegungsraum, Telschowstr. 5-7, 85748 Garching
END:VEVENT
BEGIN:VEVENT
DTSTAMP:20260425T051529
DTSTART;TZID=Europe/Berlin:20260420T083000
DTEND;TZID=Europe/Berlin:20260420T093000
UID:D2716-20260420T083000@VHSI. NORDEN 
SUMMARY:Zumba gold® Moderates Workout (D2716) 
LOCATION:Garching, vhs Bildungszentrum, V 0.10 Bewegungsraum, Telschowstr. 5-7, 85748 Garching
END:VEVENT
BEGIN:VEVENT
DTSTAMP:20260425T051529
DTSTART;TZID=Europe/Berlin:20260427T083000
DTEND;TZID=Europe/Berlin:20260427T093000
UID:D2716-20260427T083000@VHSI. NORDEN 
SUMMARY:Zumba gold® Moderates Workout (D2716) 
LOCATION:Garching, vhs Bildungszentrum, V 0.10 Bewegungsraum, Telschowstr. 5-7, 85748 Garching
END:VEVENT
BEGIN:VEVENT
DTSTAMP:20260425T051529
DTSTART;TZID=Europe/Berlin:20260504T083000
DTEND;TZID=Europe/Berlin:20260504T093000
UID:D2716-20260504T083000@VHSI. NORDEN 
SUMMARY:Zumba gold® Moderates Workout (D2716) 
LOCATION:Garching, vhs Bildungszentrum, V 0.10 Bewegungsraum, Telschowstr. 5-7, 85748 Garching
END:VEVENT
BEGIN:VEVENT
DTSTAMP:20260425T051529
DTSTART;TZID=Europe/Berlin:20260511T083000
DTEND;TZID=Europe/Berlin:20260511T093000
UID:D2716-20260511T083000@VHSI. NORDEN 
SUMMARY:Zumba gold® Moderates Workout (D2716) 
LOCATION:Garching, vhs Bildungszentrum, V 0.10 Bewegungsraum, Telschowstr. 5-7, 85748 Garching
END:VEVENT
BEGIN:VEVENT
DTSTAMP:20260425T051529
DTSTART;TZID=Europe/Berlin:20260518T083000
DTEND;TZID=Europe/Berlin:20260518T093000
UID:D2716-20260518T083000@VHSI. NORDEN 
SUMMARY:Zumba gold® Moderates Workout (D2716) 
LOCATION:Garching, vhs Bildungszentrum, V 0.10 Bewegungsraum, Telschowstr. 5-7, 85748 Garching
END:VEVENT
BEGIN:VEVENT
DTSTAMP:20260425T051529
DTSTART;TZID=Europe/Berlin:20260608T083000
DTEND;TZID=Europe/Berlin:20260608T093000
UID:D2716-20260608T083000@VHSI. NORDEN 
SUMMARY:Zumba gold® Moderates Workout (D2716) 
LOCATION:Garching, vhs Bildungszentrum, V 0.10 Bewegungsraum, Telschowstr. 5-7, 85748 Garching
END:VEVENT
BEGIN:VEVENT
DTSTAMP:20260425T051529
DTSTART;TZID=Europe/Berlin:20260615T083000
DTEND;TZID=Europe/Berlin:20260615T093000
UID:D2716-20260615T083000@VHSI. NORDEN 
SUMMARY:Zumba gold® Moderates Workout (D2716) 
LOCATION:Garching, vhs Bildungszentrum, V 0.10 Bewegungsraum, Telschowstr. 5-7, 85748 Garching
END:VEVENT
BEGIN:VEVENT
DTSTAMP:20260425T051529
DTSTART;TZID=Europe/Berlin:20260622T083000
DTEND;TZID=Europe/Berlin:20260622T093000
UID:D2716-20260622T083000@VHSI. NORDEN 
SUMMARY:Zumba gold® Moderates Workout (D2716) 
LOCATION:Garching, vhs Bildungszentrum, V 0.10 Bewegungsraum, Telschowstr. 5-7, 85748 Garching
END:VEVENT
BEGIN:VEVENT
DTSTAMP:20260425T051529
DTSTART;TZID=Europe/Berlin:20260629T083000
DTEND;TZID=Europe/Berlin:20260629T093000
UID:D2716-20260629T083000@VHSI. NORDEN 
SUMMARY:Zumba gold® Moderates Workout (D2716) 
LOCATION:Garching, vhs Bildungszentrum, V 0.10 Bewegungsraum, Telschowstr. 5-7, 85748 Garching
END:VEVENT
END:VCALENDAR