BEGIN:VCALENDAR
VERSION:2.0
PRODID:http://www.kufer.de/kuferweb / DE
METHOD:PUBLISH
CALSCALE:GREGORIAN
X-WR-TIMEZONE:Europe/Berlin
BEGIN:VTIMEZONE
TZID:Europe/Berlin
X-LIC-LOCATION:Europe/Berlin
BEGIN:DAYLIGHT
TZOFFSETFROM:+0100
TZOFFSETTO:+0200
TZNAME:CEST
DTSTART;TZID=Europe/Berlin:19700329T020000
RRULE:FREQ=YEARLY;INTERVAL=1;BYDAY=-1SU;BYMONTH=3
END:DAYLIGHT
BEGIN:STANDARD
TZOFFSETFROM:+0200
TZOFFSETTO:+0100
TZNAME:CET
DTSTART;TZID=Europe/Berlin:19701025T030000
RRULE:FREQ=YEARLY;INTERVAL=1;BYDAY=-1SU;BYMONTH=10
END:STANDARD
END:VTIMEZONE
BEGIN:VEVENT
DTSTAMP:20260425T051426
DTSTART;TZID=Europe/Berlin:20260223T192000
DTEND;TZID=Europe/Berlin:20260223T202000
UID:D2722-20260223T192000@VHSI. NORDEN 
SUMMARY:Zumba® (D2722) 
LOCATION:Ismaning, vhs im Kultur- u. Bildungszentrum, Tanzsaal, V 2.04, Mühlenstraße 15, 85737 Ismaning
END:VEVENT
BEGIN:VEVENT
DTSTAMP:20260425T051426
DTSTART;TZID=Europe/Berlin:20260302T192000
DTEND;TZID=Europe/Berlin:20260302T202000
UID:D2722-20260302T192000@VHSI. NORDEN 
SUMMARY:Zumba® (D2722) 
LOCATION:Ismaning, vhs im Kultur- u. Bildungszentrum, Tanzsaal, V 2.04, Mühlenstraße 15, 85737 Ismaning
END:VEVENT
BEGIN:VEVENT
DTSTAMP:20260425T051426
DTSTART;TZID=Europe/Berlin:20260309T192000
DTEND;TZID=Europe/Berlin:20260309T202000
UID:D2722-20260309T192000@VHSI. NORDEN 
SUMMARY:Zumba® (D2722) 
LOCATION:Ismaning, vhs im Kultur- u. Bildungszentrum, Tanzsaal, V 2.04, Mühlenstraße 15, 85737 Ismaning
END:VEVENT
BEGIN:VEVENT
DTSTAMP:20260425T051426
DTSTART;TZID=Europe/Berlin:20260316T192000
DTEND;TZID=Europe/Berlin:20260316T202000
UID:D2722-20260316T192000@VHSI. NORDEN 
SUMMARY:Zumba® (D2722) 
LOCATION:Ismaning, vhs im Kultur- u. Bildungszentrum, Tanzsaal, V 2.04, Mühlenstraße 15, 85737 Ismaning
END:VEVENT
BEGIN:VEVENT
DTSTAMP:20260425T051426
DTSTART;TZID=Europe/Berlin:20260323T192000
DTEND;TZID=Europe/Berlin:20260323T202000
UID:D2722-20260323T192000@VHSI. NORDEN 
SUMMARY:Zumba® (D2722) 
LOCATION:Ismaning, vhs im Kultur- u. Bildungszentrum, Tanzsaal, V 2.04, Mühlenstraße 15, 85737 Ismaning
END:VEVENT
BEGIN:VEVENT
DTSTAMP:20260425T051426
DTSTART;TZID=Europe/Berlin:20260420T192000
DTEND;TZID=Europe/Berlin:20260420T202000
UID:D2722-20260420T192000@VHSI. NORDEN 
SUMMARY:Zumba® (D2722) 
LOCATION:Ismaning, vhs im Kultur- u. Bildungszentrum, Tanzsaal, V 2.04, Mühlenstraße 15, 85737 Ismaning
END:VEVENT
BEGIN:VEVENT
DTSTAMP:20260425T051426
DTSTART;TZID=Europe/Berlin:20260427T192000
DTEND;TZID=Europe/Berlin:20260427T202000
UID:D2722-20260427T192000@VHSI. NORDEN 
SUMMARY:Zumba® (D2722) 
LOCATION:Ismaning, vhs im Kultur- u. Bildungszentrum, Tanzsaal, V 2.04, Mühlenstraße 15, 85737 Ismaning
END:VEVENT
BEGIN:VEVENT
DTSTAMP:20260425T051426
DTSTART;TZID=Europe/Berlin:20260504T192000
DTEND;TZID=Europe/Berlin:20260504T202000
UID:D2722-20260504T192000@VHSI. NORDEN 
SUMMARY:Zumba® (D2722) 
LOCATION:Ismaning, vhs im Kultur- u. Bildungszentrum, Tanzsaal, V 2.04, Mühlenstraße 15, 85737 Ismaning
END:VEVENT
BEGIN:VEVENT
DTSTAMP:20260425T051426
DTSTART;TZID=Europe/Berlin:20260511T192000
DTEND;TZID=Europe/Berlin:20260511T202000
UID:D2722-20260511T192000@VHSI. NORDEN 
SUMMARY:Zumba® (D2722) 
LOCATION:Ismaning, vhs im Kultur- u. Bildungszentrum, Tanzsaal, V 2.04, Mühlenstraße 15, 85737 Ismaning
END:VEVENT
BEGIN:VEVENT
DTSTAMP:20260425T051426
DTSTART;TZID=Europe/Berlin:20260518T192000
DTEND;TZID=Europe/Berlin:20260518T202000
UID:D2722-20260518T192000@VHSI. NORDEN 
SUMMARY:Zumba® (D2722) 
LOCATION:Ismaning, vhs im Kultur- u. Bildungszentrum, Tanzsaal, V 2.04, Mühlenstraße 15, 85737 Ismaning
END:VEVENT
BEGIN:VEVENT
DTSTAMP:20260425T051426
DTSTART;TZID=Europe/Berlin:20260608T192000
DTEND;TZID=Europe/Berlin:20260608T202000
UID:D2722-20260608T192000@VHSI. NORDEN 
SUMMARY:Zumba® (D2722) 
LOCATION:Ismaning, vhs im Kultur- u. Bildungszentrum, Tanzsaal, V 2.04, Mühlenstraße 15, 85737 Ismaning
END:VEVENT
BEGIN:VEVENT
DTSTAMP:20260425T051426
DTSTART;TZID=Europe/Berlin:20260615T192000
DTEND;TZID=Europe/Berlin:20260615T202000
UID:D2722-20260615T192000@VHSI. NORDEN 
SUMMARY:Zumba® (D2722) 
LOCATION:Ismaning, vhs im Kultur- u. Bildungszentrum, Tanzsaal, V 2.04, Mühlenstraße 15, 85737 Ismaning
END:VEVENT
BEGIN:VEVENT
DTSTAMP:20260425T051426
DTSTART;TZID=Europe/Berlin:20260622T192000
DTEND;TZID=Europe/Berlin:20260622T202000
UID:D2722-20260622T192000@VHSI. NORDEN 
SUMMARY:Zumba® (D2722) 
LOCATION:Ismaning, vhs im Kultur- u. Bildungszentrum, Tanzsaal, V 2.04, Mühlenstraße 15, 85737 Ismaning
END:VEVENT
BEGIN:VEVENT
DTSTAMP:20260425T051426
DTSTART;TZID=Europe/Berlin:20260629T192000
DTEND;TZID=Europe/Berlin:20260629T202000
UID:D2722-20260629T192000@VHSI. NORDEN 
SUMMARY:Zumba® (D2722) 
LOCATION:Ismaning, vhs im Kultur- u. Bildungszentrum, Tanzsaal, V 2.04, Mühlenstraße 15, 85737 Ismaning
END:VEVENT
BEGIN:VEVENT
DTSTAMP:20260425T051426
DTSTART;TZID=Europe/Berlin:20260706T192000
DTEND;TZID=Europe/Berlin:20260706T202000
UID:D2722-20260706T192000@VHSI. NORDEN 
SUMMARY:Zumba® (D2722) 
LOCATION:Ismaning, vhs im Kultur- u. Bildungszentrum, Tanzsaal, V 2.04, Mühlenstraße 15, 85737 Ismaning
END:VEVENT
END:VCALENDAR