BEGIN:VCALENDAR
VERSION:2.0
PRODID:http://www.kufer.de/kuferweb / DE
METHOD:PUBLISH
CALSCALE:GREGORIAN
X-WR-TIMEZONE:Europe/Berlin
BEGIN:VTIMEZONE
TZID:Europe/Berlin
X-LIC-LOCATION:Europe/Berlin
BEGIN:DAYLIGHT
TZOFFSETFROM:+0100
TZOFFSETTO:+0200
TZNAME:CEST
DTSTART;TZID=Europe/Berlin:19700329T020000
RRULE:FREQ=YEARLY;INTERVAL=1;BYDAY=-1SU;BYMONTH=3
END:DAYLIGHT
BEGIN:STANDARD
TZOFFSETFROM:+0200
TZOFFSETTO:+0100
TZNAME:CET
DTSTART;TZID=Europe/Berlin:19701025T030000
RRULE:FREQ=YEARLY;INTERVAL=1;BYDAY=-1SU;BYMONTH=10
END:STANDARD
END:VTIMEZONE
BEGIN:VEVENT
DTSTAMP:20260425T052528
DTSTART;TZID=Europe/Berlin:20260223T193500
DTEND;TZID=Europe/Berlin:20260223T203500
UID:D2759A-20260223T193500@VHSI. NORDEN 
SUMMARY:Tanzkreis für Paare Voraussetzung: Gold-Niveau (D2759A) 
LOCATION:Garching, vhs Bildungszentrum, V 0.10 Bewegungsraum, Telschowstr. 5-7, 85748 Garching
END:VEVENT
BEGIN:VEVENT
DTSTAMP:20260425T052528
DTSTART;TZID=Europe/Berlin:20260302T193500
DTEND;TZID=Europe/Berlin:20260302T203500
UID:D2759A-20260302T193500@VHSI. NORDEN 
SUMMARY:Tanzkreis für Paare Voraussetzung: Gold-Niveau (D2759A) 
LOCATION:Garching, vhs Bildungszentrum, V 0.10 Bewegungsraum, Telschowstr. 5-7, 85748 Garching
END:VEVENT
BEGIN:VEVENT
DTSTAMP:20260425T052528
DTSTART;TZID=Europe/Berlin:20260309T193500
DTEND;TZID=Europe/Berlin:20260309T203500
UID:D2759A-20260309T193500@VHSI. NORDEN 
SUMMARY:Tanzkreis für Paare Voraussetzung: Gold-Niveau (D2759A) 
LOCATION:Garching, vhs Bildungszentrum, V 0.10 Bewegungsraum, Telschowstr. 5-7, 85748 Garching
END:VEVENT
BEGIN:VEVENT
DTSTAMP:20260425T052528
DTSTART;TZID=Europe/Berlin:20260316T193500
DTEND;TZID=Europe/Berlin:20260316T203500
UID:D2759A-20260316T193500@VHSI. NORDEN 
SUMMARY:Tanzkreis für Paare Voraussetzung: Gold-Niveau (D2759A) 
LOCATION:Garching, vhs Bildungszentrum, V 0.10 Bewegungsraum, Telschowstr. 5-7, 85748 Garching
END:VEVENT
BEGIN:VEVENT
DTSTAMP:20260425T052528
DTSTART;TZID=Europe/Berlin:20260323T193500
DTEND;TZID=Europe/Berlin:20260323T203500
UID:D2759A-20260323T193500@VHSI. NORDEN 
SUMMARY:Tanzkreis für Paare Voraussetzung: Gold-Niveau (D2759A) 
LOCATION:Garching, vhs Bildungszentrum, V 0.10 Bewegungsraum, Telschowstr. 5-7, 85748 Garching
END:VEVENT
BEGIN:VEVENT
DTSTAMP:20260425T052528
DTSTART;TZID=Europe/Berlin:20260413T193500
DTEND;TZID=Europe/Berlin:20260413T203500
UID:D2759A-20260413T193500@VHSI. NORDEN 
SUMMARY:Tanzkreis für Paare Voraussetzung: Gold-Niveau (D2759A) 
LOCATION:Garching, vhs Bildungszentrum, V 0.10 Bewegungsraum, Telschowstr. 5-7, 85748 Garching
END:VEVENT
BEGIN:VEVENT
DTSTAMP:20260425T052528
DTSTART;TZID=Europe/Berlin:20260420T193500
DTEND;TZID=Europe/Berlin:20260420T203500
UID:D2759A-20260420T193500@VHSI. NORDEN 
SUMMARY:Tanzkreis für Paare Voraussetzung: Gold-Niveau (D2759A) 
LOCATION:Garching, vhs Bildungszentrum, V 0.10 Bewegungsraum, Telschowstr. 5-7, 85748 Garching
END:VEVENT
BEGIN:VEVENT
DTSTAMP:20260425T052528
DTSTART;TZID=Europe/Berlin:20260427T193500
DTEND;TZID=Europe/Berlin:20260427T203500
UID:D2759A-20260427T193500@VHSI. NORDEN 
SUMMARY:Tanzkreis für Paare Voraussetzung: Gold-Niveau (D2759A) 
LOCATION:Garching, vhs Bildungszentrum, V 0.10 Bewegungsraum, Telschowstr. 5-7, 85748 Garching
END:VEVENT
BEGIN:VEVENT
DTSTAMP:20260425T052528
DTSTART;TZID=Europe/Berlin:20260504T193500
DTEND;TZID=Europe/Berlin:20260504T203500
UID:D2759A-20260504T193500@VHSI. NORDEN 
SUMMARY:Tanzkreis für Paare Voraussetzung: Gold-Niveau (D2759A) 
LOCATION:Garching, vhs Bildungszentrum, V 0.10 Bewegungsraum, Telschowstr. 5-7, 85748 Garching
END:VEVENT
BEGIN:VEVENT
DTSTAMP:20260425T052528
DTSTART;TZID=Europe/Berlin:20260511T193500
DTEND;TZID=Europe/Berlin:20260511T203500
UID:D2759A-20260511T193500@VHSI. NORDEN 
SUMMARY:Tanzkreis für Paare Voraussetzung: Gold-Niveau (D2759A) 
LOCATION:Garching, vhs Bildungszentrum, V 0.10 Bewegungsraum, Telschowstr. 5-7, 85748 Garching
END:VEVENT
BEGIN:VEVENT
DTSTAMP:20260425T052528
DTSTART;TZID=Europe/Berlin:20260518T193500
DTEND;TZID=Europe/Berlin:20260518T203500
UID:D2759A-20260518T193500@VHSI. NORDEN 
SUMMARY:Tanzkreis für Paare Voraussetzung: Gold-Niveau (D2759A) 
LOCATION:Garching, vhs Bildungszentrum, V 0.10 Bewegungsraum, Telschowstr. 5-7, 85748 Garching
END:VEVENT
BEGIN:VEVENT
DTSTAMP:20260425T052528
DTSTART;TZID=Europe/Berlin:20260608T193500
DTEND;TZID=Europe/Berlin:20260608T203500
UID:D2759A-20260608T193500@VHSI. NORDEN 
SUMMARY:Tanzkreis für Paare Voraussetzung: Gold-Niveau (D2759A) 
LOCATION:Garching, vhs Bildungszentrum, V 0.10 Bewegungsraum, Telschowstr. 5-7, 85748 Garching
END:VEVENT
BEGIN:VEVENT
DTSTAMP:20260425T052528
DTSTART;TZID=Europe/Berlin:20260615T193500
DTEND;TZID=Europe/Berlin:20260615T203500
UID:D2759A-20260615T193500@VHSI. NORDEN 
SUMMARY:Tanzkreis für Paare Voraussetzung: Gold-Niveau (D2759A) 
LOCATION:Garching, vhs Bildungszentrum, V 0.10 Bewegungsraum, Telschowstr. 5-7, 85748 Garching
END:VEVENT
BEGIN:VEVENT
DTSTAMP:20260425T052528
DTSTART;TZID=Europe/Berlin:20260622T193500
DTEND;TZID=Europe/Berlin:20260622T203500
UID:D2759A-20260622T193500@VHSI. NORDEN 
SUMMARY:Tanzkreis für Paare Voraussetzung: Gold-Niveau (D2759A) 
LOCATION:Garching, vhs Bildungszentrum, V 0.10 Bewegungsraum, Telschowstr. 5-7, 85748 Garching
END:VEVENT
BEGIN:VEVENT
DTSTAMP:20260425T052528
DTSTART;TZID=Europe/Berlin:20260629T193500
DTEND;TZID=Europe/Berlin:20260629T203500
UID:D2759A-20260629T193500@VHSI. NORDEN 
SUMMARY:Tanzkreis für Paare Voraussetzung: Gold-Niveau (D2759A) 
LOCATION:Garching, vhs Bildungszentrum, V 0.10 Bewegungsraum, Telschowstr. 5-7, 85748 Garching
END:VEVENT
BEGIN:VEVENT
DTSTAMP:20260425T052528
DTSTART;TZID=Europe/Berlin:20260706T193500
DTEND;TZID=Europe/Berlin:20260706T203500
UID:D2759A-20260706T193500@VHSI. NORDEN 
SUMMARY:Tanzkreis für Paare Voraussetzung: Gold-Niveau (D2759A) 
LOCATION:Garching, vhs Bildungszentrum, V 0.10 Bewegungsraum, Telschowstr. 5-7, 85748 Garching
END:VEVENT
END:VCALENDAR