BEGIN:VCALENDAR
VERSION:2.0
PRODID:http://www.kufer.de/kuferweb / DE
METHOD:PUBLISH
CALSCALE:GREGORIAN
X-WR-TIMEZONE:Europe/Berlin
BEGIN:VTIMEZONE
TZID:Europe/Berlin
X-LIC-LOCATION:Europe/Berlin
BEGIN:DAYLIGHT
TZOFFSETFROM:+0100
TZOFFSETTO:+0200
TZNAME:CEST
DTSTART;TZID=Europe/Berlin:19700329T020000
RRULE:FREQ=YEARLY;INTERVAL=1;BYDAY=-1SU;BYMONTH=3
END:DAYLIGHT
BEGIN:STANDARD
TZOFFSETFROM:+0200
TZOFFSETTO:+0100
TZNAME:CET
DTSTART;TZID=Europe/Berlin:19701025T030000
RRULE:FREQ=YEARLY;INTERVAL=1;BYDAY=-1SU;BYMONTH=10
END:STANDARD
END:VTIMEZONE
BEGIN:VEVENT
DTSTAMP:20260419T144759
DTSTART;TZID=Europe/Berlin:20260303T190000
DTEND;TZID=Europe/Berlin:20260303T203000
UID:D3034L-20260303T190000@VHSI. NORDEN 
SUMMARY:Kundalini-Yoga Zeit für Dich (D3034L) 
LOCATION:Garching, vhs Bildungszentrum, V 2.01 Entspannungsraum, Telschowstr. 5-7, 85748 Garching
END:VEVENT
BEGIN:VEVENT
DTSTAMP:20260419T144759
DTSTART;TZID=Europe/Berlin:20260310T190000
DTEND;TZID=Europe/Berlin:20260310T203000
UID:D3034L-20260310T190000@VHSI. NORDEN 
SUMMARY:Kundalini-Yoga Zeit für Dich (D3034L) 
LOCATION:Garching, vhs Bildungszentrum, V 2.01 Entspannungsraum, Telschowstr. 5-7, 85748 Garching
END:VEVENT
BEGIN:VEVENT
DTSTAMP:20260419T144759
DTSTART;TZID=Europe/Berlin:20260317T190000
DTEND;TZID=Europe/Berlin:20260317T203000
UID:D3034L-20260317T190000@VHSI. NORDEN 
SUMMARY:Kundalini-Yoga Zeit für Dich (D3034L) 
LOCATION:Garching, vhs Bildungszentrum, V 2.01 Entspannungsraum, Telschowstr. 5-7, 85748 Garching
END:VEVENT
BEGIN:VEVENT
DTSTAMP:20260419T144759
DTSTART;TZID=Europe/Berlin:20260324T190000
DTEND;TZID=Europe/Berlin:20260324T203000
UID:D3034L-20260324T190000@VHSI. NORDEN 
SUMMARY:Kundalini-Yoga Zeit für Dich (D3034L) 
LOCATION:Garching, vhs Bildungszentrum, V 2.01 Entspannungsraum, Telschowstr. 5-7, 85748 Garching
END:VEVENT
BEGIN:VEVENT
DTSTAMP:20260419T144759
DTSTART;TZID=Europe/Berlin:20260414T190000
DTEND;TZID=Europe/Berlin:20260414T203000
UID:D3034L-20260414T190000@VHSI. NORDEN 
SUMMARY:Kundalini-Yoga Zeit für Dich (D3034L) 
LOCATION:Garching, vhs Bildungszentrum, V 2.01 Entspannungsraum, Telschowstr. 5-7, 85748 Garching
END:VEVENT
BEGIN:VEVENT
DTSTAMP:20260419T144759
DTSTART;TZID=Europe/Berlin:20260421T190000
DTEND;TZID=Europe/Berlin:20260421T203000
UID:D3034L-20260421T190000@VHSI. NORDEN 
SUMMARY:Kundalini-Yoga Zeit für Dich (D3034L) 
LOCATION:Garching, vhs Bildungszentrum, V 2.01 Entspannungsraum, Telschowstr. 5-7, 85748 Garching
END:VEVENT
BEGIN:VEVENT
DTSTAMP:20260419T144759
DTSTART;TZID=Europe/Berlin:20260428T190000
DTEND;TZID=Europe/Berlin:20260428T203000
UID:D3034L-20260428T190000@VHSI. NORDEN 
SUMMARY:Kundalini-Yoga Zeit für Dich (D3034L) 
LOCATION:Garching, vhs Bildungszentrum, V 2.01 Entspannungsraum, Telschowstr. 5-7, 85748 Garching
END:VEVENT
BEGIN:VEVENT
DTSTAMP:20260419T144759
DTSTART;TZID=Europe/Berlin:20260505T190000
DTEND;TZID=Europe/Berlin:20260505T203000
UID:D3034L-20260505T190000@VHSI. NORDEN 
SUMMARY:Kundalini-Yoga Zeit für Dich (D3034L) 
LOCATION:Garching, vhs Bildungszentrum, V 2.01 Entspannungsraum, Telschowstr. 5-7, 85748 Garching
END:VEVENT
BEGIN:VEVENT
DTSTAMP:20260419T144759
DTSTART;TZID=Europe/Berlin:20260512T190000
DTEND;TZID=Europe/Berlin:20260512T203000
UID:D3034L-20260512T190000@VHSI. NORDEN 
SUMMARY:Kundalini-Yoga Zeit für Dich (D3034L) 
LOCATION:Garching, vhs Bildungszentrum, V 2.01 Entspannungsraum, Telschowstr. 5-7, 85748 Garching
END:VEVENT
BEGIN:VEVENT
DTSTAMP:20260419T144759
DTSTART;TZID=Europe/Berlin:20260519T190000
DTEND;TZID=Europe/Berlin:20260519T203000
UID:D3034L-20260519T190000@VHSI. NORDEN 
SUMMARY:Kundalini-Yoga Zeit für Dich (D3034L) 
LOCATION:Garching, vhs Bildungszentrum, V 2.01 Entspannungsraum, Telschowstr. 5-7, 85748 Garching
END:VEVENT
BEGIN:VEVENT
DTSTAMP:20260419T144759
DTSTART;TZID=Europe/Berlin:20260623T190000
DTEND;TZID=Europe/Berlin:20260623T203000
UID:D3034L-20260623T190000@VHSI. NORDEN 
SUMMARY:Kundalini-Yoga Zeit für Dich (D3034L) 
LOCATION:Garching, vhs Bildungszentrum, V 2.01 Entspannungsraum, Telschowstr. 5-7, 85748 Garching
END:VEVENT
BEGIN:VEVENT
DTSTAMP:20260419T144759
DTSTART;TZID=Europe/Berlin:20260630T190000
DTEND;TZID=Europe/Berlin:20260630T203000
UID:D3034L-20260630T190000@VHSI. NORDEN 
SUMMARY:Kundalini-Yoga Zeit für Dich (D3034L) 
LOCATION:Garching, vhs Bildungszentrum, V 2.01 Entspannungsraum, Telschowstr. 5-7, 85748 Garching
END:VEVENT
END:VCALENDAR