BEGIN:VCALENDAR
VERSION:2.0
PRODID:http://www.kufer.de/kuferweb / DE
METHOD:PUBLISH
CALSCALE:GREGORIAN
X-WR-TIMEZONE:Europe/Berlin
BEGIN:VTIMEZONE
TZID:Europe/Berlin
X-LIC-LOCATION:Europe/Berlin
BEGIN:DAYLIGHT
TZOFFSETFROM:+0100
TZOFFSETTO:+0200
TZNAME:CEST
DTSTART;TZID=Europe/Berlin:19700329T020000
RRULE:FREQ=YEARLY;INTERVAL=1;BYDAY=-1SU;BYMONTH=3
END:DAYLIGHT
BEGIN:STANDARD
TZOFFSETFROM:+0200
TZOFFSETTO:+0100
TZNAME:CET
DTSTART;TZID=Europe/Berlin:19701025T030000
RRULE:FREQ=YEARLY;INTERVAL=1;BYDAY=-1SU;BYMONTH=10
END:STANDARD
END:VTIMEZONE
BEGIN:VEVENT
DTSTAMP:20260424T133441
DTSTART;TZID=Europe/Berlin:20260304T083000
DTEND;TZID=Europe/Berlin:20260304T091500
UID:D3165-20260304T083000@VHSI. NORDEN 
SUMMARY:Aqua-Fitness in Ismaning (D3165) 
LOCATION:Ismaning, Hallenbad, Erich-Zeitler-Str. 6, 85737 Ismaning
END:VEVENT
BEGIN:VEVENT
DTSTAMP:20260424T133441
DTSTART;TZID=Europe/Berlin:20260311T083000
DTEND;TZID=Europe/Berlin:20260311T091500
UID:D3165-20260311T083000@VHSI. NORDEN 
SUMMARY:Aqua-Fitness in Ismaning (D3165) 
LOCATION:Ismaning, Hallenbad, Erich-Zeitler-Str. 6, 85737 Ismaning
END:VEVENT
BEGIN:VEVENT
DTSTAMP:20260424T133441
DTSTART;TZID=Europe/Berlin:20260318T083000
DTEND;TZID=Europe/Berlin:20260318T091500
UID:D3165-20260318T083000@VHSI. NORDEN 
SUMMARY:Aqua-Fitness in Ismaning (D3165) 
LOCATION:Ismaning, Hallenbad, Erich-Zeitler-Str. 6, 85737 Ismaning
END:VEVENT
BEGIN:VEVENT
DTSTAMP:20260424T133441
DTSTART;TZID=Europe/Berlin:20260325T083000
DTEND;TZID=Europe/Berlin:20260325T091500
UID:D3165-20260325T083000@VHSI. NORDEN 
SUMMARY:Aqua-Fitness in Ismaning (D3165) 
LOCATION:Ismaning, Hallenbad, Erich-Zeitler-Str. 6, 85737 Ismaning
END:VEVENT
BEGIN:VEVENT
DTSTAMP:20260424T133441
DTSTART;TZID=Europe/Berlin:20260415T083000
DTEND;TZID=Europe/Berlin:20260415T091500
UID:D3165-20260415T083000@VHSI. NORDEN 
SUMMARY:Aqua-Fitness in Ismaning (D3165) 
LOCATION:Ismaning, Hallenbad, Erich-Zeitler-Str. 6, 85737 Ismaning
END:VEVENT
BEGIN:VEVENT
DTSTAMP:20260424T133441
DTSTART;TZID=Europe/Berlin:20260422T083000
DTEND;TZID=Europe/Berlin:20260422T091500
UID:D3165-20260422T083000@VHSI. NORDEN 
SUMMARY:Aqua-Fitness in Ismaning (D3165) 
LOCATION:Ismaning, Hallenbad, Erich-Zeitler-Str. 6, 85737 Ismaning
END:VEVENT
BEGIN:VEVENT
DTSTAMP:20260424T133441
DTSTART;TZID=Europe/Berlin:20260429T083000
DTEND;TZID=Europe/Berlin:20260429T091500
UID:D3165-20260429T083000@VHSI. NORDEN 
SUMMARY:Aqua-Fitness in Ismaning (D3165) 
LOCATION:Ismaning, Hallenbad, Erich-Zeitler-Str. 6, 85737 Ismaning
END:VEVENT
BEGIN:VEVENT
DTSTAMP:20260424T133441
DTSTART;TZID=Europe/Berlin:20260506T083000
DTEND;TZID=Europe/Berlin:20260506T091500
UID:D3165-20260506T083000@VHSI. NORDEN 
SUMMARY:Aqua-Fitness in Ismaning (D3165) 
LOCATION:Ismaning, Hallenbad, Erich-Zeitler-Str. 6, 85737 Ismaning
END:VEVENT
BEGIN:VEVENT
DTSTAMP:20260424T133441
DTSTART;TZID=Europe/Berlin:20260513T083000
DTEND;TZID=Europe/Berlin:20260513T091500
UID:D3165-20260513T083000@VHSI. NORDEN 
SUMMARY:Aqua-Fitness in Ismaning (D3165) 
LOCATION:Ismaning, Hallenbad, Erich-Zeitler-Str. 6, 85737 Ismaning
END:VEVENT
BEGIN:VEVENT
DTSTAMP:20260424T133441
DTSTART;TZID=Europe/Berlin:20260520T083000
DTEND;TZID=Europe/Berlin:20260520T091500
UID:D3165-20260520T083000@VHSI. NORDEN 
SUMMARY:Aqua-Fitness in Ismaning (D3165) 
LOCATION:Ismaning, Hallenbad, Erich-Zeitler-Str. 6, 85737 Ismaning
END:VEVENT
BEGIN:VEVENT
DTSTAMP:20260424T133441
DTSTART;TZID=Europe/Berlin:20260610T083000
DTEND;TZID=Europe/Berlin:20260610T091500
UID:D3165-20260610T083000@VHSI. NORDEN 
SUMMARY:Aqua-Fitness in Ismaning (D3165) 
LOCATION:Ismaning, Hallenbad, Erich-Zeitler-Str. 6, 85737 Ismaning
END:VEVENT
BEGIN:VEVENT
DTSTAMP:20260424T133441
DTSTART;TZID=Europe/Berlin:20260617T083000
DTEND;TZID=Europe/Berlin:20260617T091500
UID:D3165-20260617T083000@VHSI. NORDEN 
SUMMARY:Aqua-Fitness in Ismaning (D3165) 
LOCATION:Ismaning, Hallenbad, Erich-Zeitler-Str. 6, 85737 Ismaning
END:VEVENT
BEGIN:VEVENT
DTSTAMP:20260424T133441
DTSTART;TZID=Europe/Berlin:20260624T083000
DTEND;TZID=Europe/Berlin:20260624T091500
UID:D3165-20260624T083000@VHSI. NORDEN 
SUMMARY:Aqua-Fitness in Ismaning (D3165) 
LOCATION:Ismaning, Hallenbad, Erich-Zeitler-Str. 6, 85737 Ismaning
END:VEVENT
BEGIN:VEVENT
DTSTAMP:20260424T133441
DTSTART;TZID=Europe/Berlin:20260701T083000
DTEND;TZID=Europe/Berlin:20260701T091500
UID:D3165-20260701T083000@VHSI. NORDEN 
SUMMARY:Aqua-Fitness in Ismaning (D3165) 
LOCATION:Ismaning, Hallenbad, Erich-Zeitler-Str. 6, 85737 Ismaning
END:VEVENT
BEGIN:VEVENT
DTSTAMP:20260424T133441
DTSTART;TZID=Europe/Berlin:20260708T083000
DTEND;TZID=Europe/Berlin:20260708T091500
UID:D3165-20260708T083000@VHSI. NORDEN 
SUMMARY:Aqua-Fitness in Ismaning (D3165) 
LOCATION:Ismaning, Hallenbad, Erich-Zeitler-Str. 6, 85737 Ismaning
END:VEVENT
END:VCALENDAR