BEGIN:VCALENDAR
VERSION:2.0
PRODID:http://www.kufer.de/kuferweb / DE
METHOD:PUBLISH
CALSCALE:GREGORIAN
X-WR-TIMEZONE:Europe/Berlin
BEGIN:VTIMEZONE
TZID:Europe/Berlin
X-LIC-LOCATION:Europe/Berlin
BEGIN:DAYLIGHT
TZOFFSETFROM:+0100
TZOFFSETTO:+0200
TZNAME:CEST
DTSTART;TZID=Europe/Berlin:19700329T020000
RRULE:FREQ=YEARLY;INTERVAL=1;BYDAY=-1SU;BYMONTH=3
END:DAYLIGHT
BEGIN:STANDARD
TZOFFSETFROM:+0200
TZOFFSETTO:+0100
TZNAME:CET
DTSTART;TZID=Europe/Berlin:19701025T030000
RRULE:FREQ=YEARLY;INTERVAL=1;BYDAY=-1SU;BYMONTH=10
END:STANDARD
END:VTIMEZONE
BEGIN:VEVENT
DTSTAMP:20260425T051431
DTSTART;TZID=Europe/Berlin:20260223T200500
DTEND;TZID=Europe/Berlin:20260223T210500
UID:D3289-20260223T200500@VHSI. NORDEN 
SUMMARY:Pilates (D3289) 
LOCATION:Unterföhring, vhs-Zentrum, Großer Tanzsaal, V0.14, Am Bahnhof 13, 85774 Unterföhring
END:VEVENT
BEGIN:VEVENT
DTSTAMP:20260425T051431
DTSTART;TZID=Europe/Berlin:20260302T200500
DTEND;TZID=Europe/Berlin:20260302T210500
UID:D3289-20260302T200500@VHSI. NORDEN 
SUMMARY:Pilates (D3289) 
LOCATION:Unterföhring, vhs-Zentrum, Großer Tanzsaal, V0.14, Am Bahnhof 13, 85774 Unterföhring
END:VEVENT
BEGIN:VEVENT
DTSTAMP:20260425T051431
DTSTART;TZID=Europe/Berlin:20260309T200500
DTEND;TZID=Europe/Berlin:20260309T210500
UID:D3289-20260309T200500@VHSI. NORDEN 
SUMMARY:Pilates (D3289) 
LOCATION:Unterföhring, vhs-Zentrum, Großer Tanzsaal, V0.14, Am Bahnhof 13, 85774 Unterföhring
END:VEVENT
BEGIN:VEVENT
DTSTAMP:20260425T051431
DTSTART;TZID=Europe/Berlin:20260316T200500
DTEND;TZID=Europe/Berlin:20260316T210500
UID:D3289-20260316T200500@VHSI. NORDEN 
SUMMARY:Pilates (D3289) 
LOCATION:Unterföhring, vhs-Zentrum, Großer Tanzsaal, V0.14, Am Bahnhof 13, 85774 Unterföhring
END:VEVENT
BEGIN:VEVENT
DTSTAMP:20260425T051431
DTSTART;TZID=Europe/Berlin:20260323T200500
DTEND;TZID=Europe/Berlin:20260323T210500
UID:D3289-20260323T200500@VHSI. NORDEN 
SUMMARY:Pilates (D3289) 
LOCATION:Unterföhring, vhs-Zentrum, Großer Tanzsaal, V0.14, Am Bahnhof 13, 85774 Unterföhring
END:VEVENT
BEGIN:VEVENT
DTSTAMP:20260425T051431
DTSTART;TZID=Europe/Berlin:20260413T200500
DTEND;TZID=Europe/Berlin:20260413T210500
UID:D3289-20260413T200500@VHSI. NORDEN 
SUMMARY:Pilates (D3289) 
LOCATION:Unterföhring, vhs-Zentrum, Großer Tanzsaal, V0.14, Am Bahnhof 13, 85774 Unterföhring
END:VEVENT
BEGIN:VEVENT
DTSTAMP:20260425T051431
DTSTART;TZID=Europe/Berlin:20260420T200500
DTEND;TZID=Europe/Berlin:20260420T210500
UID:D3289-20260420T200500@VHSI. NORDEN 
SUMMARY:Pilates (D3289) 
LOCATION:Unterföhring, vhs-Zentrum, Großer Tanzsaal, V0.14, Am Bahnhof 13, 85774 Unterföhring
END:VEVENT
BEGIN:VEVENT
DTSTAMP:20260425T051431
DTSTART;TZID=Europe/Berlin:20260427T200500
DTEND;TZID=Europe/Berlin:20260427T210500
UID:D3289-20260427T200500@VHSI. NORDEN 
SUMMARY:Pilates (D3289) 
LOCATION:Unterföhring, vhs-Zentrum, Großer Tanzsaal, V0.14, Am Bahnhof 13, 85774 Unterföhring
END:VEVENT
BEGIN:VEVENT
DTSTAMP:20260425T051431
DTSTART;TZID=Europe/Berlin:20260504T200500
DTEND;TZID=Europe/Berlin:20260504T210500
UID:D3289-20260504T200500@VHSI. NORDEN 
SUMMARY:Pilates (D3289) 
LOCATION:Unterföhring, vhs-Zentrum, Großer Tanzsaal, V0.14, Am Bahnhof 13, 85774 Unterföhring
END:VEVENT
BEGIN:VEVENT
DTSTAMP:20260425T051431
DTSTART;TZID=Europe/Berlin:20260511T200500
DTEND;TZID=Europe/Berlin:20260511T210500
UID:D3289-20260511T200500@VHSI. NORDEN 
SUMMARY:Pilates (D3289) 
LOCATION:Unterföhring, vhs-Zentrum, Großer Tanzsaal, V0.14, Am Bahnhof 13, 85774 Unterföhring
END:VEVENT
BEGIN:VEVENT
DTSTAMP:20260425T051431
DTSTART;TZID=Europe/Berlin:20260518T200500
DTEND;TZID=Europe/Berlin:20260518T210500
UID:D3289-20260518T200500@VHSI. NORDEN 
SUMMARY:Pilates (D3289) 
LOCATION:Unterföhring, vhs-Zentrum, Großer Tanzsaal, V0.14, Am Bahnhof 13, 85774 Unterföhring
END:VEVENT
BEGIN:VEVENT
DTSTAMP:20260425T051431
DTSTART;TZID=Europe/Berlin:20260608T200500
DTEND;TZID=Europe/Berlin:20260608T210500
UID:D3289-20260608T200500@VHSI. NORDEN 
SUMMARY:Pilates (D3289) 
LOCATION:Unterföhring, vhs-Zentrum, Großer Tanzsaal, V0.14, Am Bahnhof 13, 85774 Unterföhring
END:VEVENT
BEGIN:VEVENT
DTSTAMP:20260425T051431
DTSTART;TZID=Europe/Berlin:20260615T200500
DTEND;TZID=Europe/Berlin:20260615T210500
UID:D3289-20260615T200500@VHSI. NORDEN 
SUMMARY:Pilates (D3289) 
LOCATION:Unterföhring, vhs-Zentrum, Großer Tanzsaal, V0.14, Am Bahnhof 13, 85774 Unterföhring
END:VEVENT
BEGIN:VEVENT
DTSTAMP:20260425T051431
DTSTART;TZID=Europe/Berlin:20260622T200500
DTEND;TZID=Europe/Berlin:20260622T210500
UID:D3289-20260622T200500@VHSI. NORDEN 
SUMMARY:Pilates (D3289) 
LOCATION:Unterföhring, vhs-Zentrum, Großer Tanzsaal, V0.14, Am Bahnhof 13, 85774 Unterföhring
END:VEVENT
END:VCALENDAR