BEGIN:VCALENDAR
VERSION:2.0
PRODID:http://www.kufer.de/kuferweb / DE
METHOD:PUBLISH
CALSCALE:GREGORIAN
X-WR-TIMEZONE:Europe/Berlin
BEGIN:VTIMEZONE
TZID:Europe/Berlin
X-LIC-LOCATION:Europe/Berlin
BEGIN:DAYLIGHT
TZOFFSETFROM:+0100
TZOFFSETTO:+0200
TZNAME:CEST
DTSTART;TZID=Europe/Berlin:19700329T020000
RRULE:FREQ=YEARLY;INTERVAL=1;BYDAY=-1SU;BYMONTH=3
END:DAYLIGHT
BEGIN:STANDARD
TZOFFSETFROM:+0200
TZOFFSETTO:+0100
TZNAME:CET
DTSTART;TZID=Europe/Berlin:19701025T030000
RRULE:FREQ=YEARLY;INTERVAL=1;BYDAY=-1SU;BYMONTH=10
END:STANDARD
END:VTIMEZONE
BEGIN:VEVENT
DTSTAMP:20260419T175142
DTSTART;TZID=Europe/Berlin:20260310T193500
DTEND;TZID=Europe/Berlin:20260310T210500
UID:D4040-4-20260310T193500@VHSI. NORDEN 
SUMMARY:Englisch, Niveau B2  Für Fortgeschrittene (D4040-4) 
LOCATION:Unterschleißheim, vhs-Zentrum, Raum 311, Landshuter Straße 20-22, 85716 Unterschleißheim
END:VEVENT
BEGIN:VEVENT
DTSTAMP:20260419T175142
DTSTART;TZID=Europe/Berlin:20260317T193500
DTEND;TZID=Europe/Berlin:20260317T210500
UID:D4040-4-20260317T193500@VHSI. NORDEN 
SUMMARY:Englisch, Niveau B2  Für Fortgeschrittene (D4040-4) 
LOCATION:Unterschleißheim, vhs-Zentrum, Raum 311, Landshuter Straße 20-22, 85716 Unterschleißheim
END:VEVENT
BEGIN:VEVENT
DTSTAMP:20260419T175142
DTSTART;TZID=Europe/Berlin:20260324T193500
DTEND;TZID=Europe/Berlin:20260324T210500
UID:D4040-4-20260324T193500@VHSI. NORDEN 
SUMMARY:Englisch, Niveau B2  Für Fortgeschrittene (D4040-4) 
LOCATION:Unterschleißheim, vhs-Zentrum, Raum 311, Landshuter Straße 20-22, 85716 Unterschleißheim
END:VEVENT
BEGIN:VEVENT
DTSTAMP:20260419T175142
DTSTART;TZID=Europe/Berlin:20260414T193500
DTEND;TZID=Europe/Berlin:20260414T210500
UID:D4040-4-20260414T193500@VHSI. NORDEN 
SUMMARY:Englisch, Niveau B2  Für Fortgeschrittene (D4040-4) 
LOCATION:Unterschleißheim, vhs-Zentrum, Raum 311, Landshuter Straße 20-22, 85716 Unterschleißheim
END:VEVENT
BEGIN:VEVENT
DTSTAMP:20260419T175142
DTSTART;TZID=Europe/Berlin:20260421T193500
DTEND;TZID=Europe/Berlin:20260421T210500
UID:D4040-4-20260421T193500@VHSI. NORDEN 
SUMMARY:Englisch, Niveau B2  Für Fortgeschrittene (D4040-4) 
LOCATION:Unterschleißheim, vhs-Zentrum, Raum 311, Landshuter Straße 20-22, 85716 Unterschleißheim
END:VEVENT
BEGIN:VEVENT
DTSTAMP:20260419T175142
DTSTART;TZID=Europe/Berlin:20260428T193500
DTEND;TZID=Europe/Berlin:20260428T210500
UID:D4040-4-20260428T193500@VHSI. NORDEN 
SUMMARY:Englisch, Niveau B2  Für Fortgeschrittene (D4040-4) 
LOCATION:Unterschleißheim, vhs-Zentrum, Raum 311, Landshuter Straße 20-22, 85716 Unterschleißheim
END:VEVENT
BEGIN:VEVENT
DTSTAMP:20260419T175142
DTSTART;TZID=Europe/Berlin:20260505T193500
DTEND;TZID=Europe/Berlin:20260505T210500
UID:D4040-4-20260505T193500@VHSI. NORDEN 
SUMMARY:Englisch, Niveau B2  Für Fortgeschrittene (D4040-4) 
LOCATION:Unterschleißheim, vhs-Zentrum, Raum 311, Landshuter Straße 20-22, 85716 Unterschleißheim
END:VEVENT
BEGIN:VEVENT
DTSTAMP:20260419T175142
DTSTART;TZID=Europe/Berlin:20260512T193500
DTEND;TZID=Europe/Berlin:20260512T210500
UID:D4040-4-20260512T193500@VHSI. NORDEN 
SUMMARY:Englisch, Niveau B2  Für Fortgeschrittene (D4040-4) 
LOCATION:Unterschleißheim, vhs-Zentrum, Raum 311, Landshuter Straße 20-22, 85716 Unterschleißheim
END:VEVENT
BEGIN:VEVENT
DTSTAMP:20260419T175142
DTSTART;TZID=Europe/Berlin:20260519T193500
DTEND;TZID=Europe/Berlin:20260519T210500
UID:D4040-4-20260519T193500@VHSI. NORDEN 
SUMMARY:Englisch, Niveau B2  Für Fortgeschrittene (D4040-4) 
LOCATION:Unterschleißheim, vhs-Zentrum, Raum 311, Landshuter Straße 20-22, 85716 Unterschleißheim
END:VEVENT
BEGIN:VEVENT
DTSTAMP:20260419T175142
DTSTART;TZID=Europe/Berlin:20260609T193500
DTEND;TZID=Europe/Berlin:20260609T210500
UID:D4040-4-20260609T193500@VHSI. NORDEN 
SUMMARY:Englisch, Niveau B2  Für Fortgeschrittene (D4040-4) 
LOCATION:Unterschleißheim, vhs-Zentrum, Raum 311, Landshuter Straße 20-22, 85716 Unterschleißheim
END:VEVENT
BEGIN:VEVENT
DTSTAMP:20260419T175142
DTSTART;TZID=Europe/Berlin:20260616T193500
DTEND;TZID=Europe/Berlin:20260616T210500
UID:D4040-4-20260616T193500@VHSI. NORDEN 
SUMMARY:Englisch, Niveau B2  Für Fortgeschrittene (D4040-4) 
LOCATION:Unterschleißheim, vhs-Zentrum, Raum 311, Landshuter Straße 20-22, 85716 Unterschleißheim
END:VEVENT
BEGIN:VEVENT
DTSTAMP:20260419T175142
DTSTART;TZID=Europe/Berlin:20260623T193500
DTEND;TZID=Europe/Berlin:20260623T210500
UID:D4040-4-20260623T193500@VHSI. NORDEN 
SUMMARY:Englisch, Niveau B2  Für Fortgeschrittene (D4040-4) 
LOCATION:Unterschleißheim, vhs-Zentrum, Raum 311, Landshuter Straße 20-22, 85716 Unterschleißheim
END:VEVENT
BEGIN:VEVENT
DTSTAMP:20260419T175142
DTSTART;TZID=Europe/Berlin:20260630T193500
DTEND;TZID=Europe/Berlin:20260630T210500
UID:D4040-4-20260630T193500@VHSI. NORDEN 
SUMMARY:Englisch, Niveau B2  Für Fortgeschrittene (D4040-4) 
LOCATION:Unterschleißheim, vhs-Zentrum, Raum 311, Landshuter Straße 20-22, 85716 Unterschleißheim
END:VEVENT
BEGIN:VEVENT
DTSTAMP:20260419T175142
DTSTART;TZID=Europe/Berlin:20260707T193500
DTEND;TZID=Europe/Berlin:20260707T210500
UID:D4040-4-20260707T193500@VHSI. NORDEN 
SUMMARY:Englisch, Niveau B2  Für Fortgeschrittene (D4040-4) 
LOCATION:Unterschleißheim, vhs-Zentrum, Raum 311, Landshuter Straße 20-22, 85716 Unterschleißheim
END:VEVENT
BEGIN:VEVENT
DTSTAMP:20260419T175142
DTSTART;TZID=Europe/Berlin:20260714T193500
DTEND;TZID=Europe/Berlin:20260714T210500
UID:D4040-4-20260714T193500@VHSI. NORDEN 
DESCRIPTION:Ersatz für Ausfall am 03.03.2026
SUMMARY:Englisch, Niveau B2  Für Fortgeschrittene (D4040-4) 
LOCATION:Unterschleißheim, vhs-Zentrum, Raum 311, Landshuter Straße 20-22, 85716 Unterschleißheim
END:VEVENT
END:VCALENDAR