BEGIN:VCALENDAR
VERSION:2.0
PRODID:http://www.kufer.de/kuferweb / DE
METHOD:PUBLISH
CALSCALE:GREGORIAN
X-WR-TIMEZONE:Europe/Berlin
BEGIN:VTIMEZONE
TZID:Europe/Berlin
X-LIC-LOCATION:Europe/Berlin
BEGIN:DAYLIGHT
TZOFFSETFROM:+0100
TZOFFSETTO:+0200
TZNAME:CEST
DTSTART;TZID=Europe/Berlin:19700329T020000
RRULE:FREQ=YEARLY;INTERVAL=1;BYDAY=-1SU;BYMONTH=3
END:DAYLIGHT
BEGIN:STANDARD
TZOFFSETFROM:+0200
TZOFFSETTO:+0100
TZNAME:CET
DTSTART;TZID=Europe/Berlin:19701025T030000
RRULE:FREQ=YEARLY;INTERVAL=1;BYDAY=-1SU;BYMONTH=10
END:STANDARD
END:VTIMEZONE
BEGIN:VEVENT
DTSTAMP:20260419T163558
DTSTART;TZID=Europe/Berlin:20260311T103000
DTEND;TZID=Europe/Berlin:20260311T120000
UID:D4467-20260311T103000@VHSI. NORDEN 
SUMMARY: Konversation A2 Für Teilnehmende mit elementaren Vorkenntnissen (D4467) 
LOCATION:Ismaning, vhs im Kultur- u. Bildungszentrum, Seminarraum 3, V1.06, Mühlenstraße 15, 85737 Ismaning
END:VEVENT
BEGIN:VEVENT
DTSTAMP:20260419T163558
DTSTART;TZID=Europe/Berlin:20260318T103000
DTEND;TZID=Europe/Berlin:20260318T120000
UID:D4467-20260318T103000@VHSI. NORDEN 
SUMMARY: Konversation A2 Für Teilnehmende mit elementaren Vorkenntnissen (D4467) 
LOCATION:Ismaning, vhs im Kultur- u. Bildungszentrum, Seminarraum 3, V1.06, Mühlenstraße 15, 85737 Ismaning
END:VEVENT
BEGIN:VEVENT
DTSTAMP:20260419T163558
DTSTART;TZID=Europe/Berlin:20260325T103000
DTEND;TZID=Europe/Berlin:20260325T120000
UID:D4467-20260325T103000@VHSI. NORDEN 
SUMMARY: Konversation A2 Für Teilnehmende mit elementaren Vorkenntnissen (D4467) 
LOCATION:Ismaning, vhs im Kultur- u. Bildungszentrum, Seminarraum 3, V1.06, Mühlenstraße 15, 85737 Ismaning
END:VEVENT
BEGIN:VEVENT
DTSTAMP:20260419T163558
DTSTART;TZID=Europe/Berlin:20260415T103000
DTEND;TZID=Europe/Berlin:20260415T120000
UID:D4467-20260415T103000@VHSI. NORDEN 
SUMMARY: Konversation A2 Für Teilnehmende mit elementaren Vorkenntnissen (D4467) 
LOCATION:Ismaning, vhs im Kultur- u. Bildungszentrum, Seminarraum 3, V1.06, Mühlenstraße 15, 85737 Ismaning
END:VEVENT
BEGIN:VEVENT
DTSTAMP:20260419T163558
DTSTART;TZID=Europe/Berlin:20260422T103000
DTEND;TZID=Europe/Berlin:20260422T120000
UID:D4467-20260422T103000@VHSI. NORDEN 
SUMMARY: Konversation A2 Für Teilnehmende mit elementaren Vorkenntnissen (D4467) 
LOCATION:Ismaning, vhs im Kultur- u. Bildungszentrum, Seminarraum 3, V1.06, Mühlenstraße 15, 85737 Ismaning
END:VEVENT
BEGIN:VEVENT
DTSTAMP:20260419T163558
DTSTART;TZID=Europe/Berlin:20260429T103000
DTEND;TZID=Europe/Berlin:20260429T120000
UID:D4467-20260429T103000@VHSI. NORDEN 
SUMMARY: Konversation A2 Für Teilnehmende mit elementaren Vorkenntnissen (D4467) 
LOCATION:Ismaning, vhs im Kultur- u. Bildungszentrum, Seminarraum 3, V1.06, Mühlenstraße 15, 85737 Ismaning
END:VEVENT
BEGIN:VEVENT
DTSTAMP:20260419T163558
DTSTART;TZID=Europe/Berlin:20260506T103000
DTEND;TZID=Europe/Berlin:20260506T120000
UID:D4467-20260506T103000@VHSI. NORDEN 
SUMMARY: Konversation A2 Für Teilnehmende mit elementaren Vorkenntnissen (D4467) 
LOCATION:Ismaning, vhs im Kultur- u. Bildungszentrum, Seminarraum 3, V1.06, Mühlenstraße 15, 85737 Ismaning
END:VEVENT
BEGIN:VEVENT
DTSTAMP:20260419T163558
DTSTART;TZID=Europe/Berlin:20260513T103000
DTEND;TZID=Europe/Berlin:20260513T120000
UID:D4467-20260513T103000@VHSI. NORDEN 
SUMMARY: Konversation A2 Für Teilnehmende mit elementaren Vorkenntnissen (D4467) 
LOCATION:Ismaning, vhs im Kultur- u. Bildungszentrum, Seminarraum 3, V1.06, Mühlenstraße 15, 85737 Ismaning
END:VEVENT
BEGIN:VEVENT
DTSTAMP:20260419T163558
DTSTART;TZID=Europe/Berlin:20260520T103000
DTEND;TZID=Europe/Berlin:20260520T120000
UID:D4467-20260520T103000@VHSI. NORDEN 
SUMMARY: Konversation A2 Für Teilnehmende mit elementaren Vorkenntnissen (D4467) 
LOCATION:Ismaning, vhs im Kultur- u. Bildungszentrum, Seminarraum 3, V1.06, Mühlenstraße 15, 85737 Ismaning
END:VEVENT
BEGIN:VEVENT
DTSTAMP:20260419T163558
DTSTART;TZID=Europe/Berlin:20260610T103000
DTEND;TZID=Europe/Berlin:20260610T120000
UID:D4467-20260610T103000@VHSI. NORDEN 
SUMMARY: Konversation A2 Für Teilnehmende mit elementaren Vorkenntnissen (D4467) 
LOCATION:Ismaning, vhs im Kultur- u. Bildungszentrum, Seminarraum 3, V1.06, Mühlenstraße 15, 85737 Ismaning
END:VEVENT
BEGIN:VEVENT
DTSTAMP:20260419T163558
DTSTART;TZID=Europe/Berlin:20260617T103000
DTEND;TZID=Europe/Berlin:20260617T120000
UID:D4467-20260617T103000@VHSI. NORDEN 
SUMMARY: Konversation A2 Für Teilnehmende mit elementaren Vorkenntnissen (D4467) 
LOCATION:Ismaning, vhs im Kultur- u. Bildungszentrum, Seminarraum 3, V1.06, Mühlenstraße 15, 85737 Ismaning
END:VEVENT
BEGIN:VEVENT
DTSTAMP:20260419T163558
DTSTART;TZID=Europe/Berlin:20260624T103000
DTEND;TZID=Europe/Berlin:20260624T120000
UID:D4467-20260624T103000@VHSI. NORDEN 
SUMMARY: Konversation A2 Für Teilnehmende mit elementaren Vorkenntnissen (D4467) 
LOCATION:Ismaning, vhs im Kultur- u. Bildungszentrum, Seminarraum 3, V1.06, Mühlenstraße 15, 85737 Ismaning
END:VEVENT
BEGIN:VEVENT
DTSTAMP:20260419T163558
DTSTART;TZID=Europe/Berlin:20260701T103000
DTEND;TZID=Europe/Berlin:20260701T120000
UID:D4467-20260701T103000@VHSI. NORDEN 
SUMMARY: Konversation A2 Für Teilnehmende mit elementaren Vorkenntnissen (D4467) 
LOCATION:Ismaning, vhs im Kultur- u. Bildungszentrum, Seminarraum 3, V1.06, Mühlenstraße 15, 85737 Ismaning
END:VEVENT
BEGIN:VEVENT
DTSTAMP:20260419T163558
DTSTART;TZID=Europe/Berlin:20260708T103000
DTEND;TZID=Europe/Berlin:20260708T120000
UID:D4467-20260708T103000@VHSI. NORDEN 
SUMMARY: Konversation A2 Für Teilnehmende mit elementaren Vorkenntnissen (D4467) 
LOCATION:Ismaning, vhs im Kultur- u. Bildungszentrum, Seminarraum 3, V1.06, Mühlenstraße 15, 85737 Ismaning
END:VEVENT
BEGIN:VEVENT
DTSTAMP:20260419T163558
DTSTART;TZID=Europe/Berlin:20260715T103000
DTEND;TZID=Europe/Berlin:20260715T120000
UID:D4467-20260715T103000@VHSI. NORDEN 
DESCRIPTION:Ersatz für Ausfall am 04.03.2026
SUMMARY: Konversation A2 Für Teilnehmende mit elementaren Vorkenntnissen (D4467) 
LOCATION:Ismaning, vhs im Kultur- u. Bildungszentrum, Seminarraum 3, V1.06, Mühlenstraße 15, 85737 Ismaning
END:VEVENT
END:VCALENDAR