BEGIN:VCALENDAR
VERSION:2.0
PRODID:http://www.kufer.de/kuferweb / DE
METHOD:PUBLISH
CALSCALE:GREGORIAN
X-WR-TIMEZONE:Europe/Berlin
BEGIN:VTIMEZONE
TZID:Europe/Berlin
X-LIC-LOCATION:Europe/Berlin
BEGIN:DAYLIGHT
TZOFFSETFROM:+0100
TZOFFSETTO:+0200
TZNAME:CEST
DTSTART;TZID=Europe/Berlin:19700329T020000
RRULE:FREQ=YEARLY;INTERVAL=1;BYDAY=-1SU;BYMONTH=3
END:DAYLIGHT
BEGIN:STANDARD
TZOFFSETFROM:+0200
TZOFFSETTO:+0100
TZNAME:CET
DTSTART;TZID=Europe/Berlin:19701025T030000
RRULE:FREQ=YEARLY;INTERVAL=1;BYDAY=-1SU;BYMONTH=10
END:STANDARD
END:VTIMEZONE
BEGIN:VEVENT
DTSTAMP:20260424T161841
DTSTART;TZID=Europe/Berlin:20260305T193000
DTEND;TZID=Europe/Berlin:20260305T210000
UID:D4570-WEB-20260305T193000@VHSI. NORDEN 
SUMMARY:Spanisch, Niveau B1 Konversation und Grammatik Für Teilnehmende mit guten Vorkenntnissen (D4570-WEB) 
LOCATION:Online-Seminar, , 
END:VEVENT
BEGIN:VEVENT
DTSTAMP:20260424T161841
DTSTART;TZID=Europe/Berlin:20260312T193000
DTEND;TZID=Europe/Berlin:20260312T210000
UID:D4570-WEB-20260312T193000@VHSI. NORDEN 
SUMMARY:Spanisch, Niveau B1 Konversation und Grammatik Für Teilnehmende mit guten Vorkenntnissen (D4570-WEB) 
LOCATION:Online-Seminar, , 
END:VEVENT
BEGIN:VEVENT
DTSTAMP:20260424T161841
DTSTART;TZID=Europe/Berlin:20260319T193000
DTEND;TZID=Europe/Berlin:20260319T210000
UID:D4570-WEB-20260319T193000@VHSI. NORDEN 
SUMMARY:Spanisch, Niveau B1 Konversation und Grammatik Für Teilnehmende mit guten Vorkenntnissen (D4570-WEB) 
LOCATION:Online-Seminar, , 
END:VEVENT
BEGIN:VEVENT
DTSTAMP:20260424T161841
DTSTART;TZID=Europe/Berlin:20260326T193000
DTEND;TZID=Europe/Berlin:20260326T210000
UID:D4570-WEB-20260326T193000@VHSI. NORDEN 
SUMMARY:Spanisch, Niveau B1 Konversation und Grammatik Für Teilnehmende mit guten Vorkenntnissen (D4570-WEB) 
LOCATION:Online-Seminar, , 
END:VEVENT
BEGIN:VEVENT
DTSTAMP:20260424T161841
DTSTART;TZID=Europe/Berlin:20260416T193000
DTEND;TZID=Europe/Berlin:20260416T210000
UID:D4570-WEB-20260416T193000@VHSI. NORDEN 
SUMMARY:Spanisch, Niveau B1 Konversation und Grammatik Für Teilnehmende mit guten Vorkenntnissen (D4570-WEB) 
LOCATION:Online-Seminar, , 
END:VEVENT
BEGIN:VEVENT
DTSTAMP:20260424T161841
DTSTART;TZID=Europe/Berlin:20260423T193000
DTEND;TZID=Europe/Berlin:20260423T210000
UID:D4570-WEB-20260423T193000@VHSI. NORDEN 
SUMMARY:Spanisch, Niveau B1 Konversation und Grammatik Für Teilnehmende mit guten Vorkenntnissen (D4570-WEB) 
LOCATION:Online-Seminar, , 
END:VEVENT
BEGIN:VEVENT
DTSTAMP:20260424T161841
DTSTART;TZID=Europe/Berlin:20260430T193000
DTEND;TZID=Europe/Berlin:20260430T210000
UID:D4570-WEB-20260430T193000@VHSI. NORDEN 
SUMMARY:Spanisch, Niveau B1 Konversation und Grammatik Für Teilnehmende mit guten Vorkenntnissen (D4570-WEB) 
LOCATION:Online-Seminar, , 
END:VEVENT
BEGIN:VEVENT
DTSTAMP:20260424T161841
DTSTART;TZID=Europe/Berlin:20260507T193000
DTEND;TZID=Europe/Berlin:20260507T210000
UID:D4570-WEB-20260507T193000@VHSI. NORDEN 
SUMMARY:Spanisch, Niveau B1 Konversation und Grammatik Für Teilnehmende mit guten Vorkenntnissen (D4570-WEB) 
LOCATION:Online-Seminar, , 
END:VEVENT
BEGIN:VEVENT
DTSTAMP:20260424T161841
DTSTART;TZID=Europe/Berlin:20260521T193000
DTEND;TZID=Europe/Berlin:20260521T210000
UID:D4570-WEB-20260521T193000@VHSI. NORDEN 
SUMMARY:Spanisch, Niveau B1 Konversation und Grammatik Für Teilnehmende mit guten Vorkenntnissen (D4570-WEB) 
LOCATION:Online-Seminar, , 
END:VEVENT
BEGIN:VEVENT
DTSTAMP:20260424T161841
DTSTART;TZID=Europe/Berlin:20260611T193000
DTEND;TZID=Europe/Berlin:20260611T210000
UID:D4570-WEB-20260611T193000@VHSI. NORDEN 
SUMMARY:Spanisch, Niveau B1 Konversation und Grammatik Für Teilnehmende mit guten Vorkenntnissen (D4570-WEB) 
LOCATION:Online-Seminar, , 
END:VEVENT
BEGIN:VEVENT
DTSTAMP:20260424T161841
DTSTART;TZID=Europe/Berlin:20260618T193000
DTEND;TZID=Europe/Berlin:20260618T210000
UID:D4570-WEB-20260618T193000@VHSI. NORDEN 
SUMMARY:Spanisch, Niveau B1 Konversation und Grammatik Für Teilnehmende mit guten Vorkenntnissen (D4570-WEB) 
LOCATION:Online-Seminar, , 
END:VEVENT
BEGIN:VEVENT
DTSTAMP:20260424T161841
DTSTART;TZID=Europe/Berlin:20260625T193000
DTEND;TZID=Europe/Berlin:20260625T210000
UID:D4570-WEB-20260625T193000@VHSI. NORDEN 
SUMMARY:Spanisch, Niveau B1 Konversation und Grammatik Für Teilnehmende mit guten Vorkenntnissen (D4570-WEB) 
LOCATION:Online-Seminar, , 
END:VEVENT
BEGIN:VEVENT
DTSTAMP:20260424T161841
DTSTART;TZID=Europe/Berlin:20260702T193000
DTEND;TZID=Europe/Berlin:20260702T210000
UID:D4570-WEB-20260702T193000@VHSI. NORDEN 
SUMMARY:Spanisch, Niveau B1 Konversation und Grammatik Für Teilnehmende mit guten Vorkenntnissen (D4570-WEB) 
LOCATION:Online-Seminar, , 
END:VEVENT
BEGIN:VEVENT
DTSTAMP:20260424T161841
DTSTART;TZID=Europe/Berlin:20260709T193000
DTEND;TZID=Europe/Berlin:20260709T210000
UID:D4570-WEB-20260709T193000@VHSI. NORDEN 
SUMMARY:Spanisch, Niveau B1 Konversation und Grammatik Für Teilnehmende mit guten Vorkenntnissen (D4570-WEB) 
LOCATION:Online-Seminar, , 
END:VEVENT
BEGIN:VEVENT
DTSTAMP:20260424T161841
DTSTART;TZID=Europe/Berlin:20260716T193000
DTEND;TZID=Europe/Berlin:20260716T210000
UID:D4570-WEB-20260716T193000@VHSI. NORDEN 
SUMMARY:Spanisch, Niveau B1 Konversation und Grammatik Für Teilnehmende mit guten Vorkenntnissen (D4570-WEB) 
LOCATION:Online-Seminar, , 
END:VEVENT
END:VCALENDAR