BEGIN:VCALENDAR
VERSION:2.0
PRODID:http://www.kufer.de/kuferweb / DE
METHOD:PUBLISH
CALSCALE:GREGORIAN
X-WR-TIMEZONE:Europe/Berlin
BEGIN:VTIMEZONE
TZID:Europe/Berlin
X-LIC-LOCATION:Europe/Berlin
BEGIN:DAYLIGHT
TZOFFSETFROM:+0100
TZOFFSETTO:+0200
TZNAME:CEST
DTSTART;TZID=Europe/Berlin:19700329T020000
RRULE:FREQ=YEARLY;INTERVAL=1;BYDAY=-1SU;BYMONTH=3
END:DAYLIGHT
BEGIN:STANDARD
TZOFFSETFROM:+0200
TZOFFSETTO:+0100
TZNAME:CET
DTSTART;TZID=Europe/Berlin:19701025T030000
RRULE:FREQ=YEARLY;INTERVAL=1;BYDAY=-1SU;BYMONTH=10
END:STANDARD
END:VTIMEZONE
BEGIN:VEVENT
DTSTAMP:20260424T161735
DTSTART;TZID=Europe/Berlin:20260323T180000
DTEND;TZID=Europe/Berlin:20260323T193000
UID:D4591-20260323T180000@VHSI. NORDEN 
SUMMARY:Spanisch, Niveau B2 Konversation Für Fortgeschrittene (D4591) 
LOCATION:Unterföhring, vhs-Zentrum, Seminarraum, V1.20, Am Bahnhof 13, 85774 Unterföhring
END:VEVENT
BEGIN:VEVENT
DTSTAMP:20260424T161735
DTSTART;TZID=Europe/Berlin:20260413T180000
DTEND;TZID=Europe/Berlin:20260413T193000
UID:D4591-20260413T180000@VHSI. NORDEN 
SUMMARY:Spanisch, Niveau B2 Konversation Für Fortgeschrittene (D4591) 
LOCATION:Unterföhring, vhs-Zentrum, Seminarraum, V1.20, Am Bahnhof 13, 85774 Unterföhring
END:VEVENT
BEGIN:VEVENT
DTSTAMP:20260424T161735
DTSTART;TZID=Europe/Berlin:20260427T180000
DTEND;TZID=Europe/Berlin:20260427T193000
UID:D4591-20260427T180000@VHSI. NORDEN 
SUMMARY:Spanisch, Niveau B2 Konversation Für Fortgeschrittene (D4591) 
LOCATION:Unterföhring, vhs-Zentrum, Seminarraum, V1.20, Am Bahnhof 13, 85774 Unterföhring
END:VEVENT
BEGIN:VEVENT
DTSTAMP:20260424T161735
DTSTART;TZID=Europe/Berlin:20260504T180000
DTEND;TZID=Europe/Berlin:20260504T193000
UID:D4591-20260504T180000@VHSI. NORDEN 
SUMMARY:Spanisch, Niveau B2 Konversation Für Fortgeschrittene (D4591) 
LOCATION:Unterföhring, vhs-Zentrum, Seminarraum, V1.20, Am Bahnhof 13, 85774 Unterföhring
END:VEVENT
BEGIN:VEVENT
DTSTAMP:20260424T161735
DTSTART;TZID=Europe/Berlin:20260511T180000
DTEND;TZID=Europe/Berlin:20260511T193000
UID:D4591-20260511T180000@VHSI. NORDEN 
SUMMARY:Spanisch, Niveau B2 Konversation Für Fortgeschrittene (D4591) 
LOCATION:Unterföhring, vhs-Zentrum, Seminarraum, V1.20, Am Bahnhof 13, 85774 Unterföhring
END:VEVENT
BEGIN:VEVENT
DTSTAMP:20260424T161735
DTSTART;TZID=Europe/Berlin:20260518T180000
DTEND;TZID=Europe/Berlin:20260518T193000
UID:D4591-20260518T180000@VHSI. NORDEN 
SUMMARY:Spanisch, Niveau B2 Konversation Für Fortgeschrittene (D4591) 
LOCATION:Unterföhring, vhs-Zentrum, Seminarraum, V1.20, Am Bahnhof 13, 85774 Unterföhring
END:VEVENT
BEGIN:VEVENT
DTSTAMP:20260424T161735
DTSTART;TZID=Europe/Berlin:20260608T180000
DTEND;TZID=Europe/Berlin:20260608T193000
UID:D4591-20260608T180000@VHSI. NORDEN 
SUMMARY:Spanisch, Niveau B2 Konversation Für Fortgeschrittene (D4591) 
LOCATION:Unterföhring, vhs-Zentrum, Seminarraum, V1.20, Am Bahnhof 13, 85774 Unterföhring
END:VEVENT
BEGIN:VEVENT
DTSTAMP:20260424T161735
DTSTART;TZID=Europe/Berlin:20260615T180000
DTEND;TZID=Europe/Berlin:20260615T193000
UID:D4591-20260615T180000@VHSI. NORDEN 
SUMMARY:Spanisch, Niveau B2 Konversation Für Fortgeschrittene (D4591) 
LOCATION:Unterföhring, vhs-Zentrum, Seminarraum, V1.20, Am Bahnhof 13, 85774 Unterföhring
END:VEVENT
BEGIN:VEVENT
DTSTAMP:20260424T161735
DTSTART;TZID=Europe/Berlin:20260622T180000
DTEND;TZID=Europe/Berlin:20260622T193000
UID:D4591-20260622T180000@VHSI. NORDEN 
SUMMARY:Spanisch, Niveau B2 Konversation Für Fortgeschrittene (D4591) 
LOCATION:Unterföhring, vhs-Zentrum, Seminarraum, V1.20, Am Bahnhof 13, 85774 Unterföhring
END:VEVENT
BEGIN:VEVENT
DTSTAMP:20260424T161735
DTSTART;TZID=Europe/Berlin:20260629T180000
DTEND;TZID=Europe/Berlin:20260629T193000
UID:D4591-20260629T180000@VHSI. NORDEN 
SUMMARY:Spanisch, Niveau B2 Konversation Für Fortgeschrittene (D4591) 
LOCATION:Unterföhring, vhs-Zentrum, Seminarraum, V1.20, Am Bahnhof 13, 85774 Unterföhring
END:VEVENT
BEGIN:VEVENT
DTSTAMP:20260424T161735
DTSTART;TZID=Europe/Berlin:20260706T180000
DTEND;TZID=Europe/Berlin:20260706T193000
UID:D4591-20260706T180000@VHSI. NORDEN 
DESCRIPTION:Ersatz für Ausfall am 16.03.2026
SUMMARY:Spanisch, Niveau B2 Konversation Für Fortgeschrittene (D4591) 
LOCATION:Unterföhring, vhs-Zentrum, Seminarraum, V1.20, Am Bahnhof 13, 85774 Unterföhring
END:VEVENT
BEGIN:VEVENT
DTSTAMP:20260424T161735
DTSTART;TZID=Europe/Berlin:20260713T180000
DTEND;TZID=Europe/Berlin:20260713T193000
UID:D4591-20260713T180000@VHSI. NORDEN 
DESCRIPTION:Ersatz für Ausfall am 20.04.2026
SUMMARY:Spanisch, Niveau B2 Konversation Für Fortgeschrittene (D4591) 
LOCATION:Unterföhring, vhs-Zentrum, Seminarraum, V1.20, Am Bahnhof 13, 85774 Unterföhring
END:VEVENT
END:VCALENDAR