BEGIN:VCALENDAR
VERSION:2.0
PRODID:http://www.kufer.de/kuferweb / DE
METHOD:PUBLISH
CALSCALE:GREGORIAN
X-WR-TIMEZONE:Europe/Berlin
BEGIN:VTIMEZONE
TZID:Europe/Berlin
X-LIC-LOCATION:Europe/Berlin
BEGIN:DAYLIGHT
TZOFFSETFROM:+0100
TZOFFSETTO:+0200
TZNAME:CEST
DTSTART;TZID=Europe/Berlin:19700329T020000
RRULE:FREQ=YEARLY;INTERVAL=1;BYDAY=-1SU;BYMONTH=3
END:DAYLIGHT
BEGIN:STANDARD
TZOFFSETFROM:+0200
TZOFFSETTO:+0100
TZNAME:CET
DTSTART;TZID=Europe/Berlin:19701025T030000
RRULE:FREQ=YEARLY;INTERVAL=1;BYDAY=-1SU;BYMONTH=10
END:STANDARD
END:VTIMEZONE
BEGIN:VEVENT
DTSTAMP:20260424T161729
DTSTART;TZID=Europe/Berlin:20260305T103000
DTEND;TZID=Europe/Berlin:20260305T120000
UID:D4598-20260305T103000@VHSI. NORDEN 
SUMMARY:Spanisch, C1/C2 Konversation Für sehr Fortgeschrittene (D4598) 
LOCATION:Garching, vhs Bildungszentrum, Raum V 1.06, Telschowstr. 5-7, 85748 Garching
END:VEVENT
BEGIN:VEVENT
DTSTAMP:20260424T161729
DTSTART;TZID=Europe/Berlin:20260319T103000
DTEND;TZID=Europe/Berlin:20260319T120000
UID:D4598-20260319T103000@VHSI. NORDEN 
SUMMARY:Spanisch, C1/C2 Konversation Für sehr Fortgeschrittene (D4598) 
LOCATION:Garching, vhs Bildungszentrum, Raum V 1.06, Telschowstr. 5-7, 85748 Garching
END:VEVENT
BEGIN:VEVENT
DTSTAMP:20260424T161729
DTSTART;TZID=Europe/Berlin:20260430T103000
DTEND;TZID=Europe/Berlin:20260430T120000
UID:D4598-20260430T103000@VHSI. NORDEN 
SUMMARY:Spanisch, C1/C2 Konversation Für sehr Fortgeschrittene (D4598) 
LOCATION:Garching, vhs Bildungszentrum, Raum V 1.06, Telschowstr. 5-7, 85748 Garching
END:VEVENT
BEGIN:VEVENT
DTSTAMP:20260424T161729
DTSTART;TZID=Europe/Berlin:20260521T103000
DTEND;TZID=Europe/Berlin:20260521T120000
UID:D4598-20260521T103000@VHSI. NORDEN 
SUMMARY:Spanisch, C1/C2 Konversation Für sehr Fortgeschrittene (D4598) 
LOCATION:Garching, vhs Bildungszentrum, Raum V 1.06, Telschowstr. 5-7, 85748 Garching
END:VEVENT
BEGIN:VEVENT
DTSTAMP:20260424T161729
DTSTART;TZID=Europe/Berlin:20260611T103000
DTEND;TZID=Europe/Berlin:20260611T120000
UID:D4598-20260611T103000@VHSI. NORDEN 
SUMMARY:Spanisch, C1/C2 Konversation Für sehr Fortgeschrittene (D4598) 
LOCATION:Garching, vhs Bildungszentrum, Raum V 1.06, Telschowstr. 5-7, 85748 Garching
END:VEVENT
BEGIN:VEVENT
DTSTAMP:20260424T161729
DTSTART;TZID=Europe/Berlin:20260625T103000
DTEND;TZID=Europe/Berlin:20260625T120000
UID:D4598-20260625T103000@VHSI. NORDEN 
SUMMARY:Spanisch, C1/C2 Konversation Für sehr Fortgeschrittene (D4598) 
LOCATION:Garching, vhs Bildungszentrum, Raum V 1.06, Telschowstr. 5-7, 85748 Garching
END:VEVENT
END:VCALENDAR