BEGIN:VCALENDAR
VERSION:2.0
PRODID:http://www.kufer.de/kuferweb / DE
METHOD:PUBLISH
CALSCALE:GREGORIAN
X-WR-TIMEZONE:Europe/Berlin
BEGIN:VTIMEZONE
TZID:Europe/Berlin
X-LIC-LOCATION:Europe/Berlin
BEGIN:DAYLIGHT
TZOFFSETFROM:+0100
TZOFFSETTO:+0200
TZNAME:CEST
DTSTART;TZID=Europe/Berlin:19700329T020000
RRULE:FREQ=YEARLY;INTERVAL=1;BYDAY=-1SU;BYMONTH=3
END:DAYLIGHT
BEGIN:STANDARD
TZOFFSETFROM:+0200
TZOFFSETTO:+0100
TZNAME:CET
DTSTART;TZID=Europe/Berlin:19701025T030000
RRULE:FREQ=YEARLY;INTERVAL=1;BYDAY=-1SU;BYMONTH=10
END:STANDARD
END:VTIMEZONE
BEGIN:VEVENT
DTSTAMP:20260423T173924
DTSTART;TZID=Europe/Berlin:20260224T123000
DTEND;TZID=Europe/Berlin:20260224T133000
UID:D4667-WEB-20260224T123000@VHSI. NORDEN 
SUMMARY:Japanisch, Niveau A1  Für Anfänger:innen mit geringen Vorkenntnissen (D4667-WEB) 
LOCATION:Online, , 
END:VEVENT
BEGIN:VEVENT
DTSTAMP:20260423T173924
DTSTART;TZID=Europe/Berlin:20260303T123000
DTEND;TZID=Europe/Berlin:20260303T133000
UID:D4667-WEB-20260303T123000@VHSI. NORDEN 
SUMMARY:Japanisch, Niveau A1  Für Anfänger:innen mit geringen Vorkenntnissen (D4667-WEB) 
LOCATION:Online, , 
END:VEVENT
BEGIN:VEVENT
DTSTAMP:20260423T173924
DTSTART;TZID=Europe/Berlin:20260310T123000
DTEND;TZID=Europe/Berlin:20260310T133000
UID:D4667-WEB-20260310T123000@VHSI. NORDEN 
SUMMARY:Japanisch, Niveau A1  Für Anfänger:innen mit geringen Vorkenntnissen (D4667-WEB) 
LOCATION:Online, , 
END:VEVENT
BEGIN:VEVENT
DTSTAMP:20260423T173924
DTSTART;TZID=Europe/Berlin:20260317T123000
DTEND;TZID=Europe/Berlin:20260317T133000
UID:D4667-WEB-20260317T123000@VHSI. NORDEN 
SUMMARY:Japanisch, Niveau A1  Für Anfänger:innen mit geringen Vorkenntnissen (D4667-WEB) 
LOCATION:Online, , 
END:VEVENT
BEGIN:VEVENT
DTSTAMP:20260423T173924
DTSTART;TZID=Europe/Berlin:20260324T123000
DTEND;TZID=Europe/Berlin:20260324T133000
UID:D4667-WEB-20260324T123000@VHSI. NORDEN 
SUMMARY:Japanisch, Niveau A1  Für Anfänger:innen mit geringen Vorkenntnissen (D4667-WEB) 
LOCATION:Online, , 
END:VEVENT
BEGIN:VEVENT
DTSTAMP:20260423T173924
DTSTART;TZID=Europe/Berlin:20260414T123000
DTEND;TZID=Europe/Berlin:20260414T133000
UID:D4667-WEB-20260414T123000@VHSI. NORDEN 
SUMMARY:Japanisch, Niveau A1  Für Anfänger:innen mit geringen Vorkenntnissen (D4667-WEB) 
LOCATION:Online, , 
END:VEVENT
BEGIN:VEVENT
DTSTAMP:20260423T173924
DTSTART;TZID=Europe/Berlin:20260421T123000
DTEND;TZID=Europe/Berlin:20260421T133000
UID:D4667-WEB-20260421T123000@VHSI. NORDEN 
SUMMARY:Japanisch, Niveau A1  Für Anfänger:innen mit geringen Vorkenntnissen (D4667-WEB) 
LOCATION:Online, , 
END:VEVENT
BEGIN:VEVENT
DTSTAMP:20260423T173924
DTSTART;TZID=Europe/Berlin:20260428T123000
DTEND;TZID=Europe/Berlin:20260428T133000
UID:D4667-WEB-20260428T123000@VHSI. NORDEN 
SUMMARY:Japanisch, Niveau A1  Für Anfänger:innen mit geringen Vorkenntnissen (D4667-WEB) 
LOCATION:Online, , 
END:VEVENT
BEGIN:VEVENT
DTSTAMP:20260423T173924
DTSTART;TZID=Europe/Berlin:20260505T123000
DTEND;TZID=Europe/Berlin:20260505T133000
UID:D4667-WEB-20260505T123000@VHSI. NORDEN 
SUMMARY:Japanisch, Niveau A1  Für Anfänger:innen mit geringen Vorkenntnissen (D4667-WEB) 
LOCATION:Online, , 
END:VEVENT
BEGIN:VEVENT
DTSTAMP:20260423T173924
DTSTART;TZID=Europe/Berlin:20260512T123000
DTEND;TZID=Europe/Berlin:20260512T133000
UID:D4667-WEB-20260512T123000@VHSI. NORDEN 
SUMMARY:Japanisch, Niveau A1  Für Anfänger:innen mit geringen Vorkenntnissen (D4667-WEB) 
LOCATION:Online, , 
END:VEVENT
BEGIN:VEVENT
DTSTAMP:20260423T173924
DTSTART;TZID=Europe/Berlin:20260519T123000
DTEND;TZID=Europe/Berlin:20260519T133000
UID:D4667-WEB-20260519T123000@VHSI. NORDEN 
SUMMARY:Japanisch, Niveau A1  Für Anfänger:innen mit geringen Vorkenntnissen (D4667-WEB) 
LOCATION:Online, , 
END:VEVENT
BEGIN:VEVENT
DTSTAMP:20260423T173924
DTSTART;TZID=Europe/Berlin:20260609T123000
DTEND;TZID=Europe/Berlin:20260609T133000
UID:D4667-WEB-20260609T123000@VHSI. NORDEN 
SUMMARY:Japanisch, Niveau A1  Für Anfänger:innen mit geringen Vorkenntnissen (D4667-WEB) 
LOCATION:Online, , 
END:VEVENT
BEGIN:VEVENT
DTSTAMP:20260423T173924
DTSTART;TZID=Europe/Berlin:20260616T123000
DTEND;TZID=Europe/Berlin:20260616T133000
UID:D4667-WEB-20260616T123000@VHSI. NORDEN 
SUMMARY:Japanisch, Niveau A1  Für Anfänger:innen mit geringen Vorkenntnissen (D4667-WEB) 
LOCATION:Online, , 
END:VEVENT
BEGIN:VEVENT
DTSTAMP:20260423T173924
DTSTART;TZID=Europe/Berlin:20260623T123000
DTEND;TZID=Europe/Berlin:20260623T133000
UID:D4667-WEB-20260623T123000@VHSI. NORDEN 
SUMMARY:Japanisch, Niveau A1  Für Anfänger:innen mit geringen Vorkenntnissen (D4667-WEB) 
LOCATION:Online, , 
END:VEVENT
BEGIN:VEVENT
DTSTAMP:20260423T173924
DTSTART;TZID=Europe/Berlin:20260630T123000
DTEND;TZID=Europe/Berlin:20260630T133000
UID:D4667-WEB-20260630T123000@VHSI. NORDEN 
SUMMARY:Japanisch, Niveau A1  Für Anfänger:innen mit geringen Vorkenntnissen (D4667-WEB) 
LOCATION:Online, , 
END:VEVENT
END:VCALENDAR