BEGIN:VCALENDAR
VERSION:2.0
PRODID:http://www.kufer.de/kuferweb / DE
METHOD:PUBLISH
CALSCALE:GREGORIAN
X-WR-TIMEZONE:Europe/Berlin
BEGIN:VTIMEZONE
TZID:Europe/Berlin
X-LIC-LOCATION:Europe/Berlin
BEGIN:DAYLIGHT
TZOFFSETFROM:+0100
TZOFFSETTO:+0200
TZNAME:CEST
DTSTART;TZID=Europe/Berlin:19700329T020000
RRULE:FREQ=YEARLY;INTERVAL=1;BYDAY=-1SU;BYMONTH=3
END:DAYLIGHT
BEGIN:STANDARD
TZOFFSETFROM:+0200
TZOFFSETTO:+0100
TZNAME:CET
DTSTART;TZID=Europe/Berlin:19701025T030000
RRULE:FREQ=YEARLY;INTERVAL=1;BYDAY=-1SU;BYMONTH=10
END:STANDARD
END:VTIMEZONE
BEGIN:VEVENT
DTSTAMP:20260425T052715
DTSTART;TZID=Europe/Berlin:20260203T193000
DTEND;TZID=Europe/Berlin:20260203T210000
UID:D4698-WEB-20260203T193000@VHSI. NORDEN 
SUMMARY:Norwegisch Niveau A1 Für Anfänger:innen mit geringen Vorkenntnissen (D4698-WEB) 
LOCATION:Online, , 
END:VEVENT
BEGIN:VEVENT
DTSTAMP:20260425T052715
DTSTART;TZID=Europe/Berlin:20260210T193000
DTEND;TZID=Europe/Berlin:20260210T210000
UID:D4698-WEB-20260210T193000@VHSI. NORDEN 
SUMMARY:Norwegisch Niveau A1 Für Anfänger:innen mit geringen Vorkenntnissen (D4698-WEB) 
LOCATION:Online, , 
END:VEVENT
BEGIN:VEVENT
DTSTAMP:20260425T052715
DTSTART;TZID=Europe/Berlin:20260217T193000
DTEND;TZID=Europe/Berlin:20260217T210000
UID:D4698-WEB-20260217T193000@VHSI. NORDEN 
DESCRIPTION:Gruppe will in den Ferien Unterricht
SUMMARY:Norwegisch Niveau A1 Für Anfänger:innen mit geringen Vorkenntnissen (D4698-WEB) 
LOCATION:Online, , 
END:VEVENT
BEGIN:VEVENT
DTSTAMP:20260425T052715
DTSTART;TZID=Europe/Berlin:20260224T193000
DTEND;TZID=Europe/Berlin:20260224T210000
UID:D4698-WEB-20260224T193000@VHSI. NORDEN 
SUMMARY:Norwegisch Niveau A1 Für Anfänger:innen mit geringen Vorkenntnissen (D4698-WEB) 
LOCATION:Online, , 
END:VEVENT
BEGIN:VEVENT
DTSTAMP:20260425T052715
DTSTART;TZID=Europe/Berlin:20260303T193000
DTEND;TZID=Europe/Berlin:20260303T210000
UID:D4698-WEB-20260303T193000@VHSI. NORDEN 
SUMMARY:Norwegisch Niveau A1 Für Anfänger:innen mit geringen Vorkenntnissen (D4698-WEB) 
LOCATION:Online, , 
END:VEVENT
BEGIN:VEVENT
DTSTAMP:20260425T052715
DTSTART;TZID=Europe/Berlin:20260310T193000
DTEND;TZID=Europe/Berlin:20260310T210000
UID:D4698-WEB-20260310T193000@VHSI. NORDEN 
SUMMARY:Norwegisch Niveau A1 Für Anfänger:innen mit geringen Vorkenntnissen (D4698-WEB) 
LOCATION:Online, , 
END:VEVENT
BEGIN:VEVENT
DTSTAMP:20260425T052715
DTSTART;TZID=Europe/Berlin:20260317T193000
DTEND;TZID=Europe/Berlin:20260317T210000
UID:D4698-WEB-20260317T193000@VHSI. NORDEN 
SUMMARY:Norwegisch Niveau A1 Für Anfänger:innen mit geringen Vorkenntnissen (D4698-WEB) 
LOCATION:Online, , 
END:VEVENT
BEGIN:VEVENT
DTSTAMP:20260425T052715
DTSTART;TZID=Europe/Berlin:20260324T193000
DTEND;TZID=Europe/Berlin:20260324T210000
UID:D4698-WEB-20260324T193000@VHSI. NORDEN 
SUMMARY:Norwegisch Niveau A1 Für Anfänger:innen mit geringen Vorkenntnissen (D4698-WEB) 
LOCATION:Online, , 
END:VEVENT
BEGIN:VEVENT
DTSTAMP:20260425T052715
DTSTART;TZID=Europe/Berlin:20260414T193000
DTEND;TZID=Europe/Berlin:20260414T210000
UID:D4698-WEB-20260414T193000@VHSI. NORDEN 
SUMMARY:Norwegisch Niveau A1 Für Anfänger:innen mit geringen Vorkenntnissen (D4698-WEB) 
LOCATION:Online, , 
END:VEVENT
BEGIN:VEVENT
DTSTAMP:20260425T052715
DTSTART;TZID=Europe/Berlin:20260421T193000
DTEND;TZID=Europe/Berlin:20260421T210000
UID:D4698-WEB-20260421T193000@VHSI. NORDEN 
SUMMARY:Norwegisch Niveau A1 Für Anfänger:innen mit geringen Vorkenntnissen (D4698-WEB) 
LOCATION:Online, , 
END:VEVENT
BEGIN:VEVENT
DTSTAMP:20260425T052715
DTSTART;TZID=Europe/Berlin:20260428T193000
DTEND;TZID=Europe/Berlin:20260428T210000
UID:D4698-WEB-20260428T193000@VHSI. NORDEN 
SUMMARY:Norwegisch Niveau A1 Für Anfänger:innen mit geringen Vorkenntnissen (D4698-WEB) 
LOCATION:Online, , 
END:VEVENT
BEGIN:VEVENT
DTSTAMP:20260425T052715
DTSTART;TZID=Europe/Berlin:20260505T193000
DTEND;TZID=Europe/Berlin:20260505T210000
UID:D4698-WEB-20260505T193000@VHSI. NORDEN 
SUMMARY:Norwegisch Niveau A1 Für Anfänger:innen mit geringen Vorkenntnissen (D4698-WEB) 
LOCATION:Online, , 
END:VEVENT
END:VCALENDAR