BEGIN:VCALENDAR
VERSION:2.0
PRODID:http://www.kufer.de/kuferweb / DE
METHOD:PUBLISH
CALSCALE:GREGORIAN
X-WR-TIMEZONE:Europe/Berlin
BEGIN:VTIMEZONE
TZID:Europe/Berlin
X-LIC-LOCATION:Europe/Berlin
BEGIN:DAYLIGHT
TZOFFSETFROM:+0100
TZOFFSETTO:+0200
TZNAME:CEST
DTSTART;TZID=Europe/Berlin:19700329T020000
RRULE:FREQ=YEARLY;INTERVAL=1;BYDAY=-1SU;BYMONTH=3
END:DAYLIGHT
BEGIN:STANDARD
TZOFFSETFROM:+0200
TZOFFSETTO:+0100
TZNAME:CET
DTSTART;TZID=Europe/Berlin:19701025T030000
RRULE:FREQ=YEARLY;INTERVAL=1;BYDAY=-1SU;BYMONTH=10
END:STANDARD
END:VTIMEZONE
BEGIN:VEVENT
DTSTAMP:20260424T163845
DTSTART;TZID=Europe/Berlin:20260304T090000
DTEND;TZID=Europe/Berlin:20260304T121500
UID:D4866-5-20260304T090000@VHSI. NORDEN 
SUMMARY:Integrationskurs für gering Literalisierte, Aufbaukurs A, A1.3 vormittags - Dienstag, Mittwoch, Donnerstag, Freitag von 09 - 12:15 Uhr (D4866-5) 
LOCATION:Unterschleißheim, vhs-Zentrum, Raum 309, Landshuter Straße 20-22, 85716 Unterschleißheim
END:VEVENT
BEGIN:VEVENT
DTSTAMP:20260424T163845
DTSTART;TZID=Europe/Berlin:20260305T090000
DTEND;TZID=Europe/Berlin:20260305T121500
UID:D4866-5-20260305T090000@VHSI. NORDEN 
SUMMARY:Integrationskurs für gering Literalisierte, Aufbaukurs A, A1.3 vormittags - Dienstag, Mittwoch, Donnerstag, Freitag von 09 - 12:15 Uhr (D4866-5) 
LOCATION:Unterschleißheim, vhs-Zentrum, Raum 234, Landshuter Straße 20-22, 85716 Unterschleißheim
END:VEVENT
BEGIN:VEVENT
DTSTAMP:20260424T163845
DTSTART;TZID=Europe/Berlin:20260306T090000
DTEND;TZID=Europe/Berlin:20260306T121500
UID:D4866-5-20260306T090000@VHSI. NORDEN 
SUMMARY:Integrationskurs für gering Literalisierte, Aufbaukurs A, A1.3 vormittags - Dienstag, Mittwoch, Donnerstag, Freitag von 09 - 12:15 Uhr (D4866-5) 
LOCATION:Unterschleißheim, vhs-Zentrum, Raum 112, Landshuter Straße 20-22, 85716 Unterschleißheim
END:VEVENT
BEGIN:VEVENT
DTSTAMP:20260424T163845
DTSTART;TZID=Europe/Berlin:20260310T090000
DTEND;TZID=Europe/Berlin:20260310T121500
UID:D4866-5-20260310T090000@VHSI. NORDEN 
SUMMARY:Integrationskurs für gering Literalisierte, Aufbaukurs A, A1.3 vormittags - Dienstag, Mittwoch, Donnerstag, Freitag von 09 - 12:15 Uhr (D4866-5) 
LOCATION:Unterschleißheim, vhs-Zentrum, Raum 309, Landshuter Straße 20-22, 85716 Unterschleißheim
END:VEVENT
BEGIN:VEVENT
DTSTAMP:20260424T163845
DTSTART;TZID=Europe/Berlin:20260310T090000
DTEND;TZID=Europe/Berlin:20260310T121500
UID:D4866-5-20260310T090000@VHSI. NORDEN 
SUMMARY:Integrationskurs für gering Literalisierte, Aufbaukurs A, A1.3 vormittags - Dienstag, Mittwoch, Donnerstag, Freitag von 09 - 12:15 Uhr (D4866-5) 
LOCATION:Unterschleißheim, vhs-Zentrum, Raum 148, EDV-Raum, Landshuter Straße 20-22, 85716 Unterschleißheim
END:VEVENT
BEGIN:VEVENT
DTSTAMP:20260424T163845
DTSTART;TZID=Europe/Berlin:20260311T090000
DTEND;TZID=Europe/Berlin:20260311T121500
UID:D4866-5-20260311T090000@VHSI. NORDEN 
SUMMARY:Integrationskurs für gering Literalisierte, Aufbaukurs A, A1.3 vormittags - Dienstag, Mittwoch, Donnerstag, Freitag von 09 - 12:15 Uhr (D4866-5) 
LOCATION:Unterschleißheim, vhs-Zentrum, Raum 148, EDV-Raum, Landshuter Straße 20-22, 85716 Unterschleißheim
END:VEVENT
BEGIN:VEVENT
DTSTAMP:20260424T163845
DTSTART;TZID=Europe/Berlin:20260311T090000
DTEND;TZID=Europe/Berlin:20260311T121500
UID:D4866-5-20260311T090000@VHSI. NORDEN 
SUMMARY:Integrationskurs für gering Literalisierte, Aufbaukurs A, A1.3 vormittags - Dienstag, Mittwoch, Donnerstag, Freitag von 09 - 12:15 Uhr (D4866-5) 
LOCATION:Unterschleißheim, vhs-Zentrum, Raum 309, Landshuter Straße 20-22, 85716 Unterschleißheim
END:VEVENT
BEGIN:VEVENT
DTSTAMP:20260424T163845
DTSTART;TZID=Europe/Berlin:20260312T090000
DTEND;TZID=Europe/Berlin:20260312T121500
UID:D4866-5-20260312T090000@VHSI. NORDEN 
SUMMARY:Integrationskurs für gering Literalisierte, Aufbaukurs A, A1.3 vormittags - Dienstag, Mittwoch, Donnerstag, Freitag von 09 - 12:15 Uhr (D4866-5) 
LOCATION:Unterschleißheim, vhs-Zentrum, Raum 234, Landshuter Straße 20-22, 85716 Unterschleißheim
END:VEVENT
BEGIN:VEVENT
DTSTAMP:20260424T163845
DTSTART;TZID=Europe/Berlin:20260313T090000
DTEND;TZID=Europe/Berlin:20260313T121500
UID:D4866-5-20260313T090000@VHSI. NORDEN 
SUMMARY:Integrationskurs für gering Literalisierte, Aufbaukurs A, A1.3 vormittags - Dienstag, Mittwoch, Donnerstag, Freitag von 09 - 12:15 Uhr (D4866-5) 
LOCATION:Unterschleißheim, vhs-Zentrum, Raum 112, Landshuter Straße 20-22, 85716 Unterschleißheim
END:VEVENT
BEGIN:VEVENT
DTSTAMP:20260424T163845
DTSTART;TZID=Europe/Berlin:20260317T090000
DTEND;TZID=Europe/Berlin:20260317T121500
UID:D4866-5-20260317T090000@VHSI. NORDEN 
SUMMARY:Integrationskurs für gering Literalisierte, Aufbaukurs A, A1.3 vormittags - Dienstag, Mittwoch, Donnerstag, Freitag von 09 - 12:15 Uhr (D4866-5) 
LOCATION:Unterschleißheim, vhs-Zentrum, Raum 309, Landshuter Straße 20-22, 85716 Unterschleißheim
END:VEVENT
BEGIN:VEVENT
DTSTAMP:20260424T163845
DTSTART;TZID=Europe/Berlin:20260317T090000
DTEND;TZID=Europe/Berlin:20260317T121500
UID:D4866-5-20260317T090000@VHSI. NORDEN 
SUMMARY:Integrationskurs für gering Literalisierte, Aufbaukurs A, A1.3 vormittags - Dienstag, Mittwoch, Donnerstag, Freitag von 09 - 12:15 Uhr (D4866-5) 
LOCATION:Unterschleißheim, vhs-Zentrum, Raum 148, EDV-Raum, Landshuter Straße 20-22, 85716 Unterschleißheim
END:VEVENT
BEGIN:VEVENT
DTSTAMP:20260424T163845
DTSTART;TZID=Europe/Berlin:20260318T090000
DTEND;TZID=Europe/Berlin:20260318T121500
UID:D4866-5-20260318T090000@VHSI. NORDEN 
SUMMARY:Integrationskurs für gering Literalisierte, Aufbaukurs A, A1.3 vormittags - Dienstag, Mittwoch, Donnerstag, Freitag von 09 - 12:15 Uhr (D4866-5) 
LOCATION:Unterschleißheim, vhs-Zentrum, Raum 309, Landshuter Straße 20-22, 85716 Unterschleißheim
END:VEVENT
BEGIN:VEVENT
DTSTAMP:20260424T163845
DTSTART;TZID=Europe/Berlin:20260319T090000
DTEND;TZID=Europe/Berlin:20260319T121500
UID:D4866-5-20260319T090000@VHSI. NORDEN 
SUMMARY:Integrationskurs für gering Literalisierte, Aufbaukurs A, A1.3 vormittags - Dienstag, Mittwoch, Donnerstag, Freitag von 09 - 12:15 Uhr (D4866-5) 
LOCATION:Unterschleißheim, vhs-Zentrum, Raum 234, Landshuter Straße 20-22, 85716 Unterschleißheim
END:VEVENT
BEGIN:VEVENT
DTSTAMP:20260424T163845
DTSTART;TZID=Europe/Berlin:20260320T090000
DTEND;TZID=Europe/Berlin:20260320T121500
UID:D4866-5-20260320T090000@VHSI. NORDEN 
SUMMARY:Integrationskurs für gering Literalisierte, Aufbaukurs A, A1.3 vormittags - Dienstag, Mittwoch, Donnerstag, Freitag von 09 - 12:15 Uhr (D4866-5) 
LOCATION:Unterschleißheim, vhs-Zentrum, Raum 112, Landshuter Straße 20-22, 85716 Unterschleißheim
END:VEVENT
BEGIN:VEVENT
DTSTAMP:20260424T163845
DTSTART;TZID=Europe/Berlin:20260324T090000
DTEND;TZID=Europe/Berlin:20260324T121500
UID:D4866-5-20260324T090000@VHSI. NORDEN 
SUMMARY:Integrationskurs für gering Literalisierte, Aufbaukurs A, A1.3 vormittags - Dienstag, Mittwoch, Donnerstag, Freitag von 09 - 12:15 Uhr (D4866-5) 
LOCATION:Unterschleißheim, vhs-Zentrum, Raum 309, Landshuter Straße 20-22, 85716 Unterschleißheim
END:VEVENT
BEGIN:VEVENT
DTSTAMP:20260424T163845
DTSTART;TZID=Europe/Berlin:20260325T090000
DTEND;TZID=Europe/Berlin:20260325T121500
UID:D4866-5-20260325T090000@VHSI. NORDEN 
SUMMARY:Integrationskurs für gering Literalisierte, Aufbaukurs A, A1.3 vormittags - Dienstag, Mittwoch, Donnerstag, Freitag von 09 - 12:15 Uhr (D4866-5) 
LOCATION:Unterschleißheim, vhs-Zentrum, Raum 309, Landshuter Straße 20-22, 85716 Unterschleißheim
END:VEVENT
BEGIN:VEVENT
DTSTAMP:20260424T163845
DTSTART;TZID=Europe/Berlin:20260326T090000
DTEND;TZID=Europe/Berlin:20260326T121500
UID:D4866-5-20260326T090000@VHSI. NORDEN 
SUMMARY:Integrationskurs für gering Literalisierte, Aufbaukurs A, A1.3 vormittags - Dienstag, Mittwoch, Donnerstag, Freitag von 09 - 12:15 Uhr (D4866-5) 
LOCATION:Unterschleißheim, vhs-Zentrum, Raum 234, Landshuter Straße 20-22, 85716 Unterschleißheim
END:VEVENT
BEGIN:VEVENT
DTSTAMP:20260424T163845
DTSTART;TZID=Europe/Berlin:20260327T090000
DTEND;TZID=Europe/Berlin:20260327T121500
UID:D4866-5-20260327T090000@VHSI. NORDEN 
SUMMARY:Integrationskurs für gering Literalisierte, Aufbaukurs A, A1.3 vormittags - Dienstag, Mittwoch, Donnerstag, Freitag von 09 - 12:15 Uhr (D4866-5) 
LOCATION:Unterschleißheim, vhs-Zentrum, Raum 112, Landshuter Straße 20-22, 85716 Unterschleißheim
END:VEVENT
BEGIN:VEVENT
DTSTAMP:20260424T163845
DTSTART;TZID=Europe/Berlin:20260414T090000
DTEND;TZID=Europe/Berlin:20260414T121500
UID:D4866-5-20260414T090000@VHSI. NORDEN 
SUMMARY:Integrationskurs für gering Literalisierte, Aufbaukurs A, A1.3 vormittags - Dienstag, Mittwoch, Donnerstag, Freitag von 09 - 12:15 Uhr (D4866-5) 
LOCATION:Unterschleißheim, vhs-Zentrum, Raum 309, Landshuter Straße 20-22, 85716 Unterschleißheim
END:VEVENT
BEGIN:VEVENT
DTSTAMP:20260424T163845
DTSTART;TZID=Europe/Berlin:20260415T090000
DTEND;TZID=Europe/Berlin:20260415T121500
UID:D4866-5-20260415T090000@VHSI. NORDEN 
SUMMARY:Integrationskurs für gering Literalisierte, Aufbaukurs A, A1.3 vormittags - Dienstag, Mittwoch, Donnerstag, Freitag von 09 - 12:15 Uhr (D4866-5) 
LOCATION:Unterschleißheim, vhs-Zentrum, Raum 309, Landshuter Straße 20-22, 85716 Unterschleißheim
END:VEVENT
BEGIN:VEVENT
DTSTAMP:20260424T163845
DTSTART;TZID=Europe/Berlin:20260416T090000
DTEND;TZID=Europe/Berlin:20260416T121500
UID:D4866-5-20260416T090000@VHSI. NORDEN 
SUMMARY:Integrationskurs für gering Literalisierte, Aufbaukurs A, A1.3 vormittags - Dienstag, Mittwoch, Donnerstag, Freitag von 09 - 12:15 Uhr (D4866-5) 
LOCATION:Unterschleißheim, vhs-Zentrum, Raum 234, Landshuter Straße 20-22, 85716 Unterschleißheim
END:VEVENT
BEGIN:VEVENT
DTSTAMP:20260424T163845
DTSTART;TZID=Europe/Berlin:20260417T090000
DTEND;TZID=Europe/Berlin:20260417T121500
UID:D4866-5-20260417T090000@VHSI. NORDEN 
SUMMARY:Integrationskurs für gering Literalisierte, Aufbaukurs A, A1.3 vormittags - Dienstag, Mittwoch, Donnerstag, Freitag von 09 - 12:15 Uhr (D4866-5) 
LOCATION:Unterschleißheim, vhs-Zentrum, Raum 112, Landshuter Straße 20-22, 85716 Unterschleißheim
END:VEVENT
BEGIN:VEVENT
DTSTAMP:20260424T163845
DTSTART;TZID=Europe/Berlin:20260421T090000
DTEND;TZID=Europe/Berlin:20260421T121500
UID:D4866-5-20260421T090000@VHSI. NORDEN 
SUMMARY:Integrationskurs für gering Literalisierte, Aufbaukurs A, A1.3 vormittags - Dienstag, Mittwoch, Donnerstag, Freitag von 09 - 12:15 Uhr (D4866-5) 
LOCATION:Unterschleißheim, vhs-Zentrum, Raum 309, Landshuter Straße 20-22, 85716 Unterschleißheim
END:VEVENT
BEGIN:VEVENT
DTSTAMP:20260424T163845
DTSTART;TZID=Europe/Berlin:20260422T090000
DTEND;TZID=Europe/Berlin:20260422T121500
UID:D4866-5-20260422T090000@VHSI. NORDEN 
SUMMARY:Integrationskurs für gering Literalisierte, Aufbaukurs A, A1.3 vormittags - Dienstag, Mittwoch, Donnerstag, Freitag von 09 - 12:15 Uhr (D4866-5) 
LOCATION:Unterschleißheim, vhs-Zentrum, Raum 309, Landshuter Straße 20-22, 85716 Unterschleißheim
END:VEVENT
BEGIN:VEVENT
DTSTAMP:20260424T163845
DTSTART;TZID=Europe/Berlin:20260423T090000
DTEND;TZID=Europe/Berlin:20260423T121500
UID:D4866-5-20260423T090000@VHSI. NORDEN 
SUMMARY:Integrationskurs für gering Literalisierte, Aufbaukurs A, A1.3 vormittags - Dienstag, Mittwoch, Donnerstag, Freitag von 09 - 12:15 Uhr (D4866-5) 
LOCATION:Unterschleißheim, vhs-Zentrum, Raum 234, Landshuter Straße 20-22, 85716 Unterschleißheim
END:VEVENT
BEGIN:VEVENT
DTSTAMP:20260424T163845
DTSTART;TZID=Europe/Berlin:20260424T090000
DTEND;TZID=Europe/Berlin:20260424T121500
UID:D4866-5-20260424T090000@VHSI. NORDEN 
SUMMARY:Integrationskurs für gering Literalisierte, Aufbaukurs A, A1.3 vormittags - Dienstag, Mittwoch, Donnerstag, Freitag von 09 - 12:15 Uhr (D4866-5) 
LOCATION:Unterschleißheim, vhs-Zentrum, Raum 148, EDV-Raum, Landshuter Straße 20-22, 85716 Unterschleißheim
END:VEVENT
BEGIN:VEVENT
DTSTAMP:20260424T163845
DTSTART;TZID=Europe/Berlin:20260424T090000
DTEND;TZID=Europe/Berlin:20260424T121500
UID:D4866-5-20260424T090000@VHSI. NORDEN 
SUMMARY:Integrationskurs für gering Literalisierte, Aufbaukurs A, A1.3 vormittags - Dienstag, Mittwoch, Donnerstag, Freitag von 09 - 12:15 Uhr (D4866-5) 
LOCATION:Unterschleißheim, vhs-Zentrum, Raum 112, Landshuter Straße 20-22, 85716 Unterschleißheim
END:VEVENT
BEGIN:VEVENT
DTSTAMP:20260424T163845
DTSTART;TZID=Europe/Berlin:20260428T090000
DTEND;TZID=Europe/Berlin:20260428T121500
UID:D4866-5-20260428T090000@VHSI. NORDEN 
SUMMARY:Integrationskurs für gering Literalisierte, Aufbaukurs A, A1.3 vormittags - Dienstag, Mittwoch, Donnerstag, Freitag von 09 - 12:15 Uhr (D4866-5) 
LOCATION:Unterschleißheim, vhs-Zentrum, Raum 309, Landshuter Straße 20-22, 85716 Unterschleißheim
END:VEVENT
BEGIN:VEVENT
DTSTAMP:20260424T163845
DTSTART;TZID=Europe/Berlin:20260429T090000
DTEND;TZID=Europe/Berlin:20260429T121500
UID:D4866-5-20260429T090000@VHSI. NORDEN 
SUMMARY:Integrationskurs für gering Literalisierte, Aufbaukurs A, A1.3 vormittags - Dienstag, Mittwoch, Donnerstag, Freitag von 09 - 12:15 Uhr (D4866-5) 
LOCATION:Unterschleißheim, vhs-Zentrum, Raum 309, Landshuter Straße 20-22, 85716 Unterschleißheim
END:VEVENT
END:VCALENDAR