BEGIN:VCALENDAR
VERSION:2.0
PRODID:http://www.kufer.de/kuferweb / DE
METHOD:PUBLISH
CALSCALE:GREGORIAN
X-WR-TIMEZONE:Europe/Berlin
BEGIN:VTIMEZONE
TZID:Europe/Berlin
X-LIC-LOCATION:Europe/Berlin
BEGIN:DAYLIGHT
TZOFFSETFROM:+0100
TZOFFSETTO:+0200
TZNAME:CEST
DTSTART;TZID=Europe/Berlin:19700329T020000
RRULE:FREQ=YEARLY;INTERVAL=1;BYDAY=-1SU;BYMONTH=3
END:DAYLIGHT
BEGIN:STANDARD
TZOFFSETFROM:+0200
TZOFFSETTO:+0100
TZNAME:CET
DTSTART;TZID=Europe/Berlin:19701025T030000
RRULE:FREQ=YEARLY;INTERVAL=1;BYDAY=-1SU;BYMONTH=10
END:STANDARD
END:VTIMEZONE
BEGIN:VEVENT
DTSTAMP:20260424T163942
DTSTART;TZID=Europe/Berlin:20260430T090000
DTEND;TZID=Europe/Berlin:20260430T121500
UID:D4866-6-20260430T090000@VHSI. NORDEN 
SUMMARY:Integrationskurs für gering Literalisierte, Aufbaukurs A, A1.4 vormittags - Dienstag, Mittwoch, Donnerstag, Freitag  09:00 - 12:15 Uhr (D4866-6) 
LOCATION:Unterschleißheim, vhs-Zentrum, Raum 234, Landshuter Straße 20-22, 85716 Unterschleißheim
END:VEVENT
BEGIN:VEVENT
DTSTAMP:20260424T163942
DTSTART;TZID=Europe/Berlin:20260505T090000
DTEND;TZID=Europe/Berlin:20260505T121500
UID:D4866-6-20260505T090000@VHSI. NORDEN 
SUMMARY:Integrationskurs für gering Literalisierte, Aufbaukurs A, A1.4 vormittags - Dienstag, Mittwoch, Donnerstag, Freitag  09:00 - 12:15 Uhr (D4866-6) 
LOCATION:Unterschleißheim, vhs-Zentrum, Raum 148, EDV-Raum, Landshuter Straße 20-22, 85716 Unterschleißheim
END:VEVENT
BEGIN:VEVENT
DTSTAMP:20260424T163942
DTSTART;TZID=Europe/Berlin:20260505T090000
DTEND;TZID=Europe/Berlin:20260505T121500
UID:D4866-6-20260505T090000@VHSI. NORDEN 
SUMMARY:Integrationskurs für gering Literalisierte, Aufbaukurs A, A1.4 vormittags - Dienstag, Mittwoch, Donnerstag, Freitag  09:00 - 12:15 Uhr (D4866-6) 
LOCATION:Unterschleißheim, vhs-Zentrum, Raum 309, Landshuter Straße 20-22, 85716 Unterschleißheim
END:VEVENT
BEGIN:VEVENT
DTSTAMP:20260424T163942
DTSTART;TZID=Europe/Berlin:20260506T090000
DTEND;TZID=Europe/Berlin:20260506T121500
UID:D4866-6-20260506T090000@VHSI. NORDEN 
SUMMARY:Integrationskurs für gering Literalisierte, Aufbaukurs A, A1.4 vormittags - Dienstag, Mittwoch, Donnerstag, Freitag  09:00 - 12:15 Uhr (D4866-6) 
LOCATION:Unterschleißheim, vhs-Zentrum, Raum 309, Landshuter Straße 20-22, 85716 Unterschleißheim
END:VEVENT
BEGIN:VEVENT
DTSTAMP:20260424T163942
DTSTART;TZID=Europe/Berlin:20260507T090000
DTEND;TZID=Europe/Berlin:20260507T121500
UID:D4866-6-20260507T090000@VHSI. NORDEN 
SUMMARY:Integrationskurs für gering Literalisierte, Aufbaukurs A, A1.4 vormittags - Dienstag, Mittwoch, Donnerstag, Freitag  09:00 - 12:15 Uhr (D4866-6) 
LOCATION:Unterschleißheim, vhs-Zentrum, Raum 234, Landshuter Straße 20-22, 85716 Unterschleißheim
END:VEVENT
BEGIN:VEVENT
DTSTAMP:20260424T163942
DTSTART;TZID=Europe/Berlin:20260508T090000
DTEND;TZID=Europe/Berlin:20260508T121500
UID:D4866-6-20260508T090000@VHSI. NORDEN 
SUMMARY:Integrationskurs für gering Literalisierte, Aufbaukurs A, A1.4 vormittags - Dienstag, Mittwoch, Donnerstag, Freitag  09:00 - 12:15 Uhr (D4866-6) 
LOCATION:Unterschleißheim, vhs-Zentrum, Raum 112, Landshuter Straße 20-22, 85716 Unterschleißheim
END:VEVENT
BEGIN:VEVENT
DTSTAMP:20260424T163942
DTSTART;TZID=Europe/Berlin:20260512T090000
DTEND;TZID=Europe/Berlin:20260512T121500
UID:D4866-6-20260512T090000@VHSI. NORDEN 
SUMMARY:Integrationskurs für gering Literalisierte, Aufbaukurs A, A1.4 vormittags - Dienstag, Mittwoch, Donnerstag, Freitag  09:00 - 12:15 Uhr (D4866-6) 
LOCATION:Unterschleißheim, vhs-Zentrum, Raum 309, Landshuter Straße 20-22, 85716 Unterschleißheim
END:VEVENT
BEGIN:VEVENT
DTSTAMP:20260424T163942
DTSTART;TZID=Europe/Berlin:20260513T090000
DTEND;TZID=Europe/Berlin:20260513T121500
UID:D4866-6-20260513T090000@VHSI. NORDEN 
SUMMARY:Integrationskurs für gering Literalisierte, Aufbaukurs A, A1.4 vormittags - Dienstag, Mittwoch, Donnerstag, Freitag  09:00 - 12:15 Uhr (D4866-6) 
LOCATION:Unterschleißheim, vhs-Zentrum, Raum 309, Landshuter Straße 20-22, 85716 Unterschleißheim
END:VEVENT
BEGIN:VEVENT
DTSTAMP:20260424T163942
DTSTART;TZID=Europe/Berlin:20260515T090000
DTEND;TZID=Europe/Berlin:20260515T121500
UID:D4866-6-20260515T090000@VHSI. NORDEN 
SUMMARY:Integrationskurs für gering Literalisierte, Aufbaukurs A, A1.4 vormittags - Dienstag, Mittwoch, Donnerstag, Freitag  09:00 - 12:15 Uhr (D4866-6) 
LOCATION:Unterschleißheim, vhs-Zentrum, Raum 112, Landshuter Straße 20-22, 85716 Unterschleißheim
END:VEVENT
BEGIN:VEVENT
DTSTAMP:20260424T163942
DTSTART;TZID=Europe/Berlin:20260519T090000
DTEND;TZID=Europe/Berlin:20260519T121500
UID:D4866-6-20260519T090000@VHSI. NORDEN 
SUMMARY:Integrationskurs für gering Literalisierte, Aufbaukurs A, A1.4 vormittags - Dienstag, Mittwoch, Donnerstag, Freitag  09:00 - 12:15 Uhr (D4866-6) 
LOCATION:Unterschleißheim, vhs-Zentrum, Raum 309, Landshuter Straße 20-22, 85716 Unterschleißheim
END:VEVENT
BEGIN:VEVENT
DTSTAMP:20260424T163942
DTSTART;TZID=Europe/Berlin:20260519T090000
DTEND;TZID=Europe/Berlin:20260519T121500
UID:D4866-6-20260519T090000@VHSI. NORDEN 
SUMMARY:Integrationskurs für gering Literalisierte, Aufbaukurs A, A1.4 vormittags - Dienstag, Mittwoch, Donnerstag, Freitag  09:00 - 12:15 Uhr (D4866-6) 
LOCATION:Unterschleißheim, vhs-Zentrum, Raum 148, EDV-Raum, Landshuter Straße 20-22, 85716 Unterschleißheim
END:VEVENT
BEGIN:VEVENT
DTSTAMP:20260424T163942
DTSTART;TZID=Europe/Berlin:20260520T090000
DTEND;TZID=Europe/Berlin:20260520T121500
UID:D4866-6-20260520T090000@VHSI. NORDEN 
SUMMARY:Integrationskurs für gering Literalisierte, Aufbaukurs A, A1.4 vormittags - Dienstag, Mittwoch, Donnerstag, Freitag  09:00 - 12:15 Uhr (D4866-6) 
LOCATION:Unterschleißheim, vhs-Zentrum, Raum 309, Landshuter Straße 20-22, 85716 Unterschleißheim
END:VEVENT
BEGIN:VEVENT
DTSTAMP:20260424T163942
DTSTART;TZID=Europe/Berlin:20260521T090000
DTEND;TZID=Europe/Berlin:20260521T121500
UID:D4866-6-20260521T090000@VHSI. NORDEN 
SUMMARY:Integrationskurs für gering Literalisierte, Aufbaukurs A, A1.4 vormittags - Dienstag, Mittwoch, Donnerstag, Freitag  09:00 - 12:15 Uhr (D4866-6) 
LOCATION:Unterschleißheim, vhs-Zentrum, Raum 234, Landshuter Straße 20-22, 85716 Unterschleißheim
END:VEVENT
BEGIN:VEVENT
DTSTAMP:20260424T163942
DTSTART;TZID=Europe/Berlin:20260522T090000
DTEND;TZID=Europe/Berlin:20260522T121500
UID:D4866-6-20260522T090000@VHSI. NORDEN 
SUMMARY:Integrationskurs für gering Literalisierte, Aufbaukurs A, A1.4 vormittags - Dienstag, Mittwoch, Donnerstag, Freitag  09:00 - 12:15 Uhr (D4866-6) 
LOCATION:Unterschleißheim, vhs-Zentrum, Raum 112, Landshuter Straße 20-22, 85716 Unterschleißheim
END:VEVENT
BEGIN:VEVENT
DTSTAMP:20260424T163942
DTSTART;TZID=Europe/Berlin:20260609T090000
DTEND;TZID=Europe/Berlin:20260609T121500
UID:D4866-6-20260609T090000@VHSI. NORDEN 
SUMMARY:Integrationskurs für gering Literalisierte, Aufbaukurs A, A1.4 vormittags - Dienstag, Mittwoch, Donnerstag, Freitag  09:00 - 12:15 Uhr (D4866-6) 
LOCATION:Unterschleißheim, vhs-Zentrum, Raum 309, Landshuter Straße 20-22, 85716 Unterschleißheim
END:VEVENT
BEGIN:VEVENT
DTSTAMP:20260424T163942
DTSTART;TZID=Europe/Berlin:20260609T090000
DTEND;TZID=Europe/Berlin:20260609T121500
UID:D4866-6-20260609T090000@VHSI. NORDEN 
SUMMARY:Integrationskurs für gering Literalisierte, Aufbaukurs A, A1.4 vormittags - Dienstag, Mittwoch, Donnerstag, Freitag  09:00 - 12:15 Uhr (D4866-6) 
LOCATION:Unterschleißheim, vhs-Zentrum, Raum 148, EDV-Raum, Landshuter Straße 20-22, 85716 Unterschleißheim
END:VEVENT
BEGIN:VEVENT
DTSTAMP:20260424T163942
DTSTART;TZID=Europe/Berlin:20260610T090000
DTEND;TZID=Europe/Berlin:20260610T121500
UID:D4866-6-20260610T090000@VHSI. NORDEN 
SUMMARY:Integrationskurs für gering Literalisierte, Aufbaukurs A, A1.4 vormittags - Dienstag, Mittwoch, Donnerstag, Freitag  09:00 - 12:15 Uhr (D4866-6) 
LOCATION:Unterschleißheim, vhs-Zentrum, Raum 309, Landshuter Straße 20-22, 85716 Unterschleißheim
END:VEVENT
BEGIN:VEVENT
DTSTAMP:20260424T163942
DTSTART;TZID=Europe/Berlin:20260611T090000
DTEND;TZID=Europe/Berlin:20260611T121500
UID:D4866-6-20260611T090000@VHSI. NORDEN 
SUMMARY:Integrationskurs für gering Literalisierte, Aufbaukurs A, A1.4 vormittags - Dienstag, Mittwoch, Donnerstag, Freitag  09:00 - 12:15 Uhr (D4866-6) 
LOCATION:Unterschleißheim, vhs-Zentrum, Raum 234, Landshuter Straße 20-22, 85716 Unterschleißheim
END:VEVENT
BEGIN:VEVENT
DTSTAMP:20260424T163942
DTSTART;TZID=Europe/Berlin:20260612T090000
DTEND;TZID=Europe/Berlin:20260612T121500
UID:D4866-6-20260612T090000@VHSI. NORDEN 
SUMMARY:Integrationskurs für gering Literalisierte, Aufbaukurs A, A1.4 vormittags - Dienstag, Mittwoch, Donnerstag, Freitag  09:00 - 12:15 Uhr (D4866-6) 
LOCATION:Unterschleißheim, vhs-Zentrum, Raum 112, Landshuter Straße 20-22, 85716 Unterschleißheim
END:VEVENT
BEGIN:VEVENT
DTSTAMP:20260424T163942
DTSTART;TZID=Europe/Berlin:20260616T090000
DTEND;TZID=Europe/Berlin:20260616T121500
UID:D4866-6-20260616T090000@VHSI. NORDEN 
SUMMARY:Integrationskurs für gering Literalisierte, Aufbaukurs A, A1.4 vormittags - Dienstag, Mittwoch, Donnerstag, Freitag  09:00 - 12:15 Uhr (D4866-6) 
LOCATION:Unterschleißheim, vhs-Zentrum, Raum 148, EDV-Raum, Landshuter Straße 20-22, 85716 Unterschleißheim
END:VEVENT
BEGIN:VEVENT
DTSTAMP:20260424T163942
DTSTART;TZID=Europe/Berlin:20260616T090000
DTEND;TZID=Europe/Berlin:20260616T121500
UID:D4866-6-20260616T090000@VHSI. NORDEN 
SUMMARY:Integrationskurs für gering Literalisierte, Aufbaukurs A, A1.4 vormittags - Dienstag, Mittwoch, Donnerstag, Freitag  09:00 - 12:15 Uhr (D4866-6) 
LOCATION:Unterschleißheim, vhs-Zentrum, Raum 309, Landshuter Straße 20-22, 85716 Unterschleißheim
END:VEVENT
BEGIN:VEVENT
DTSTAMP:20260424T163942
DTSTART;TZID=Europe/Berlin:20260617T090000
DTEND;TZID=Europe/Berlin:20260617T121500
UID:D4866-6-20260617T090000@VHSI. NORDEN 
SUMMARY:Integrationskurs für gering Literalisierte, Aufbaukurs A, A1.4 vormittags - Dienstag, Mittwoch, Donnerstag, Freitag  09:00 - 12:15 Uhr (D4866-6) 
LOCATION:Unterschleißheim, vhs-Zentrum, Raum 309, Landshuter Straße 20-22, 85716 Unterschleißheim
END:VEVENT
BEGIN:VEVENT
DTSTAMP:20260424T163942
DTSTART;TZID=Europe/Berlin:20260618T090000
DTEND;TZID=Europe/Berlin:20260618T121500
UID:D4866-6-20260618T090000@VHSI. NORDEN 
SUMMARY:Integrationskurs für gering Literalisierte, Aufbaukurs A, A1.4 vormittags - Dienstag, Mittwoch, Donnerstag, Freitag  09:00 - 12:15 Uhr (D4866-6) 
LOCATION:Unterschleißheim, vhs-Zentrum, Raum 234, Landshuter Straße 20-22, 85716 Unterschleißheim
END:VEVENT
BEGIN:VEVENT
DTSTAMP:20260424T163942
DTSTART;TZID=Europe/Berlin:20260619T090000
DTEND;TZID=Europe/Berlin:20260619T121500
UID:D4866-6-20260619T090000@VHSI. NORDEN 
SUMMARY:Integrationskurs für gering Literalisierte, Aufbaukurs A, A1.4 vormittags - Dienstag, Mittwoch, Donnerstag, Freitag  09:00 - 12:15 Uhr (D4866-6) 
LOCATION:Unterschleißheim, vhs-Zentrum, Raum 112, Landshuter Straße 20-22, 85716 Unterschleißheim
END:VEVENT
BEGIN:VEVENT
DTSTAMP:20260424T163942
DTSTART;TZID=Europe/Berlin:20260623T090000
DTEND;TZID=Europe/Berlin:20260623T121500
UID:D4866-6-20260623T090000@VHSI. NORDEN 
SUMMARY:Integrationskurs für gering Literalisierte, Aufbaukurs A, A1.4 vormittags - Dienstag, Mittwoch, Donnerstag, Freitag  09:00 - 12:15 Uhr (D4866-6) 
LOCATION:Unterschleißheim, vhs-Zentrum, Raum 148, EDV-Raum, Landshuter Straße 20-22, 85716 Unterschleißheim
END:VEVENT
BEGIN:VEVENT
DTSTAMP:20260424T163942
DTSTART;TZID=Europe/Berlin:20260623T090000
DTEND;TZID=Europe/Berlin:20260623T121500
UID:D4866-6-20260623T090000@VHSI. NORDEN 
SUMMARY:Integrationskurs für gering Literalisierte, Aufbaukurs A, A1.4 vormittags - Dienstag, Mittwoch, Donnerstag, Freitag  09:00 - 12:15 Uhr (D4866-6) 
LOCATION:Unterschleißheim, vhs-Zentrum, Raum 309, Landshuter Straße 20-22, 85716 Unterschleißheim
END:VEVENT
BEGIN:VEVENT
DTSTAMP:20260424T163942
DTSTART;TZID=Europe/Berlin:20260624T090000
DTEND;TZID=Europe/Berlin:20260624T121500
UID:D4866-6-20260624T090000@VHSI. NORDEN 
SUMMARY:Integrationskurs für gering Literalisierte, Aufbaukurs A, A1.4 vormittags - Dienstag, Mittwoch, Donnerstag, Freitag  09:00 - 12:15 Uhr (D4866-6) 
LOCATION:Unterschleißheim, vhs-Zentrum, Raum 309, Landshuter Straße 20-22, 85716 Unterschleißheim
END:VEVENT
BEGIN:VEVENT
DTSTAMP:20260424T163942
DTSTART;TZID=Europe/Berlin:20260625T090000
DTEND;TZID=Europe/Berlin:20260625T121500
UID:D4866-6-20260625T090000@VHSI. NORDEN 
SUMMARY:Integrationskurs für gering Literalisierte, Aufbaukurs A, A1.4 vormittags - Dienstag, Mittwoch, Donnerstag, Freitag  09:00 - 12:15 Uhr (D4866-6) 
LOCATION:Unterschleißheim, vhs-Zentrum, Raum 234, Landshuter Straße 20-22, 85716 Unterschleißheim
END:VEVENT
BEGIN:VEVENT
DTSTAMP:20260424T163942
DTSTART;TZID=Europe/Berlin:20260626T090000
DTEND;TZID=Europe/Berlin:20260626T121500
UID:D4866-6-20260626T090000@VHSI. NORDEN 
SUMMARY:Integrationskurs für gering Literalisierte, Aufbaukurs A, A1.4 vormittags - Dienstag, Mittwoch, Donnerstag, Freitag  09:00 - 12:15 Uhr (D4866-6) 
LOCATION:Unterschleißheim, vhs-Zentrum, Raum 112, Landshuter Straße 20-22, 85716 Unterschleißheim
END:VEVENT
BEGIN:VEVENT
DTSTAMP:20260424T163942
DTSTART;TZID=Europe/Berlin:20260630T090000
DTEND;TZID=Europe/Berlin:20260630T121500
UID:D4866-6-20260630T090000@VHSI. NORDEN 
SUMMARY:Integrationskurs für gering Literalisierte, Aufbaukurs A, A1.4 vormittags - Dienstag, Mittwoch, Donnerstag, Freitag  09:00 - 12:15 Uhr (D4866-6) 
LOCATION:Unterschleißheim, vhs-Zentrum, Raum 309, Landshuter Straße 20-22, 85716 Unterschleißheim
END:VEVENT
BEGIN:VEVENT
DTSTAMP:20260424T163942
DTSTART;TZID=Europe/Berlin:20260630T090000
DTEND;TZID=Europe/Berlin:20260630T121500
UID:D4866-6-20260630T090000@VHSI. NORDEN 
SUMMARY:Integrationskurs für gering Literalisierte, Aufbaukurs A, A1.4 vormittags - Dienstag, Mittwoch, Donnerstag, Freitag  09:00 - 12:15 Uhr (D4866-6) 
LOCATION:Unterschleißheim, vhs-Zentrum, Raum 148, EDV-Raum, Landshuter Straße 20-22, 85716 Unterschleißheim
END:VEVENT
END:VCALENDAR