BEGIN:VCALENDAR
VERSION:2.0
PRODID:http://www.kufer.de/kuferweb / DE
METHOD:PUBLISH
CALSCALE:GREGORIAN
X-WR-TIMEZONE:Europe/Berlin
BEGIN:VTIMEZONE
TZID:Europe/Berlin
X-LIC-LOCATION:Europe/Berlin
BEGIN:DAYLIGHT
TZOFFSETFROM:+0100
TZOFFSETTO:+0200
TZNAME:CEST
DTSTART;TZID=Europe/Berlin:19700329T020000
RRULE:FREQ=YEARLY;INTERVAL=1;BYDAY=-1SU;BYMONTH=3
END:DAYLIGHT
BEGIN:STANDARD
TZOFFSETFROM:+0200
TZOFFSETTO:+0100
TZNAME:CET
DTSTART;TZID=Europe/Berlin:19701025T030000
RRULE:FREQ=YEARLY;INTERVAL=1;BYDAY=-1SU;BYMONTH=10
END:STANDARD
END:VTIMEZONE
BEGIN:VEVENT
DTSTAMP:20260423T173903
DTSTART;TZID=Europe/Berlin:20260224T174500
DTEND;TZID=Europe/Berlin:20260224T210000
UID:D4889-3-20260224T174500@VHSI. NORDEN 
SUMMARY:Integrationskurs Deutsch - Niveau A2.1, Modul 3 abends, Dienstag, Donnerstag und Freitag, 17:45-21:00 Uhr (D4889-3) 
LOCATION:Unterschleißheim, vhs-Zentrum, Raum 132, Seminarraum, Landshuter Straße 20-22, 85716 Unterschleißheim
END:VEVENT
BEGIN:VEVENT
DTSTAMP:20260423T173903
DTSTART;TZID=Europe/Berlin:20260226T174500
DTEND;TZID=Europe/Berlin:20260226T210000
UID:D4889-3-20260226T174500@VHSI. NORDEN 
SUMMARY:Integrationskurs Deutsch - Niveau A2.1, Modul 3 abends, Dienstag, Donnerstag und Freitag, 17:45-21:00 Uhr (D4889-3) 
LOCATION:Unterschleißheim, vhs-Zentrum, Raum 132, Seminarraum, Landshuter Straße 20-22, 85716 Unterschleißheim
END:VEVENT
BEGIN:VEVENT
DTSTAMP:20260423T173903
DTSTART;TZID=Europe/Berlin:20260227T174500
DTEND;TZID=Europe/Berlin:20260227T210000
UID:D4889-3-20260227T174500@VHSI. NORDEN 
SUMMARY:Integrationskurs Deutsch - Niveau A2.1, Modul 3 abends, Dienstag, Donnerstag und Freitag, 17:45-21:00 Uhr (D4889-3) 
LOCATION:Unterschleißheim, vhs-Zentrum, Raum 132, Seminarraum, Landshuter Straße 20-22, 85716 Unterschleißheim
END:VEVENT
BEGIN:VEVENT
DTSTAMP:20260423T173903
DTSTART;TZID=Europe/Berlin:20260303T174500
DTEND;TZID=Europe/Berlin:20260303T210000
UID:D4889-3-20260303T174500@VHSI. NORDEN 
SUMMARY:Integrationskurs Deutsch - Niveau A2.1, Modul 3 abends, Dienstag, Donnerstag und Freitag, 17:45-21:00 Uhr (D4889-3) 
LOCATION:Unterschleißheim, vhs-Zentrum, Raum 132, Seminarraum, Landshuter Straße 20-22, 85716 Unterschleißheim
END:VEVENT
BEGIN:VEVENT
DTSTAMP:20260423T173903
DTSTART;TZID=Europe/Berlin:20260305T174500
DTEND;TZID=Europe/Berlin:20260305T210000
UID:D4889-3-20260305T174500@VHSI. NORDEN 
SUMMARY:Integrationskurs Deutsch - Niveau A2.1, Modul 3 abends, Dienstag, Donnerstag und Freitag, 17:45-21:00 Uhr (D4889-3) 
LOCATION:Unterschleißheim, vhs-Zentrum, Raum 132, Seminarraum, Landshuter Straße 20-22, 85716 Unterschleißheim
END:VEVENT
BEGIN:VEVENT
DTSTAMP:20260423T173903
DTSTART;TZID=Europe/Berlin:20260306T174500
DTEND;TZID=Europe/Berlin:20260306T210000
UID:D4889-3-20260306T174500@VHSI. NORDEN 
SUMMARY:Integrationskurs Deutsch - Niveau A2.1, Modul 3 abends, Dienstag, Donnerstag und Freitag, 17:45-21:00 Uhr (D4889-3) 
LOCATION:Unterschleißheim, vhs-Zentrum, Raum 132, Seminarraum, Landshuter Straße 20-22, 85716 Unterschleißheim
END:VEVENT
BEGIN:VEVENT
DTSTAMP:20260423T173903
DTSTART;TZID=Europe/Berlin:20260310T174500
DTEND;TZID=Europe/Berlin:20260310T210000
UID:D4889-3-20260310T174500@VHSI. NORDEN 
SUMMARY:Integrationskurs Deutsch - Niveau A2.1, Modul 3 abends, Dienstag, Donnerstag und Freitag, 17:45-21:00 Uhr (D4889-3) 
LOCATION:Unterschleißheim, vhs-Zentrum, Raum 132, Seminarraum, Landshuter Straße 20-22, 85716 Unterschleißheim
END:VEVENT
BEGIN:VEVENT
DTSTAMP:20260423T173903
DTSTART;TZID=Europe/Berlin:20260312T174500
DTEND;TZID=Europe/Berlin:20260312T210000
UID:D4889-3-20260312T174500@VHSI. NORDEN 
SUMMARY:Integrationskurs Deutsch - Niveau A2.1, Modul 3 abends, Dienstag, Donnerstag und Freitag, 17:45-21:00 Uhr (D4889-3) 
LOCATION:Unterschleißheim, vhs-Zentrum, Raum 132, Seminarraum, Landshuter Straße 20-22, 85716 Unterschleißheim
END:VEVENT
BEGIN:VEVENT
DTSTAMP:20260423T173903
DTSTART;TZID=Europe/Berlin:20260313T174500
DTEND;TZID=Europe/Berlin:20260313T210000
UID:D4889-3-20260313T174500@VHSI. NORDEN 
SUMMARY:Integrationskurs Deutsch - Niveau A2.1, Modul 3 abends, Dienstag, Donnerstag und Freitag, 17:45-21:00 Uhr (D4889-3) 
LOCATION:Unterschleißheim, vhs-Zentrum, Raum 132, Seminarraum, Landshuter Straße 20-22, 85716 Unterschleißheim
END:VEVENT
BEGIN:VEVENT
DTSTAMP:20260423T173903
DTSTART;TZID=Europe/Berlin:20260317T174500
DTEND;TZID=Europe/Berlin:20260317T210000
UID:D4889-3-20260317T174500@VHSI. NORDEN 
SUMMARY:Integrationskurs Deutsch - Niveau A2.1, Modul 3 abends, Dienstag, Donnerstag und Freitag, 17:45-21:00 Uhr (D4889-3) 
LOCATION:Unterschleißheim, vhs-Zentrum, Raum 132, Seminarraum, Landshuter Straße 20-22, 85716 Unterschleißheim
END:VEVENT
BEGIN:VEVENT
DTSTAMP:20260423T173903
DTSTART;TZID=Europe/Berlin:20260319T174500
DTEND;TZID=Europe/Berlin:20260319T210000
UID:D4889-3-20260319T174500@VHSI. NORDEN 
SUMMARY:Integrationskurs Deutsch - Niveau A2.1, Modul 3 abends, Dienstag, Donnerstag und Freitag, 17:45-21:00 Uhr (D4889-3) 
LOCATION:Unterschleißheim, vhs-Zentrum, Raum 132, Seminarraum, Landshuter Straße 20-22, 85716 Unterschleißheim
END:VEVENT
BEGIN:VEVENT
DTSTAMP:20260423T173903
DTSTART;TZID=Europe/Berlin:20260320T174500
DTEND;TZID=Europe/Berlin:20260320T210000
UID:D4889-3-20260320T174500@VHSI. NORDEN 
SUMMARY:Integrationskurs Deutsch - Niveau A2.1, Modul 3 abends, Dienstag, Donnerstag und Freitag, 17:45-21:00 Uhr (D4889-3) 
LOCATION:Unterschleißheim, vhs-Zentrum, Raum 132, Seminarraum, Landshuter Straße 20-22, 85716 Unterschleißheim
END:VEVENT
BEGIN:VEVENT
DTSTAMP:20260423T173903
DTSTART;TZID=Europe/Berlin:20260324T174500
DTEND;TZID=Europe/Berlin:20260324T210000
UID:D4889-3-20260324T174500@VHSI. NORDEN 
SUMMARY:Integrationskurs Deutsch - Niveau A2.1, Modul 3 abends, Dienstag, Donnerstag und Freitag, 17:45-21:00 Uhr (D4889-3) 
LOCATION:Unterschleißheim, vhs-Zentrum, Raum 132, Seminarraum, Landshuter Straße 20-22, 85716 Unterschleißheim
END:VEVENT
BEGIN:VEVENT
DTSTAMP:20260423T173903
DTSTART;TZID=Europe/Berlin:20260326T174500
DTEND;TZID=Europe/Berlin:20260326T210000
UID:D4889-3-20260326T174500@VHSI. NORDEN 
SUMMARY:Integrationskurs Deutsch - Niveau A2.1, Modul 3 abends, Dienstag, Donnerstag und Freitag, 17:45-21:00 Uhr (D4889-3) 
LOCATION:Unterschleißheim, vhs-Zentrum, Raum 132, Seminarraum, Landshuter Straße 20-22, 85716 Unterschleißheim
END:VEVENT
BEGIN:VEVENT
DTSTAMP:20260423T173903
DTSTART;TZID=Europe/Berlin:20260327T174500
DTEND;TZID=Europe/Berlin:20260327T210000
UID:D4889-3-20260327T174500@VHSI. NORDEN 
SUMMARY:Integrationskurs Deutsch - Niveau A2.1, Modul 3 abends, Dienstag, Donnerstag und Freitag, 17:45-21:00 Uhr (D4889-3) 
LOCATION:Unterschleißheim, vhs-Zentrum, Raum 132, Seminarraum, Landshuter Straße 20-22, 85716 Unterschleißheim
END:VEVENT
BEGIN:VEVENT
DTSTAMP:20260423T173903
DTSTART;TZID=Europe/Berlin:20260414T174500
DTEND;TZID=Europe/Berlin:20260414T210000
UID:D4889-3-20260414T174500@VHSI. NORDEN 
SUMMARY:Integrationskurs Deutsch - Niveau A2.1, Modul 3 abends, Dienstag, Donnerstag und Freitag, 17:45-21:00 Uhr (D4889-3) 
LOCATION:Unterschleißheim, vhs-Zentrum, Raum 132, Seminarraum, Landshuter Straße 20-22, 85716 Unterschleißheim
END:VEVENT
BEGIN:VEVENT
DTSTAMP:20260423T173903
DTSTART;TZID=Europe/Berlin:20260416T174500
DTEND;TZID=Europe/Berlin:20260416T210000
UID:D4889-3-20260416T174500@VHSI. NORDEN 
SUMMARY:Integrationskurs Deutsch - Niveau A2.1, Modul 3 abends, Dienstag, Donnerstag und Freitag, 17:45-21:00 Uhr (D4889-3) 
LOCATION:Unterschleißheim, vhs-Zentrum, Raum 132, Seminarraum, Landshuter Straße 20-22, 85716 Unterschleißheim
END:VEVENT
BEGIN:VEVENT
DTSTAMP:20260423T173903
DTSTART;TZID=Europe/Berlin:20260417T174500
DTEND;TZID=Europe/Berlin:20260417T210000
UID:D4889-3-20260417T174500@VHSI. NORDEN 
SUMMARY:Integrationskurs Deutsch - Niveau A2.1, Modul 3 abends, Dienstag, Donnerstag und Freitag, 17:45-21:00 Uhr (D4889-3) 
LOCATION:Unterschleißheim, vhs-Zentrum, Raum 132, Seminarraum, Landshuter Straße 20-22, 85716 Unterschleißheim
END:VEVENT
BEGIN:VEVENT
DTSTAMP:20260423T173903
DTSTART;TZID=Europe/Berlin:20260421T174500
DTEND;TZID=Europe/Berlin:20260421T210000
UID:D4889-3-20260421T174500@VHSI. NORDEN 
SUMMARY:Integrationskurs Deutsch - Niveau A2.1, Modul 3 abends, Dienstag, Donnerstag und Freitag, 17:45-21:00 Uhr (D4889-3) 
LOCATION:Unterschleißheim, vhs-Zentrum, Raum 132, Seminarraum, Landshuter Straße 20-22, 85716 Unterschleißheim
END:VEVENT
BEGIN:VEVENT
DTSTAMP:20260423T173903
DTSTART;TZID=Europe/Berlin:20260423T174500
DTEND;TZID=Europe/Berlin:20260423T210000
UID:D4889-3-20260423T174500@VHSI. NORDEN 
SUMMARY:Integrationskurs Deutsch - Niveau A2.1, Modul 3 abends, Dienstag, Donnerstag und Freitag, 17:45-21:00 Uhr (D4889-3) 
LOCATION:Unterschleißheim, vhs-Zentrum, Raum 132, Seminarraum, Landshuter Straße 20-22, 85716 Unterschleißheim
END:VEVENT
BEGIN:VEVENT
DTSTAMP:20260423T173903
DTSTART;TZID=Europe/Berlin:20260424T174500
DTEND;TZID=Europe/Berlin:20260424T210000
UID:D4889-3-20260424T174500@VHSI. NORDEN 
SUMMARY:Integrationskurs Deutsch - Niveau A2.1, Modul 3 abends, Dienstag, Donnerstag und Freitag, 17:45-21:00 Uhr (D4889-3) 
LOCATION:Unterschleißheim, vhs-Zentrum, Raum 132, Seminarraum, Landshuter Straße 20-22, 85716 Unterschleißheim
END:VEVENT
BEGIN:VEVENT
DTSTAMP:20260423T173903
DTSTART;TZID=Europe/Berlin:20260428T174500
DTEND;TZID=Europe/Berlin:20260428T210000
UID:D4889-3-20260428T174500@VHSI. NORDEN 
SUMMARY:Integrationskurs Deutsch - Niveau A2.1, Modul 3 abends, Dienstag, Donnerstag und Freitag, 17:45-21:00 Uhr (D4889-3) 
LOCATION:Unterschleißheim, vhs-Zentrum, Raum 132, Seminarraum, Landshuter Straße 20-22, 85716 Unterschleißheim
END:VEVENT
BEGIN:VEVENT
DTSTAMP:20260423T173903
DTSTART;TZID=Europe/Berlin:20260430T174500
DTEND;TZID=Europe/Berlin:20260430T210000
UID:D4889-3-20260430T174500@VHSI. NORDEN 
SUMMARY:Integrationskurs Deutsch - Niveau A2.1, Modul 3 abends, Dienstag, Donnerstag und Freitag, 17:45-21:00 Uhr (D4889-3) 
LOCATION:Unterschleißheim, vhs-Zentrum, Raum 132, Seminarraum, Landshuter Straße 20-22, 85716 Unterschleißheim
END:VEVENT
BEGIN:VEVENT
DTSTAMP:20260423T173903
DTSTART;TZID=Europe/Berlin:20260505T174500
DTEND;TZID=Europe/Berlin:20260505T210000
UID:D4889-3-20260505T174500@VHSI. NORDEN 
SUMMARY:Integrationskurs Deutsch - Niveau A2.1, Modul 3 abends, Dienstag, Donnerstag und Freitag, 17:45-21:00 Uhr (D4889-3) 
LOCATION:Unterschleißheim, vhs-Zentrum, Raum 132, Seminarraum, Landshuter Straße 20-22, 85716 Unterschleißheim
END:VEVENT
BEGIN:VEVENT
DTSTAMP:20260423T173903
DTSTART;TZID=Europe/Berlin:20260507T174500
DTEND;TZID=Europe/Berlin:20260507T210000
UID:D4889-3-20260507T174500@VHSI. NORDEN 
SUMMARY:Integrationskurs Deutsch - Niveau A2.1, Modul 3 abends, Dienstag, Donnerstag und Freitag, 17:45-21:00 Uhr (D4889-3) 
LOCATION:Unterschleißheim, vhs-Zentrum, Raum 132, Seminarraum, Landshuter Straße 20-22, 85716 Unterschleißheim
END:VEVENT
END:VCALENDAR