BEGIN:VCALENDAR
VERSION:2.0
PRODID:http://www.kufer.de/kuferweb / DE
METHOD:PUBLISH
CALSCALE:GREGORIAN
X-WR-TIMEZONE:Europe/Berlin
BEGIN:VTIMEZONE
TZID:Europe/Berlin
X-LIC-LOCATION:Europe/Berlin
BEGIN:DAYLIGHT
TZOFFSETFROM:+0100
TZOFFSETTO:+0200
TZNAME:CEST
DTSTART;TZID=Europe/Berlin:19700329T020000
RRULE:FREQ=YEARLY;INTERVAL=1;BYDAY=-1SU;BYMONTH=3
END:DAYLIGHT
BEGIN:STANDARD
TZOFFSETFROM:+0200
TZOFFSETTO:+0100
TZNAME:CET
DTSTART;TZID=Europe/Berlin:19701025T030000
RRULE:FREQ=YEARLY;INTERVAL=1;BYDAY=-1SU;BYMONTH=10
END:STANDARD
END:VTIMEZONE
BEGIN:VEVENT
DTSTAMP:20260423T191417
DTSTART;TZID=Europe/Berlin:20260512T174500
DTEND;TZID=Europe/Berlin:20260512T210000
UID:D4889-4-20260512T174500@VHSI. NORDEN 
SUMMARY:Integrationskurs Deutsch - Niveau A2, Modul 4 abends, Dienstag, Donnerstag und Freitag, 17:45-21:00 Uhr (D4889-4) 
LOCATION:Unterschleißheim, vhs-Zentrum, Raum 132, Seminarraum, Landshuter Straße 20-22, 85716 Unterschleißheim
END:VEVENT
BEGIN:VEVENT
DTSTAMP:20260423T191417
DTSTART;TZID=Europe/Berlin:20260515T174500
DTEND;TZID=Europe/Berlin:20260515T210000
UID:D4889-4-20260515T174500@VHSI. NORDEN 
SUMMARY:Integrationskurs Deutsch - Niveau A2, Modul 4 abends, Dienstag, Donnerstag und Freitag, 17:45-21:00 Uhr (D4889-4) 
LOCATION:Unterschleißheim, vhs-Zentrum, Raum 132, Seminarraum, Landshuter Straße 20-22, 85716 Unterschleißheim
END:VEVENT
BEGIN:VEVENT
DTSTAMP:20260423T191417
DTSTART;TZID=Europe/Berlin:20260519T174500
DTEND;TZID=Europe/Berlin:20260519T210000
UID:D4889-4-20260519T174500@VHSI. NORDEN 
SUMMARY:Integrationskurs Deutsch - Niveau A2, Modul 4 abends, Dienstag, Donnerstag und Freitag, 17:45-21:00 Uhr (D4889-4) 
LOCATION:Unterschleißheim, vhs-Zentrum, Raum 132, Seminarraum, Landshuter Straße 20-22, 85716 Unterschleißheim
END:VEVENT
BEGIN:VEVENT
DTSTAMP:20260423T191417
DTSTART;TZID=Europe/Berlin:20260521T174500
DTEND;TZID=Europe/Berlin:20260521T210000
UID:D4889-4-20260521T174500@VHSI. NORDEN 
SUMMARY:Integrationskurs Deutsch - Niveau A2, Modul 4 abends, Dienstag, Donnerstag und Freitag, 17:45-21:00 Uhr (D4889-4) 
LOCATION:Unterschleißheim, vhs-Zentrum, Raum 132, Seminarraum, Landshuter Straße 20-22, 85716 Unterschleißheim
END:VEVENT
BEGIN:VEVENT
DTSTAMP:20260423T191417
DTSTART;TZID=Europe/Berlin:20260522T174500
DTEND;TZID=Europe/Berlin:20260522T210000
UID:D4889-4-20260522T174500@VHSI. NORDEN 
SUMMARY:Integrationskurs Deutsch - Niveau A2, Modul 4 abends, Dienstag, Donnerstag und Freitag, 17:45-21:00 Uhr (D4889-4) 
LOCATION:Unterschleißheim, vhs-Zentrum, Raum 132, Seminarraum, Landshuter Straße 20-22, 85716 Unterschleißheim
END:VEVENT
BEGIN:VEVENT
DTSTAMP:20260423T191417
DTSTART;TZID=Europe/Berlin:20260609T174500
DTEND;TZID=Europe/Berlin:20260609T210000
UID:D4889-4-20260609T174500@VHSI. NORDEN 
SUMMARY:Integrationskurs Deutsch - Niveau A2, Modul 4 abends, Dienstag, Donnerstag und Freitag, 17:45-21:00 Uhr (D4889-4) 
LOCATION:Unterschleißheim, vhs-Zentrum, Raum 132, Seminarraum, Landshuter Straße 20-22, 85716 Unterschleißheim
END:VEVENT
BEGIN:VEVENT
DTSTAMP:20260423T191417
DTSTART;TZID=Europe/Berlin:20260611T174500
DTEND;TZID=Europe/Berlin:20260611T210000
UID:D4889-4-20260611T174500@VHSI. NORDEN 
SUMMARY:Integrationskurs Deutsch - Niveau A2, Modul 4 abends, Dienstag, Donnerstag und Freitag, 17:45-21:00 Uhr (D4889-4) 
LOCATION:Unterschleißheim, vhs-Zentrum, Raum 132, Seminarraum, Landshuter Straße 20-22, 85716 Unterschleißheim
END:VEVENT
BEGIN:VEVENT
DTSTAMP:20260423T191417
DTSTART;TZID=Europe/Berlin:20260612T174500
DTEND;TZID=Europe/Berlin:20260612T210000
UID:D4889-4-20260612T174500@VHSI. NORDEN 
SUMMARY:Integrationskurs Deutsch - Niveau A2, Modul 4 abends, Dienstag, Donnerstag und Freitag, 17:45-21:00 Uhr (D4889-4) 
LOCATION:Unterschleißheim, vhs-Zentrum, Raum 132, Seminarraum, Landshuter Straße 20-22, 85716 Unterschleißheim
END:VEVENT
BEGIN:VEVENT
DTSTAMP:20260423T191417
DTSTART;TZID=Europe/Berlin:20260616T174500
DTEND;TZID=Europe/Berlin:20260616T210000
UID:D4889-4-20260616T174500@VHSI. NORDEN 
SUMMARY:Integrationskurs Deutsch - Niveau A2, Modul 4 abends, Dienstag, Donnerstag und Freitag, 17:45-21:00 Uhr (D4889-4) 
LOCATION:Unterschleißheim, vhs-Zentrum, Raum 132, Seminarraum, Landshuter Straße 20-22, 85716 Unterschleißheim
END:VEVENT
BEGIN:VEVENT
DTSTAMP:20260423T191417
DTSTART;TZID=Europe/Berlin:20260618T174500
DTEND;TZID=Europe/Berlin:20260618T210000
UID:D4889-4-20260618T174500@VHSI. NORDEN 
SUMMARY:Integrationskurs Deutsch - Niveau A2, Modul 4 abends, Dienstag, Donnerstag und Freitag, 17:45-21:00 Uhr (D4889-4) 
LOCATION:Unterschleißheim, vhs-Zentrum, Raum 132, Seminarraum, Landshuter Straße 20-22, 85716 Unterschleißheim
END:VEVENT
BEGIN:VEVENT
DTSTAMP:20260423T191417
DTSTART;TZID=Europe/Berlin:20260619T174500
DTEND;TZID=Europe/Berlin:20260619T210000
UID:D4889-4-20260619T174500@VHSI. NORDEN 
SUMMARY:Integrationskurs Deutsch - Niveau A2, Modul 4 abends, Dienstag, Donnerstag und Freitag, 17:45-21:00 Uhr (D4889-4) 
LOCATION:Unterschleißheim, vhs-Zentrum, Raum 132, Seminarraum, Landshuter Straße 20-22, 85716 Unterschleißheim
END:VEVENT
BEGIN:VEVENT
DTSTAMP:20260423T191417
DTSTART;TZID=Europe/Berlin:20260623T174500
DTEND;TZID=Europe/Berlin:20260623T210000
UID:D4889-4-20260623T174500@VHSI. NORDEN 
SUMMARY:Integrationskurs Deutsch - Niveau A2, Modul 4 abends, Dienstag, Donnerstag und Freitag, 17:45-21:00 Uhr (D4889-4) 
LOCATION:Unterschleißheim, vhs-Zentrum, Raum 132, Seminarraum, Landshuter Straße 20-22, 85716 Unterschleißheim
END:VEVENT
BEGIN:VEVENT
DTSTAMP:20260423T191417
DTSTART;TZID=Europe/Berlin:20260625T174500
DTEND;TZID=Europe/Berlin:20260625T210000
UID:D4889-4-20260625T174500@VHSI. NORDEN 
SUMMARY:Integrationskurs Deutsch - Niveau A2, Modul 4 abends, Dienstag, Donnerstag und Freitag, 17:45-21:00 Uhr (D4889-4) 
LOCATION:Unterschleißheim, vhs-Zentrum, Raum 132, Seminarraum, Landshuter Straße 20-22, 85716 Unterschleißheim
END:VEVENT
BEGIN:VEVENT
DTSTAMP:20260423T191417
DTSTART;TZID=Europe/Berlin:20260626T174500
DTEND;TZID=Europe/Berlin:20260626T210000
UID:D4889-4-20260626T174500@VHSI. NORDEN 
SUMMARY:Integrationskurs Deutsch - Niveau A2, Modul 4 abends, Dienstag, Donnerstag und Freitag, 17:45-21:00 Uhr (D4889-4) 
LOCATION:Unterschleißheim, vhs-Zentrum, Raum 132, Seminarraum, Landshuter Straße 20-22, 85716 Unterschleißheim
END:VEVENT
BEGIN:VEVENT
DTSTAMP:20260423T191417
DTSTART;TZID=Europe/Berlin:20260630T174500
DTEND;TZID=Europe/Berlin:20260630T210000
UID:D4889-4-20260630T174500@VHSI. NORDEN 
SUMMARY:Integrationskurs Deutsch - Niveau A2, Modul 4 abends, Dienstag, Donnerstag und Freitag, 17:45-21:00 Uhr (D4889-4) 
LOCATION:Unterschleißheim, vhs-Zentrum, Raum 132, Seminarraum, Landshuter Straße 20-22, 85716 Unterschleißheim
END:VEVENT
BEGIN:VEVENT
DTSTAMP:20260423T191417
DTSTART;TZID=Europe/Berlin:20260702T174500
DTEND;TZID=Europe/Berlin:20260702T210000
UID:D4889-4-20260702T174500@VHSI. NORDEN 
SUMMARY:Integrationskurs Deutsch - Niveau A2, Modul 4 abends, Dienstag, Donnerstag und Freitag, 17:45-21:00 Uhr (D4889-4) 
LOCATION:Unterschleißheim, vhs-Zentrum, Raum 132, Seminarraum, Landshuter Straße 20-22, 85716 Unterschleißheim
END:VEVENT
BEGIN:VEVENT
DTSTAMP:20260423T191417
DTSTART;TZID=Europe/Berlin:20260703T174500
DTEND;TZID=Europe/Berlin:20260703T210000
UID:D4889-4-20260703T174500@VHSI. NORDEN 
SUMMARY:Integrationskurs Deutsch - Niveau A2, Modul 4 abends, Dienstag, Donnerstag und Freitag, 17:45-21:00 Uhr (D4889-4) 
LOCATION:Unterschleißheim, vhs-Zentrum, Raum 132, Seminarraum, Landshuter Straße 20-22, 85716 Unterschleißheim
END:VEVENT
BEGIN:VEVENT
DTSTAMP:20260423T191417
DTSTART;TZID=Europe/Berlin:20260707T174500
DTEND;TZID=Europe/Berlin:20260707T210000
UID:D4889-4-20260707T174500@VHSI. NORDEN 
SUMMARY:Integrationskurs Deutsch - Niveau A2, Modul 4 abends, Dienstag, Donnerstag und Freitag, 17:45-21:00 Uhr (D4889-4) 
LOCATION:Unterschleißheim, vhs-Zentrum, Raum 132, Seminarraum, Landshuter Straße 20-22, 85716 Unterschleißheim
END:VEVENT
BEGIN:VEVENT
DTSTAMP:20260423T191417
DTSTART;TZID=Europe/Berlin:20260709T174500
DTEND;TZID=Europe/Berlin:20260709T210000
UID:D4889-4-20260709T174500@VHSI. NORDEN 
SUMMARY:Integrationskurs Deutsch - Niveau A2, Modul 4 abends, Dienstag, Donnerstag und Freitag, 17:45-21:00 Uhr (D4889-4) 
LOCATION:Unterschleißheim, vhs-Zentrum, Raum 132, Seminarraum, Landshuter Straße 20-22, 85716 Unterschleißheim
END:VEVENT
BEGIN:VEVENT
DTSTAMP:20260423T191417
DTSTART;TZID=Europe/Berlin:20260710T174500
DTEND;TZID=Europe/Berlin:20260710T210000
UID:D4889-4-20260710T174500@VHSI. NORDEN 
SUMMARY:Integrationskurs Deutsch - Niveau A2, Modul 4 abends, Dienstag, Donnerstag und Freitag, 17:45-21:00 Uhr (D4889-4) 
LOCATION:Unterschleißheim, vhs-Zentrum, Raum 132, Seminarraum, Landshuter Straße 20-22, 85716 Unterschleißheim
END:VEVENT
BEGIN:VEVENT
DTSTAMP:20260423T191417
DTSTART;TZID=Europe/Berlin:20260714T174500
DTEND;TZID=Europe/Berlin:20260714T210000
UID:D4889-4-20260714T174500@VHSI. NORDEN 
SUMMARY:Integrationskurs Deutsch - Niveau A2, Modul 4 abends, Dienstag, Donnerstag und Freitag, 17:45-21:00 Uhr (D4889-4) 
LOCATION:Unterschleißheim, vhs-Zentrum, Raum 132, Seminarraum, Landshuter Straße 20-22, 85716 Unterschleißheim
END:VEVENT
BEGIN:VEVENT
DTSTAMP:20260423T191417
DTSTART;TZID=Europe/Berlin:20260716T174500
DTEND;TZID=Europe/Berlin:20260716T210000
UID:D4889-4-20260716T174500@VHSI. NORDEN 
SUMMARY:Integrationskurs Deutsch - Niveau A2, Modul 4 abends, Dienstag, Donnerstag und Freitag, 17:45-21:00 Uhr (D4889-4) 
LOCATION:Unterschleißheim, vhs-Zentrum, Raum 132, Seminarraum, Landshuter Straße 20-22, 85716 Unterschleißheim
END:VEVENT
BEGIN:VEVENT
DTSTAMP:20260423T191417
DTSTART;TZID=Europe/Berlin:20260717T174500
DTEND;TZID=Europe/Berlin:20260717T210000
UID:D4889-4-20260717T174500@VHSI. NORDEN 
SUMMARY:Integrationskurs Deutsch - Niveau A2, Modul 4 abends, Dienstag, Donnerstag und Freitag, 17:45-21:00 Uhr (D4889-4) 
LOCATION:Unterschleißheim, vhs-Zentrum, Raum 132, Seminarraum, Landshuter Straße 20-22, 85716 Unterschleißheim
END:VEVENT
BEGIN:VEVENT
DTSTAMP:20260423T191417
DTSTART;TZID=Europe/Berlin:20260721T174500
DTEND;TZID=Europe/Berlin:20260721T210000
UID:D4889-4-20260721T174500@VHSI. NORDEN 
SUMMARY:Integrationskurs Deutsch - Niveau A2, Modul 4 abends, Dienstag, Donnerstag und Freitag, 17:45-21:00 Uhr (D4889-4) 
LOCATION:Unterschleißheim, vhs-Zentrum, Raum 132, Seminarraum, Landshuter Straße 20-22, 85716 Unterschleißheim
END:VEVENT
BEGIN:VEVENT
DTSTAMP:20260423T191417
DTSTART;TZID=Europe/Berlin:20260723T174500
DTEND;TZID=Europe/Berlin:20260723T210000
UID:D4889-4-20260723T174500@VHSI. NORDEN 
SUMMARY:Integrationskurs Deutsch - Niveau A2, Modul 4 abends, Dienstag, Donnerstag und Freitag, 17:45-21:00 Uhr (D4889-4) 
LOCATION:Unterschleißheim, vhs-Zentrum, Raum 132, Seminarraum, Landshuter Straße 20-22, 85716 Unterschleißheim
END:VEVENT
END:VCALENDAR