BEGIN:VCALENDAR
VERSION:2.0
PRODID:http://www.kufer.de/kuferweb / DE
METHOD:PUBLISH
CALSCALE:GREGORIAN
X-WR-TIMEZONE:Europe/Berlin
BEGIN:VTIMEZONE
TZID:Europe/Berlin
X-LIC-LOCATION:Europe/Berlin
BEGIN:DAYLIGHT
TZOFFSETFROM:+0100
TZOFFSETTO:+0200
TZNAME:CEST
DTSTART;TZID=Europe/Berlin:19700329T020000
RRULE:FREQ=YEARLY;INTERVAL=1;BYDAY=-1SU;BYMONTH=3
END:DAYLIGHT
BEGIN:STANDARD
TZOFFSETFROM:+0200
TZOFFSETTO:+0100
TZNAME:CET
DTSTART;TZID=Europe/Berlin:19701025T030000
RRULE:FREQ=YEARLY;INTERVAL=1;BYDAY=-1SU;BYMONTH=10
END:STANDARD
END:VTIMEZONE
BEGIN:VEVENT
DTSTAMP:20260424T132947
DTSTART;TZID=Europe/Berlin:20260223T174500
DTEND;TZID=Europe/Berlin:20260223T210000
UID:D4898-3-20260223T174500@VHSI. NORDEN 
SUMMARY:Integrationskurs für gering Literalisierte  Basiskurs A1.1,  abends - Montag, Mittwoch, Donnerstag 17:45 - 21:00 Uhr (D4898-3) 
LOCATION:Garching, vhs Bildungszentrum, Raum V 1.05, Telschowstr. 5-7, 85748 Garching
END:VEVENT
BEGIN:VEVENT
DTSTAMP:20260424T132947
DTSTART;TZID=Europe/Berlin:20260225T174500
DTEND;TZID=Europe/Berlin:20260225T210000
UID:D4898-3-20260225T174500@VHSI. NORDEN 
SUMMARY:Integrationskurs für gering Literalisierte  Basiskurs A1.1,  abends - Montag, Mittwoch, Donnerstag 17:45 - 21:00 Uhr (D4898-3) 
LOCATION:Garching, vhs Bildungszentrum, Raum V 1.07, Telschowstr. 5-7, 85748 Garching
END:VEVENT
BEGIN:VEVENT
DTSTAMP:20260424T132947
DTSTART;TZID=Europe/Berlin:20260226T174500
DTEND;TZID=Europe/Berlin:20260226T210000
UID:D4898-3-20260226T174500@VHSI. NORDEN 
SUMMARY:Integrationskurs für gering Literalisierte  Basiskurs A1.1,  abends - Montag, Mittwoch, Donnerstag 17:45 - 21:00 Uhr (D4898-3) 
LOCATION:Garching, vhs Bildungszentrum, Raum V 1.07, Telschowstr. 5-7, 85748 Garching
END:VEVENT
BEGIN:VEVENT
DTSTAMP:20260424T132947
DTSTART;TZID=Europe/Berlin:20260302T174500
DTEND;TZID=Europe/Berlin:20260302T210000
UID:D4898-3-20260302T174500@VHSI. NORDEN 
SUMMARY:Integrationskurs für gering Literalisierte  Basiskurs A1.1,  abends - Montag, Mittwoch, Donnerstag 17:45 - 21:00 Uhr (D4898-3) 
LOCATION:Garching, vhs Bildungszentrum, Raum V 1.08, Telschowstr. 5-7, 85748 Garching
END:VEVENT
BEGIN:VEVENT
DTSTAMP:20260424T132947
DTSTART;TZID=Europe/Berlin:20260304T174500
DTEND;TZID=Europe/Berlin:20260304T210000
UID:D4898-3-20260304T174500@VHSI. NORDEN 
SUMMARY:Integrationskurs für gering Literalisierte  Basiskurs A1.1,  abends - Montag, Mittwoch, Donnerstag 17:45 - 21:00 Uhr (D4898-3) 
LOCATION:Garching, vhs Bildungszentrum, Raum V 1.08, Telschowstr. 5-7, 85748 Garching
END:VEVENT
BEGIN:VEVENT
DTSTAMP:20260424T132947
DTSTART;TZID=Europe/Berlin:20260305T174500
DTEND;TZID=Europe/Berlin:20260305T210000
UID:D4898-3-20260305T174500@VHSI. NORDEN 
SUMMARY:Integrationskurs für gering Literalisierte  Basiskurs A1.1,  abends - Montag, Mittwoch, Donnerstag 17:45 - 21:00 Uhr (D4898-3) 
LOCATION:Garching, vhs Bildungszentrum, Raum V 1.08, Telschowstr. 5-7, 85748 Garching
END:VEVENT
BEGIN:VEVENT
DTSTAMP:20260424T132947
DTSTART;TZID=Europe/Berlin:20260309T174500
DTEND;TZID=Europe/Berlin:20260309T210000
UID:D4898-3-20260309T174500@VHSI. NORDEN 
SUMMARY:Integrationskurs für gering Literalisierte  Basiskurs A1.1,  abends - Montag, Mittwoch, Donnerstag 17:45 - 21:00 Uhr (D4898-3) 
LOCATION:Garching, vhs Bildungszentrum, Raum V 1.08, Telschowstr. 5-7, 85748 Garching
END:VEVENT
BEGIN:VEVENT
DTSTAMP:20260424T132947
DTSTART;TZID=Europe/Berlin:20260311T174500
DTEND;TZID=Europe/Berlin:20260311T210000
UID:D4898-3-20260311T174500@VHSI. NORDEN 
SUMMARY:Integrationskurs für gering Literalisierte  Basiskurs A1.1,  abends - Montag, Mittwoch, Donnerstag 17:45 - 21:00 Uhr (D4898-3) 
LOCATION:Garching, vhs Bildungszentrum, Raum V 1.08, Telschowstr. 5-7, 85748 Garching
END:VEVENT
BEGIN:VEVENT
DTSTAMP:20260424T132947
DTSTART;TZID=Europe/Berlin:20260312T174500
DTEND;TZID=Europe/Berlin:20260312T210000
UID:D4898-3-20260312T174500@VHSI. NORDEN 
SUMMARY:Integrationskurs für gering Literalisierte  Basiskurs A1.1,  abends - Montag, Mittwoch, Donnerstag 17:45 - 21:00 Uhr (D4898-3) 
LOCATION:Garching, vhs Bildungszentrum, Raum V 1.08, Telschowstr. 5-7, 85748 Garching
END:VEVENT
BEGIN:VEVENT
DTSTAMP:20260424T132947
DTSTART;TZID=Europe/Berlin:20260316T174500
DTEND;TZID=Europe/Berlin:20260316T210000
UID:D4898-3-20260316T174500@VHSI. NORDEN 
SUMMARY:Integrationskurs für gering Literalisierte  Basiskurs A1.1,  abends - Montag, Mittwoch, Donnerstag 17:45 - 21:00 Uhr (D4898-3) 
LOCATION:Garching, vhs Bildungszentrum, Raum V 1.08, Telschowstr. 5-7, 85748 Garching
END:VEVENT
BEGIN:VEVENT
DTSTAMP:20260424T132947
DTSTART;TZID=Europe/Berlin:20260318T174500
DTEND;TZID=Europe/Berlin:20260318T210000
UID:D4898-3-20260318T174500@VHSI. NORDEN 
SUMMARY:Integrationskurs für gering Literalisierte  Basiskurs A1.1,  abends - Montag, Mittwoch, Donnerstag 17:45 - 21:00 Uhr (D4898-3) 
LOCATION:Garching, vhs Bildungszentrum, Raum V 1.08, Telschowstr. 5-7, 85748 Garching
END:VEVENT
BEGIN:VEVENT
DTSTAMP:20260424T132947
DTSTART;TZID=Europe/Berlin:20260319T174500
DTEND;TZID=Europe/Berlin:20260319T210000
UID:D4898-3-20260319T174500@VHSI. NORDEN 
SUMMARY:Integrationskurs für gering Literalisierte  Basiskurs A1.1,  abends - Montag, Mittwoch, Donnerstag 17:45 - 21:00 Uhr (D4898-3) 
LOCATION:Garching, vhs Bildungszentrum, Raum V 1.08, Telschowstr. 5-7, 85748 Garching
END:VEVENT
BEGIN:VEVENT
DTSTAMP:20260424T132947
DTSTART;TZID=Europe/Berlin:20260323T174500
DTEND;TZID=Europe/Berlin:20260323T210000
UID:D4898-3-20260323T174500@VHSI. NORDEN 
SUMMARY:Integrationskurs für gering Literalisierte  Basiskurs A1.1,  abends - Montag, Mittwoch, Donnerstag 17:45 - 21:00 Uhr (D4898-3) 
LOCATION:Garching, vhs Bildungszentrum, Raum V 1.08, Telschowstr. 5-7, 85748 Garching
END:VEVENT
BEGIN:VEVENT
DTSTAMP:20260424T132947
DTSTART;TZID=Europe/Berlin:20260325T174500
DTEND;TZID=Europe/Berlin:20260325T210000
UID:D4898-3-20260325T174500@VHSI. NORDEN 
SUMMARY:Integrationskurs für gering Literalisierte  Basiskurs A1.1,  abends - Montag, Mittwoch, Donnerstag 17:45 - 21:00 Uhr (D4898-3) 
LOCATION:Garching, vhs Bildungszentrum, Raum V 1.08, Telschowstr. 5-7, 85748 Garching
END:VEVENT
BEGIN:VEVENT
DTSTAMP:20260424T132947
DTSTART;TZID=Europe/Berlin:20260325T174500
DTEND;TZID=Europe/Berlin:20260325T210000
UID:D4898-3-20260325T174500@VHSI. NORDEN 
SUMMARY:Integrationskurs für gering Literalisierte  Basiskurs A1.1,  abends - Montag, Mittwoch, Donnerstag 17:45 - 21:00 Uhr (D4898-3) 
LOCATION:Garching, vhs Bildungszentrum, Raum V 1.01, Telschowstr. 5-7, 85748 Garching
END:VEVENT
BEGIN:VEVENT
DTSTAMP:20260424T132947
DTSTART;TZID=Europe/Berlin:20260326T174500
DTEND;TZID=Europe/Berlin:20260326T210000
UID:D4898-3-20260326T174500@VHSI. NORDEN 
SUMMARY:Integrationskurs für gering Literalisierte  Basiskurs A1.1,  abends - Montag, Mittwoch, Donnerstag 17:45 - 21:00 Uhr (D4898-3) 
LOCATION:Garching, vhs Bildungszentrum, Raum V 1.08, Telschowstr. 5-7, 85748 Garching
END:VEVENT
BEGIN:VEVENT
DTSTAMP:20260424T132947
DTSTART;TZID=Europe/Berlin:20260413T174500
DTEND;TZID=Europe/Berlin:20260413T210000
UID:D4898-3-20260413T174500@VHSI. NORDEN 
SUMMARY:Integrationskurs für gering Literalisierte  Basiskurs A1.1,  abends - Montag, Mittwoch, Donnerstag 17:45 - 21:00 Uhr (D4898-3) 
LOCATION:Garching, vhs Bildungszentrum, Raum V 1.08, Telschowstr. 5-7, 85748 Garching
END:VEVENT
BEGIN:VEVENT
DTSTAMP:20260424T132947
DTSTART;TZID=Europe/Berlin:20260415T174500
DTEND;TZID=Europe/Berlin:20260415T210000
UID:D4898-3-20260415T174500@VHSI. NORDEN 
SUMMARY:Integrationskurs für gering Literalisierte  Basiskurs A1.1,  abends - Montag, Mittwoch, Donnerstag 17:45 - 21:00 Uhr (D4898-3) 
LOCATION:Garching, vhs Bildungszentrum, Raum V 1.08, Telschowstr. 5-7, 85748 Garching
END:VEVENT
BEGIN:VEVENT
DTSTAMP:20260424T132947
DTSTART;TZID=Europe/Berlin:20260416T174500
DTEND;TZID=Europe/Berlin:20260416T210000
UID:D4898-3-20260416T174500@VHSI. NORDEN 
SUMMARY:Integrationskurs für gering Literalisierte  Basiskurs A1.1,  abends - Montag, Mittwoch, Donnerstag 17:45 - 21:00 Uhr (D4898-3) 
LOCATION:Garching, vhs Bildungszentrum, Raum V 1.08, Telschowstr. 5-7, 85748 Garching
END:VEVENT
BEGIN:VEVENT
DTSTAMP:20260424T132947
DTSTART;TZID=Europe/Berlin:20260416T174500
DTEND;TZID=Europe/Berlin:20260416T210000
UID:D4898-3-20260416T174500@VHSI. NORDEN 
SUMMARY:Integrationskurs für gering Literalisierte  Basiskurs A1.1,  abends - Montag, Mittwoch, Donnerstag 17:45 - 21:00 Uhr (D4898-3) 
LOCATION:Garching, vhs Bildungszentrum, Raum V 1.07, Telschowstr. 5-7, 85748 Garching
END:VEVENT
BEGIN:VEVENT
DTSTAMP:20260424T132947
DTSTART;TZID=Europe/Berlin:20260420T174500
DTEND;TZID=Europe/Berlin:20260420T210000
UID:D4898-3-20260420T174500@VHSI. NORDEN 
SUMMARY:Integrationskurs für gering Literalisierte  Basiskurs A1.1,  abends - Montag, Mittwoch, Donnerstag 17:45 - 21:00 Uhr (D4898-3) 
LOCATION:Garching, vhs Bildungszentrum, Raum V 1.08, Telschowstr. 5-7, 85748 Garching
END:VEVENT
BEGIN:VEVENT
DTSTAMP:20260424T132947
DTSTART;TZID=Europe/Berlin:20260422T174500
DTEND;TZID=Europe/Berlin:20260422T210000
UID:D4898-3-20260422T174500@VHSI. NORDEN 
SUMMARY:Integrationskurs für gering Literalisierte  Basiskurs A1.1,  abends - Montag, Mittwoch, Donnerstag 17:45 - 21:00 Uhr (D4898-3) 
LOCATION:Garching, vhs Bildungszentrum, Raum V 1.08, Telschowstr. 5-7, 85748 Garching
END:VEVENT
BEGIN:VEVENT
DTSTAMP:20260424T132947
DTSTART;TZID=Europe/Berlin:20260423T174500
DTEND;TZID=Europe/Berlin:20260423T210000
UID:D4898-3-20260423T174500@VHSI. NORDEN 
SUMMARY:Integrationskurs für gering Literalisierte  Basiskurs A1.1,  abends - Montag, Mittwoch, Donnerstag 17:45 - 21:00 Uhr (D4898-3) 
LOCATION:Garching, vhs Bildungszentrum, Raum V 1.01, Telschowstr. 5-7, 85748 Garching
END:VEVENT
BEGIN:VEVENT
DTSTAMP:20260424T132947
DTSTART;TZID=Europe/Berlin:20260423T174500
DTEND;TZID=Europe/Berlin:20260423T210000
UID:D4898-3-20260423T174500@VHSI. NORDEN 
SUMMARY:Integrationskurs für gering Literalisierte  Basiskurs A1.1,  abends - Montag, Mittwoch, Donnerstag 17:45 - 21:00 Uhr (D4898-3) 
LOCATION:Garching, vhs Bildungszentrum, Raum V 1.08, Telschowstr. 5-7, 85748 Garching
END:VEVENT
BEGIN:VEVENT
DTSTAMP:20260424T132947
DTSTART;TZID=Europe/Berlin:20260427T174500
DTEND;TZID=Europe/Berlin:20260427T210000
UID:D4898-3-20260427T174500@VHSI. NORDEN 
SUMMARY:Integrationskurs für gering Literalisierte  Basiskurs A1.1,  abends - Montag, Mittwoch, Donnerstag 17:45 - 21:00 Uhr (D4898-3) 
LOCATION:Garching, vhs Bildungszentrum, Raum V 1.08, Telschowstr. 5-7, 85748 Garching
END:VEVENT
BEGIN:VEVENT
DTSTAMP:20260424T132947
DTSTART;TZID=Europe/Berlin:20260429T174500
DTEND;TZID=Europe/Berlin:20260429T210000
UID:D4898-3-20260429T174500@VHSI. NORDEN 
SUMMARY:Integrationskurs für gering Literalisierte  Basiskurs A1.1,  abends - Montag, Mittwoch, Donnerstag 17:45 - 21:00 Uhr (D4898-3) 
LOCATION:Garching, vhs Bildungszentrum, Raum V 1.08, Telschowstr. 5-7, 85748 Garching
END:VEVENT
BEGIN:VEVENT
DTSTAMP:20260424T132947
DTSTART;TZID=Europe/Berlin:20260430T174500
DTEND;TZID=Europe/Berlin:20260430T210000
UID:D4898-3-20260430T174500@VHSI. NORDEN 
SUMMARY:Integrationskurs für gering Literalisierte  Basiskurs A1.1,  abends - Montag, Mittwoch, Donnerstag 17:45 - 21:00 Uhr (D4898-3) 
LOCATION:Garching, vhs Bildungszentrum, Raum V 1.08, Telschowstr. 5-7, 85748 Garching
END:VEVENT
BEGIN:VEVENT
DTSTAMP:20260424T132947
DTSTART;TZID=Europe/Berlin:20260430T174500
DTEND;TZID=Europe/Berlin:20260430T210000
UID:D4898-3-20260430T174500@VHSI. NORDEN 
SUMMARY:Integrationskurs für gering Literalisierte  Basiskurs A1.1,  abends - Montag, Mittwoch, Donnerstag 17:45 - 21:00 Uhr (D4898-3) 
LOCATION:Garching, vhs Bildungszentrum, Raum V 1.07, Telschowstr. 5-7, 85748 Garching
END:VEVENT
BEGIN:VEVENT
DTSTAMP:20260424T132947
DTSTART;TZID=Europe/Berlin:20260504T174500
DTEND;TZID=Europe/Berlin:20260504T210000
UID:D4898-3-20260504T174500@VHSI. NORDEN 
SUMMARY:Integrationskurs für gering Literalisierte  Basiskurs A1.1,  abends - Montag, Mittwoch, Donnerstag 17:45 - 21:00 Uhr (D4898-3) 
LOCATION:Garching, vhs Bildungszentrum, Raum V 1.08, Telschowstr. 5-7, 85748 Garching
END:VEVENT
END:VCALENDAR