BEGIN:VCALENDAR
VERSION:2.0
PRODID:http://www.kufer.de/kuferweb / DE
METHOD:PUBLISH
CALSCALE:GREGORIAN
X-WR-TIMEZONE:Europe/Berlin
BEGIN:VTIMEZONE
TZID:Europe/Berlin
X-LIC-LOCATION:Europe/Berlin
BEGIN:DAYLIGHT
TZOFFSETFROM:+0100
TZOFFSETTO:+0200
TZNAME:CEST
DTSTART;TZID=Europe/Berlin:19700329T020000
RRULE:FREQ=YEARLY;INTERVAL=1;BYDAY=-1SU;BYMONTH=3
END:DAYLIGHT
BEGIN:STANDARD
TZOFFSETFROM:+0200
TZOFFSETTO:+0100
TZNAME:CET
DTSTART;TZID=Europe/Berlin:19701025T030000
RRULE:FREQ=YEARLY;INTERVAL=1;BYDAY=-1SU;BYMONTH=10
END:STANDARD
END:VTIMEZONE
BEGIN:VEVENT
DTSTAMP:20260424T163851
DTSTART;TZID=Europe/Berlin:20260506T174500
DTEND;TZID=Europe/Berlin:20260506T210000
UID:D4898-4-20260506T174500@VHSI. NORDEN 
SUMMARY:Integrationskurs für gering Literalisierte, Aufbaukurs A, A1.2 abends - Montag, Mittwoch, Donnerstag 17:45 - 21:00 Uhr (D4898-4) 
LOCATION:Garching, vhs Bildungszentrum, Raum V 1.08, Telschowstr. 5-7, 85748 Garching
END:VEVENT
BEGIN:VEVENT
DTSTAMP:20260424T163851
DTSTART;TZID=Europe/Berlin:20260507T174500
DTEND;TZID=Europe/Berlin:20260507T210000
UID:D4898-4-20260507T174500@VHSI. NORDEN 
SUMMARY:Integrationskurs für gering Literalisierte, Aufbaukurs A, A1.2 abends - Montag, Mittwoch, Donnerstag 17:45 - 21:00 Uhr (D4898-4) 
LOCATION:Garching, vhs Bildungszentrum, Raum V 1.08, Telschowstr. 5-7, 85748 Garching
END:VEVENT
BEGIN:VEVENT
DTSTAMP:20260424T163851
DTSTART;TZID=Europe/Berlin:20260507T174500
DTEND;TZID=Europe/Berlin:20260507T210000
UID:D4898-4-20260507T174500@VHSI. NORDEN 
SUMMARY:Integrationskurs für gering Literalisierte, Aufbaukurs A, A1.2 abends - Montag, Mittwoch, Donnerstag 17:45 - 21:00 Uhr (D4898-4) 
LOCATION:Garching, vhs Bildungszentrum, Raum V 1.07, Telschowstr. 5-7, 85748 Garching
END:VEVENT
BEGIN:VEVENT
DTSTAMP:20260424T163851
DTSTART;TZID=Europe/Berlin:20260511T174500
DTEND;TZID=Europe/Berlin:20260511T210000
UID:D4898-4-20260511T174500@VHSI. NORDEN 
SUMMARY:Integrationskurs für gering Literalisierte, Aufbaukurs A, A1.2 abends - Montag, Mittwoch, Donnerstag 17:45 - 21:00 Uhr (D4898-4) 
LOCATION:Garching, vhs Bildungszentrum, Raum V 1.08, Telschowstr. 5-7, 85748 Garching
END:VEVENT
BEGIN:VEVENT
DTSTAMP:20260424T163851
DTSTART;TZID=Europe/Berlin:20260513T174500
DTEND;TZID=Europe/Berlin:20260513T210000
UID:D4898-4-20260513T174500@VHSI. NORDEN 
SUMMARY:Integrationskurs für gering Literalisierte, Aufbaukurs A, A1.2 abends - Montag, Mittwoch, Donnerstag 17:45 - 21:00 Uhr (D4898-4) 
LOCATION:Garching, vhs Bildungszentrum, Raum V 1.08, Telschowstr. 5-7, 85748 Garching
END:VEVENT
BEGIN:VEVENT
DTSTAMP:20260424T163851
DTSTART;TZID=Europe/Berlin:20260518T174500
DTEND;TZID=Europe/Berlin:20260518T210000
UID:D4898-4-20260518T174500@VHSI. NORDEN 
SUMMARY:Integrationskurs für gering Literalisierte, Aufbaukurs A, A1.2 abends - Montag, Mittwoch, Donnerstag 17:45 - 21:00 Uhr (D4898-4) 
LOCATION:Garching, vhs Bildungszentrum, Raum V 1.08, Telschowstr. 5-7, 85748 Garching
END:VEVENT
BEGIN:VEVENT
DTSTAMP:20260424T163851
DTSTART;TZID=Europe/Berlin:20260520T174500
DTEND;TZID=Europe/Berlin:20260520T210000
UID:D4898-4-20260520T174500@VHSI. NORDEN 
SUMMARY:Integrationskurs für gering Literalisierte, Aufbaukurs A, A1.2 abends - Montag, Mittwoch, Donnerstag 17:45 - 21:00 Uhr (D4898-4) 
LOCATION:Garching, vhs Bildungszentrum, Raum V 1.08, Telschowstr. 5-7, 85748 Garching
END:VEVENT
BEGIN:VEVENT
DTSTAMP:20260424T163851
DTSTART;TZID=Europe/Berlin:20260521T174500
DTEND;TZID=Europe/Berlin:20260521T210000
UID:D4898-4-20260521T174500@VHSI. NORDEN 
SUMMARY:Integrationskurs für gering Literalisierte, Aufbaukurs A, A1.2 abends - Montag, Mittwoch, Donnerstag 17:45 - 21:00 Uhr (D4898-4) 
LOCATION:Garching, vhs Bildungszentrum, Raum V 1.07, Telschowstr. 5-7, 85748 Garching
END:VEVENT
BEGIN:VEVENT
DTSTAMP:20260424T163851
DTSTART;TZID=Europe/Berlin:20260521T174500
DTEND;TZID=Europe/Berlin:20260521T210000
UID:D4898-4-20260521T174500@VHSI. NORDEN 
SUMMARY:Integrationskurs für gering Literalisierte, Aufbaukurs A, A1.2 abends - Montag, Mittwoch, Donnerstag 17:45 - 21:00 Uhr (D4898-4) 
LOCATION:Garching, vhs Bildungszentrum, Raum V 1.08, Telschowstr. 5-7, 85748 Garching
END:VEVENT
BEGIN:VEVENT
DTSTAMP:20260424T163851
DTSTART;TZID=Europe/Berlin:20260608T174500
DTEND;TZID=Europe/Berlin:20260608T210000
UID:D4898-4-20260608T174500@VHSI. NORDEN 
SUMMARY:Integrationskurs für gering Literalisierte, Aufbaukurs A, A1.2 abends - Montag, Mittwoch, Donnerstag 17:45 - 21:00 Uhr (D4898-4) 
LOCATION:Garching, vhs Bildungszentrum, Raum V 1.08, Telschowstr. 5-7, 85748 Garching
END:VEVENT
BEGIN:VEVENT
DTSTAMP:20260424T163851
DTSTART;TZID=Europe/Berlin:20260610T174500
DTEND;TZID=Europe/Berlin:20260610T210000
UID:D4898-4-20260610T174500@VHSI. NORDEN 
SUMMARY:Integrationskurs für gering Literalisierte, Aufbaukurs A, A1.2 abends - Montag, Mittwoch, Donnerstag 17:45 - 21:00 Uhr (D4898-4) 
LOCATION:Garching, vhs Bildungszentrum, Raum V 1.08, Telschowstr. 5-7, 85748 Garching
END:VEVENT
BEGIN:VEVENT
DTSTAMP:20260424T163851
DTSTART;TZID=Europe/Berlin:20260611T174500
DTEND;TZID=Europe/Berlin:20260611T210000
UID:D4898-4-20260611T174500@VHSI. NORDEN 
SUMMARY:Integrationskurs für gering Literalisierte, Aufbaukurs A, A1.2 abends - Montag, Mittwoch, Donnerstag 17:45 - 21:00 Uhr (D4898-4) 
LOCATION:Garching, vhs Bildungszentrum, Raum V 1.07, Telschowstr. 5-7, 85748 Garching
END:VEVENT
BEGIN:VEVENT
DTSTAMP:20260424T163851
DTSTART;TZID=Europe/Berlin:20260611T174500
DTEND;TZID=Europe/Berlin:20260611T210000
UID:D4898-4-20260611T174500@VHSI. NORDEN 
SUMMARY:Integrationskurs für gering Literalisierte, Aufbaukurs A, A1.2 abends - Montag, Mittwoch, Donnerstag 17:45 - 21:00 Uhr (D4898-4) 
LOCATION:Garching, vhs Bildungszentrum, Raum V 1.08, Telschowstr. 5-7, 85748 Garching
END:VEVENT
BEGIN:VEVENT
DTSTAMP:20260424T163851
DTSTART;TZID=Europe/Berlin:20260615T174500
DTEND;TZID=Europe/Berlin:20260615T210000
UID:D4898-4-20260615T174500@VHSI. NORDEN 
SUMMARY:Integrationskurs für gering Literalisierte, Aufbaukurs A, A1.2 abends - Montag, Mittwoch, Donnerstag 17:45 - 21:00 Uhr (D4898-4) 
LOCATION:Garching, vhs Bildungszentrum, Raum V 1.08, Telschowstr. 5-7, 85748 Garching
END:VEVENT
BEGIN:VEVENT
DTSTAMP:20260424T163851
DTSTART;TZID=Europe/Berlin:20260617T174500
DTEND;TZID=Europe/Berlin:20260617T210000
UID:D4898-4-20260617T174500@VHSI. NORDEN 
SUMMARY:Integrationskurs für gering Literalisierte, Aufbaukurs A, A1.2 abends - Montag, Mittwoch, Donnerstag 17:45 - 21:00 Uhr (D4898-4) 
LOCATION:Garching, vhs Bildungszentrum, Raum V 1.08, Telschowstr. 5-7, 85748 Garching
END:VEVENT
BEGIN:VEVENT
DTSTAMP:20260424T163851
DTSTART;TZID=Europe/Berlin:20260618T174500
DTEND;TZID=Europe/Berlin:20260618T210000
UID:D4898-4-20260618T174500@VHSI. NORDEN 
SUMMARY:Integrationskurs für gering Literalisierte, Aufbaukurs A, A1.2 abends - Montag, Mittwoch, Donnerstag 17:45 - 21:00 Uhr (D4898-4) 
LOCATION:Garching, vhs Bildungszentrum, Raum V 1.07, Telschowstr. 5-7, 85748 Garching
END:VEVENT
BEGIN:VEVENT
DTSTAMP:20260424T163851
DTSTART;TZID=Europe/Berlin:20260618T174500
DTEND;TZID=Europe/Berlin:20260618T210000
UID:D4898-4-20260618T174500@VHSI. NORDEN 
SUMMARY:Integrationskurs für gering Literalisierte, Aufbaukurs A, A1.2 abends - Montag, Mittwoch, Donnerstag 17:45 - 21:00 Uhr (D4898-4) 
LOCATION:Garching, vhs Bildungszentrum, Raum V 1.08, Telschowstr. 5-7, 85748 Garching
END:VEVENT
BEGIN:VEVENT
DTSTAMP:20260424T163851
DTSTART;TZID=Europe/Berlin:20260622T174500
DTEND;TZID=Europe/Berlin:20260622T210000
UID:D4898-4-20260622T174500@VHSI. NORDEN 
SUMMARY:Integrationskurs für gering Literalisierte, Aufbaukurs A, A1.2 abends - Montag, Mittwoch, Donnerstag 17:45 - 21:00 Uhr (D4898-4) 
LOCATION:Garching, vhs Bildungszentrum, Raum V 1.08, Telschowstr. 5-7, 85748 Garching
END:VEVENT
BEGIN:VEVENT
DTSTAMP:20260424T163851
DTSTART;TZID=Europe/Berlin:20260624T174500
DTEND;TZID=Europe/Berlin:20260624T210000
UID:D4898-4-20260624T174500@VHSI. NORDEN 
SUMMARY:Integrationskurs für gering Literalisierte, Aufbaukurs A, A1.2 abends - Montag, Mittwoch, Donnerstag 17:45 - 21:00 Uhr (D4898-4) 
LOCATION:Garching, vhs Bildungszentrum, Raum V 1.08, Telschowstr. 5-7, 85748 Garching
END:VEVENT
BEGIN:VEVENT
DTSTAMP:20260424T163851
DTSTART;TZID=Europe/Berlin:20260625T174500
DTEND;TZID=Europe/Berlin:20260625T210000
UID:D4898-4-20260625T174500@VHSI. NORDEN 
SUMMARY:Integrationskurs für gering Literalisierte, Aufbaukurs A, A1.2 abends - Montag, Mittwoch, Donnerstag 17:45 - 21:00 Uhr (D4898-4) 
LOCATION:Garching, vhs Bildungszentrum, Raum V 1.07, Telschowstr. 5-7, 85748 Garching
END:VEVENT
BEGIN:VEVENT
DTSTAMP:20260424T163851
DTSTART;TZID=Europe/Berlin:20260625T174500
DTEND;TZID=Europe/Berlin:20260625T210000
UID:D4898-4-20260625T174500@VHSI. NORDEN 
SUMMARY:Integrationskurs für gering Literalisierte, Aufbaukurs A, A1.2 abends - Montag, Mittwoch, Donnerstag 17:45 - 21:00 Uhr (D4898-4) 
LOCATION:Garching, vhs Bildungszentrum, Raum V 1.08, Telschowstr. 5-7, 85748 Garching
END:VEVENT
BEGIN:VEVENT
DTSTAMP:20260424T163851
DTSTART;TZID=Europe/Berlin:20260629T174500
DTEND;TZID=Europe/Berlin:20260629T210000
UID:D4898-4-20260629T174500@VHSI. NORDEN 
SUMMARY:Integrationskurs für gering Literalisierte, Aufbaukurs A, A1.2 abends - Montag, Mittwoch, Donnerstag 17:45 - 21:00 Uhr (D4898-4) 
LOCATION:Garching, vhs Bildungszentrum, Raum V 1.08, Telschowstr. 5-7, 85748 Garching
END:VEVENT
BEGIN:VEVENT
DTSTAMP:20260424T163851
DTSTART;TZID=Europe/Berlin:20260701T174500
DTEND;TZID=Europe/Berlin:20260701T210000
UID:D4898-4-20260701T174500@VHSI. NORDEN 
SUMMARY:Integrationskurs für gering Literalisierte, Aufbaukurs A, A1.2 abends - Montag, Mittwoch, Donnerstag 17:45 - 21:00 Uhr (D4898-4) 
LOCATION:Garching, vhs Bildungszentrum, Raum V 1.08, Telschowstr. 5-7, 85748 Garching
END:VEVENT
BEGIN:VEVENT
DTSTAMP:20260424T163851
DTSTART;TZID=Europe/Berlin:20260702T174500
DTEND;TZID=Europe/Berlin:20260702T210000
UID:D4898-4-20260702T174500@VHSI. NORDEN 
SUMMARY:Integrationskurs für gering Literalisierte, Aufbaukurs A, A1.2 abends - Montag, Mittwoch, Donnerstag 17:45 - 21:00 Uhr (D4898-4) 
LOCATION:Garching, vhs Bildungszentrum, Raum V 1.07, Telschowstr. 5-7, 85748 Garching
END:VEVENT
BEGIN:VEVENT
DTSTAMP:20260424T163851
DTSTART;TZID=Europe/Berlin:20260702T174500
DTEND;TZID=Europe/Berlin:20260702T210000
UID:D4898-4-20260702T174500@VHSI. NORDEN 
SUMMARY:Integrationskurs für gering Literalisierte, Aufbaukurs A, A1.2 abends - Montag, Mittwoch, Donnerstag 17:45 - 21:00 Uhr (D4898-4) 
LOCATION:Garching, vhs Bildungszentrum, Raum V 1.08, Telschowstr. 5-7, 85748 Garching
END:VEVENT
BEGIN:VEVENT
DTSTAMP:20260424T163851
DTSTART;TZID=Europe/Berlin:20260706T174500
DTEND;TZID=Europe/Berlin:20260706T210000
UID:D4898-4-20260706T174500@VHSI. NORDEN 
SUMMARY:Integrationskurs für gering Literalisierte, Aufbaukurs A, A1.2 abends - Montag, Mittwoch, Donnerstag 17:45 - 21:00 Uhr (D4898-4) 
LOCATION:Garching, vhs Bildungszentrum, Raum V 1.08, Telschowstr. 5-7, 85748 Garching
END:VEVENT
BEGIN:VEVENT
DTSTAMP:20260424T163851
DTSTART;TZID=Europe/Berlin:20260708T174500
DTEND;TZID=Europe/Berlin:20260708T210000
UID:D4898-4-20260708T174500@VHSI. NORDEN 
SUMMARY:Integrationskurs für gering Literalisierte, Aufbaukurs A, A1.2 abends - Montag, Mittwoch, Donnerstag 17:45 - 21:00 Uhr (D4898-4) 
LOCATION:Garching, vhs Bildungszentrum, Raum V 1.08, Telschowstr. 5-7, 85748 Garching
END:VEVENT
BEGIN:VEVENT
DTSTAMP:20260424T163851
DTSTART;TZID=Europe/Berlin:20260709T174500
DTEND;TZID=Europe/Berlin:20260709T210000
UID:D4898-4-20260709T174500@VHSI. NORDEN 
SUMMARY:Integrationskurs für gering Literalisierte, Aufbaukurs A, A1.2 abends - Montag, Mittwoch, Donnerstag 17:45 - 21:00 Uhr (D4898-4) 
LOCATION:Garching, vhs Bildungszentrum, Raum V 1.08, Telschowstr. 5-7, 85748 Garching
END:VEVENT
BEGIN:VEVENT
DTSTAMP:20260424T163851
DTSTART;TZID=Europe/Berlin:20260709T174500
DTEND;TZID=Europe/Berlin:20260709T210000
UID:D4898-4-20260709T174500@VHSI. NORDEN 
SUMMARY:Integrationskurs für gering Literalisierte, Aufbaukurs A, A1.2 abends - Montag, Mittwoch, Donnerstag 17:45 - 21:00 Uhr (D4898-4) 
LOCATION:Garching, vhs Bildungszentrum, Raum V 1.07, Telschowstr. 5-7, 85748 Garching
END:VEVENT
BEGIN:VEVENT
DTSTAMP:20260424T163851
DTSTART;TZID=Europe/Berlin:20260713T174500
DTEND;TZID=Europe/Berlin:20260713T210000
UID:D4898-4-20260713T174500@VHSI. NORDEN 
SUMMARY:Integrationskurs für gering Literalisierte, Aufbaukurs A, A1.2 abends - Montag, Mittwoch, Donnerstag 17:45 - 21:00 Uhr (D4898-4) 
LOCATION:Garching, vhs Bildungszentrum, Raum V 1.08, Telschowstr. 5-7, 85748 Garching
END:VEVENT
BEGIN:VEVENT
DTSTAMP:20260424T163851
DTSTART;TZID=Europe/Berlin:20260715T174500
DTEND;TZID=Europe/Berlin:20260715T210000
UID:D4898-4-20260715T174500@VHSI. NORDEN 
SUMMARY:Integrationskurs für gering Literalisierte, Aufbaukurs A, A1.2 abends - Montag, Mittwoch, Donnerstag 17:45 - 21:00 Uhr (D4898-4) 
LOCATION:Garching, vhs Bildungszentrum, Raum V 1.08, Telschowstr. 5-7, 85748 Garching
END:VEVENT
BEGIN:VEVENT
DTSTAMP:20260424T163851
DTSTART;TZID=Europe/Berlin:20260716T174500
DTEND;TZID=Europe/Berlin:20260716T210000
UID:D4898-4-20260716T174500@VHSI. NORDEN 
SUMMARY:Integrationskurs für gering Literalisierte, Aufbaukurs A, A1.2 abends - Montag, Mittwoch, Donnerstag 17:45 - 21:00 Uhr (D4898-4) 
LOCATION:Garching, vhs Bildungszentrum, Raum V 1.08, Telschowstr. 5-7, 85748 Garching
END:VEVENT
END:VCALENDAR