BEGIN:VCALENDAR
VERSION:2.0
PRODID:http://www.kufer.de/kuferweb / DE
METHOD:PUBLISH
CALSCALE:GREGORIAN
X-WR-TIMEZONE:Europe/Berlin
BEGIN:VTIMEZONE
TZID:Europe/Berlin
X-LIC-LOCATION:Europe/Berlin
BEGIN:DAYLIGHT
TZOFFSETFROM:+0100
TZOFFSETTO:+0200
TZNAME:CEST
DTSTART;TZID=Europe/Berlin:19700329T020000
RRULE:FREQ=YEARLY;INTERVAL=1;BYDAY=-1SU;BYMONTH=3
END:DAYLIGHT
BEGIN:STANDARD
TZOFFSETFROM:+0200
TZOFFSETTO:+0100
TZNAME:CET
DTSTART;TZID=Europe/Berlin:19701025T030000
RRULE:FREQ=YEARLY;INTERVAL=1;BYDAY=-1SU;BYMONTH=10
END:STANDARD
END:VTIMEZONE
BEGIN:VEVENT
DTSTAMP:20260419T144855
DTSTART;TZID=Europe/Berlin:20260420T141500
DTEND;TZID=Europe/Berlin:20260420T171500
UID:D5110-20260420T141500@VHSI. NORDEN 
SUMMARY:PC-Einstieg mit Windows 11 Teil 1 - Den PC richtig bedienen können (D5110) 
LOCATION:Unterschleißheim, vhs-Zentrum, Raum 148, EDV-Raum, Landshuter Straße 20-22, 85716 Unterschleißheim
END:VEVENT
BEGIN:VEVENT
DTSTAMP:20260419T144855
DTSTART;TZID=Europe/Berlin:20260423T141500
DTEND;TZID=Europe/Berlin:20260423T171500
UID:D5110-20260423T141500@VHSI. NORDEN 
SUMMARY:PC-Einstieg mit Windows 11 Teil 1 - Den PC richtig bedienen können (D5110) 
LOCATION:Unterschleißheim, vhs-Zentrum, Raum 148, EDV-Raum, Landshuter Straße 20-22, 85716 Unterschleißheim
END:VEVENT
BEGIN:VEVENT
DTSTAMP:20260419T144855
DTSTART;TZID=Europe/Berlin:20260427T141500
DTEND;TZID=Europe/Berlin:20260427T171500
UID:D5110-20260427T141500@VHSI. NORDEN 
SUMMARY:PC-Einstieg mit Windows 11 Teil 1 - Den PC richtig bedienen können (D5110) 
LOCATION:Unterschleißheim, vhs-Zentrum, Raum 148, EDV-Raum, Landshuter Straße 20-22, 85716 Unterschleißheim
END:VEVENT
BEGIN:VEVENT
DTSTAMP:20260419T144855
DTSTART;TZID=Europe/Berlin:20260430T141500
DTEND;TZID=Europe/Berlin:20260430T171500
UID:D5110-20260430T141500@VHSI. NORDEN 
SUMMARY:PC-Einstieg mit Windows 11 Teil 1 - Den PC richtig bedienen können (D5110) 
LOCATION:Unterschleißheim, vhs-Zentrum, Raum 148, EDV-Raum, Landshuter Straße 20-22, 85716 Unterschleißheim
END:VEVENT
END:VCALENDAR